{"text_format":"1","workbook":"xlsx","n_sheets":7,"sheets":["SCR","PivotESA","PivotGH","PivotGHRF","TDSSA_ALL","BasicMacroSCR","Sheet1"],"not_rendered":{"charts":0,"images":0,"macros":1,"external_links":0,"defined_names":3,"comments":0,"pivot_tables":0},"unopened":[],"bounds":{"document_bytes":16777216,"sheet_cells":100000,"rows_first":2000,"rows_last":500,"rows_between":2000,"halvings":0,"cell_chars":16384,"cell_head_chars":4096},"cells_cut":0,"cells_raw":0,"read":"whole","date_system":"1900"}

{"sheet":"SCR","index":0,"n_rows":0,"n_cols":0,"rows_kept":0,"cut":false,"hidden":false,"merged":[]}

{"sheet":"PivotESA","index":1,"n_rows":0,"n_cols":0,"rows_kept":0,"cut":false,"hidden":false,"merged":[]}

{"sheet":"PivotGH","index":2,"n_rows":0,"n_cols":0,"rows_kept":0,"cut":false,"hidden":false,"merged":[]}

{"sheet":"PivotGHRF","index":3,"n_rows":0,"n_cols":0,"rows_kept":0,"cut":false,"hidden":false,"merged":[]}

{"sheet":"TDSSA_ALL","index":4,"n_rows":965,"n_cols":18,"rows_kept":965,"cut":false,"hidden":false,"merged":[]}
[]
["Note:  In column H, M and R  "]
["Green:","Number of specific analyses above or equal to TDSSA requirement"]
["Yellow:","1 specific analysis less than TDSSA requirement "]
["Red:","Over 2 specific analyses less than TDSSA requirement "]
["SPORT","DISCIPLINE","Sport - Discipline as in SCR (ADAMS)","Total samples Urine\n(D)","ESAs MLA\n(E)","ESAs analyses required by TDSSA\n(F)\n","ESAs analyses conducted\n(G)\n","ESAs\nanalyses  difference with MLA\n(H)\n\n","Total samples urine\n(I)","GH MLA\n(J)","GH analyses required by TDSSA\n(K)","GH \nanalyses conducted\n(L)\n","GH analyses  difference with MLA\n(M)\n","Total samples Urine\n(N)","GHRFs MLA\n(O)","GHRFs analyses required by TDSSA\n(P)","GHRFs analyses conducted\n(Q)","GHRFs analyses  difference with MLA\n(R)"]
["Aikido","Aikido","Aikido - Aikido",{"$f":"IFERROR(VLOOKUP(C7,PivotGHRF!A:B,2,FALSE),\" \")","v":" "},0.05,{"$f":"IFERROR(ROUNDUP(E7*D7,0),0)","v":0},{"$f":"IFERROR(VLOOKUP(C7,PivotESA!A:C,3,FALSE),\" \")","v":" "},{"$f":"IFERROR(F7-G7,0)","v":0},{"$f":"IFERROR(VLOOKUP(C7,PivotGHRF!A:B,2,FALSE),\" \")","v":" "},0.05,{"$f":"IFERROR(ROUNDUP(J7*I7,0),0)","v":0},{"$f":"IFERROR(VLOOKUP(C7,PivotGH!A:C,3,FALSE),\" \")","v":" "},{"$f":"IFERROR(K7-L7,0)","v":0},{"$f":"IFERROR(VLOOKUP(C7,PivotGHRF!A:B,2,FALSE),\" \")","v":" "},0.05,{"$f":"IFERROR(ROUNDUP(O7*N7,0),0)","v":0},{"$f":"IFERROR(VLOOKUP(C7,PivotGHRF!A:C,3,FALSE),\" \")","v":" "},{"$f":"IFERROR(P7-Q7,0)","v":0}]
["Air Sports","Aerobatic","Air Sports - Aerobatic",{"$f":"IFERROR(VLOOKUP(C8,PivotGHRF!A:B,2,FALSE),\" \")","v":" "},0,{"$f":"IFERROR(ROUNDUP(E8*D8,0),0)","v":0},{"$f":"IFERROR(VLOOKUP(C8,PivotESA!A:C,3,FALSE),\" \")","v":" "},0,{"$f":"IFERROR(VLOOKUP(C8,PivotGHRF!A:B,2,FALSE),\" \")","v":" "},0,{"$f":"IFERROR(ROUNDUP(J8*I8,0),0)","v":0},{"$f":"IFERROR(VLOOKUP(C8,PivotGH!A:C,3,FALSE),\" \")","v":" "},0,{"$f":"IFERROR(VLOOKUP(C8,PivotGHRF!A:B,2,FALSE),\" \")","v":" "},0,{"$f":"IFERROR(ROUNDUP(O8*N8,0),0)","v":0},{"$f":"IFERROR(VLOOKUP(C8,PivotGHRF!A:C,3,FALSE),\" \")","v":" "},0]
["Air Sports","Ballooning","Air Sports - Ballooning",{"$f":"IFERROR(VLOOKUP(C9,PivotGHRF!A:B,2,FALSE),\" \")","v":" "},0,0,{"$f":"IFERROR(VLOOKUP(C9,PivotESA!A:C,3,FALSE),\" \")","v":" "},0,{"$f":"IFERROR(VLOOKUP(C9,PivotGHRF!A:B,2,FALSE),\" \")","v":" "},0,0,{"$f":"IFERROR(VLOOKUP(C9,PivotGH!A:C,3,FALSE),\" \")","v":" "},0,{"$f":"IFERROR(VLOOKUP(C9,PivotGHRF!A:B,2,FALSE),\" \")","v":" "},0,0,{"$f":"IFERROR(VLOOKUP(C9,PivotGHRF!A:C,3,FALSE),\" \")","v":" "},0]
["Air Sports","Parachuting","Air Sports - Parachuting",{"$f":"IFERROR(VLOOKUP(C10,PivotGHRF!A:B,2,FALSE),\" \")","v":" "},0,0,{"$f":"IFERROR(VLOOKUP(C10,PivotESA!A:C,3,FALSE),\" \")","v":" "},0,{"$f":"IFERROR(VLOOKUP(C10,PivotGHRF!A:B,2,FALSE),\" \")","v":" "},0,0,{"$f":"IFERROR(VLOOKUP(C10,PivotGH!A:C,3,FALSE),\" \")","v":" "},0,{"$f":"IFERROR(VLOOKUP(C10,PivotGHRF!A:B,2,FALSE),\" \")","v":" "},0,0,{"$f":"IFERROR(VLOOKUP(C10,PivotGHRF!A:C,3,FALSE),\" \")","v":" "},0]
["Air Sports","Aeromodeling","Air Sports - Aeromodeling",{"$f":"IFERROR(VLOOKUP(C11,PivotGHRF!A:B,2,FALSE),\" \")","v":" "},0,0,{"$f":"IFERROR(VLOOKUP(C11,PivotESA!A:C,3,FALSE),\" \")","v":" "},0,{"$f":"IFERROR(VLOOKUP(C11,PivotGHRF!A:B,2,FALSE),\" \")","v":" "},0,0,{"$f":"IFERROR(VLOOKUP(C11,PivotGH!A:C,3,FALSE),\" \")","v":" "},0,{"$f":"IFERROR(VLOOKUP(C11,PivotGHRF!A:B,2,FALSE),\" \")","v":" "},0,0,{"$f":"IFERROR(VLOOKUP(C11,PivotGHRF!A:C,3,FALSE),\" \")","v":" "},0]
["Air Sports","General Aviation","Air Sports - General Aviation",{"$f":"IFERROR(VLOOKUP(C12,PivotGHRF!A:B,2,FALSE),\" \")","v":" "},0,0,{"$f":"IFERROR(VLOOKUP(C12,PivotESA!A:C,3,FALSE),\" \")","v":" "},0,{"$f":"IFERROR(VLOOKUP(C12,PivotGHRF!A:B,2,FALSE),\" \")","v":" "},0,0,{"$f":"IFERROR(VLOOKUP(C12,PivotGH!A:C,3,FALSE),\" \")","v":" "},0,{"$f":"IFERROR(VLOOKUP(C12,PivotGHRF!A:B,2,FALSE),\" \")","v":" "},0,0,{"$f":"IFERROR(VLOOKUP(C12,PivotGHRF!A:C,3,FALSE),\" \")","v":" "},0]
["Air Sports","Hang Gliding & Paragliding","Air Sports - Hang Gliding & Paragliding",{"$f":"IFERROR(VLOOKUP(C13,PivotGHRF!A:B,2,FALSE),\" \")","v":" "},0,0,{"$f":"IFERROR(VLOOKUP(C13,PivotESA!A:C,3,FALSE),\" \")","v":" "},0,{"$f":"IFERROR(VLOOKUP(C13,PivotGHRF!A:B,2,FALSE),\" \")","v":" "},0,0,{"$f":"IFERROR(VLOOKUP(C13,PivotGH!A:C,3,FALSE),\" \")","v":" "},0,{"$f":"IFERROR(VLOOKUP(C13,PivotGHRF!A:B,2,FALSE),\" \")","v":" "},0,0,{"$f":"IFERROR(VLOOKUP(C13,PivotGHRF!A:C,3,FALSE),\" \")","v":" "},0]
["Air Sports","Microlight and Paramotor","Air Sports - Microlight and Paramotor",{"$f":"IFERROR(VLOOKUP(C14,PivotGHRF!A:B,2,FALSE),\" \")","v":" "},0,0,{"$f":"IFERROR(VLOOKUP(C14,PivotESA!A:C,3,FALSE),\" \")","v":" "},0,{"$f":"IFERROR(VLOOKUP(C14,PivotGHRF!A:B,2,FALSE),\" \")","v":" "},0,0,{"$f":"IFERROR(VLOOKUP(C14,PivotGH!A:C,3,FALSE),\" \")","v":" "},0,{"$f":"IFERROR(VLOOKUP(C14,PivotGHRF!A:B,2,FALSE),\" \")","v":" "},0,0,{"$f":"IFERROR(VLOOKUP(C14,PivotGHRF!A:C,3,FALSE),\" \")","v":" "},0]
["Air Sports","Gliding","Air Sports - Gliding",{"$f":"IFERROR(VLOOKUP(C15,PivotGHRF!A:B,2,FALSE),\" \")","v":" "},0,0,{"$f":"IFERROR(VLOOKUP(C15,PivotESA!A:C,3,FALSE),\" \")","v":" "},0,{"$f":"IFERROR(VLOOKUP(C15,PivotGHRF!A:B,2,FALSE),\" \")","v":" "},0,0,{"$f":"IFERROR(VLOOKUP(C15,PivotGH!A:C,3,FALSE),\" \")","v":" "},0,{"$f":"IFERROR(VLOOKUP(C15,PivotGHRF!A:B,2,FALSE),\" \")","v":" "},0,0,{"$f":"IFERROR(VLOOKUP(C15,PivotGHRF!A:C,3,FALSE),\" \")","v":" "},0]
["Air Sports","Rotorcraft","Air Sports - Rotorcraft",{"$f":"IFERROR(VLOOKUP(C16,PivotGHRF!A:B,2,FALSE),\" \")","v":" "},0,0,{"$f":"IFERROR(VLOOKUP(C16,PivotESA!A:C,3,FALSE),\" \")","v":" "},0,{"$f":"IFERROR(VLOOKUP(C16,PivotGHRF!A:B,2,FALSE),\" \")","v":" "},0,0,{"$f":"IFERROR(VLOOKUP(C16,PivotGH!A:C,3,FALSE),\" \")","v":" "},0,{"$f":"IFERROR(VLOOKUP(C16,PivotGHRF!A:B,2,FALSE),\" \")","v":" "},0,0,{"$f":"IFERROR(VLOOKUP(C16,PivotGHRF!A:C,3,FALSE),\" \")","v":" "},0]
["Air Sports","Military Parachuting","Air Sports - Military Parachuting",{"$f":"IFERROR(VLOOKUP(C17,PivotGHRF!A:B,2,FALSE),\" \")","v":" "},"Not in TDSSA",0,{"$f":"IFERROR(VLOOKUP(C17,PivotESA!A:C,3,FALSE),\" \")","v":" "},0,{"$f":"IFERROR(VLOOKUP(C17,PivotGHRF!A:B,2,FALSE),\" \")","v":" "},"Not in TDSSA",0,{"$f":"IFERROR(VLOOKUP(C17,PivotGH!A:C,3,FALSE),\" \")","v":" "},0,{"$f":"IFERROR(VLOOKUP(C17,PivotGHRF!A:B,2,FALSE),\" \")","v":" "},"Not in TDSSA",0,{"$f":"IFERROR(VLOOKUP(C17,PivotGHRF!A:C,3,FALSE),\" \")","v":" "},0]
["Air Sports","Powered Paragliding","Air Sports - Powered Paragliding",{"$f":"IFERROR(VLOOKUP(C18,PivotGHRF!A:B,2,FALSE),\" \")","v":" "},0,0,{"$f":"IFERROR(VLOOKUP(C18,PivotESA!A:C,3,FALSE),\" \")","v":" "},0,{"$f":"IFERROR(VLOOKUP(C18,PivotGHRF!A:B,2,FALSE),\" \")","v":" "},0,0,{"$f":"IFERROR(VLOOKUP(C18,PivotGH!A:C,3,FALSE),\" \")","v":" "},0,{"$f":"IFERROR(VLOOKUP(C18,PivotGHRF!A:B,2,FALSE),\" \")","v":" "},0,0,{"$f":"IFERROR(VLOOKUP(C18,PivotGHRF!A:C,3,FALSE),\" \")","v":" "},0]
["American Football","American Football","American Football - American Football",{"$f":"IFERROR(VLOOKUP(C19,PivotGHRF!A:B,2,FALSE),\" \")","v":" "},0.05,0,{"$f":"IFERROR(VLOOKUP(C19,PivotESA!A:C,3,FALSE),\" \")","v":" "},0,{"$f":"IFERROR(VLOOKUP(C19,PivotGHRF!A:B,2,FALSE),\" \")","v":" "},0.1,0,{"$f":"IFERROR(VLOOKUP(C19,PivotGH!A:C,3,FALSE),\" \")","v":" "},0,{"$f":"IFERROR(VLOOKUP(C19,PivotGHRF!A:B,2,FALSE),\" \")","v":" "},0.1,0,{"$f":"IFERROR(VLOOKUP(C19,PivotGHRF!A:C,3,FALSE),\" \")","v":" "},0]
["American Football","College","American Football - College",{"$f":"IFERROR(VLOOKUP(C20,PivotGHRF!A:B,2,FALSE),\" \")","v":" "},"Not in TDSSA",0,{"$f":"IFERROR(VLOOKUP(C20,PivotESA!A:C,3,FALSE),\" \")","v":" "},0,{"$f":"IFERROR(VLOOKUP(C20,PivotGHRF!A:B,2,FALSE),\" \")","v":" "},"Not in TDSSA",0,{"$f":"IFERROR(VLOOKUP(C20,PivotGH!A:C,3,FALSE),\" \")","v":" "},0,{"$f":"IFERROR(VLOOKUP(C20,PivotGHRF!A:B,2,FALSE),\" \")","v":" "},"Not in TDSSA",0,{"$f":"IFERROR(VLOOKUP(C20,PivotGHRF!A:C,3,FALSE),\" \")","v":" "},0]
["American Football","Beach Flag Football","American Football - Beach Flag Football",{"$f":"IFERROR(VLOOKUP(C21,PivotGHRF!A:B,2,FALSE),\" \")","v":" "},0.05,0,{"$f":"IFERROR(VLOOKUP(C21,PivotESA!A:C,3,FALSE),\" \")","v":" "},0,{"$f":"IFERROR(VLOOKUP(C21,PivotGHRF!A:B,2,FALSE),\" \")","v":" "},0.1,0,{"$f":"IFERROR(VLOOKUP(C21,PivotGH!A:C,3,FALSE),\" \")","v":" "},0,{"$f":"IFERROR(VLOOKUP(C21,PivotGHRF!A:B,2,FALSE),\" \")","v":" "},0.1,0,{"$f":"IFERROR(VLOOKUP(C21,PivotGHRF!A:C,3,FALSE),\" \")","v":" "},0]
["American Football","Football League","American Football - Football League",{"$f":"IFERROR(VLOOKUP(C22,PivotGHRF!A:B,2,FALSE),\" \")","v":" "},0.05,0,{"$f":"IFERROR(VLOOKUP(C22,PivotESA!A:C,3,FALSE),\" \")","v":" "},0,{"$f":"IFERROR(VLOOKUP(C22,PivotGHRF!A:B,2,FALSE),\" \")","v":" "},0.1,0,{"$f":"IFERROR(VLOOKUP(C22,PivotGH!A:C,3,FALSE),\" \")","v":" "},0,{"$f":"IFERROR(VLOOKUP(C22,PivotGHRF!A:B,2,FALSE),\" \")","v":" "},0.1,0,{"$f":"IFERROR(VLOOKUP(C22,PivotGHRF!A:C,3,FALSE),\" \")","v":" "},0]
["American Football","Junior","American Football - Junior",{"$f":"IFERROR(VLOOKUP(C23,PivotGHRF!A:B,2,FALSE),\" \")","v":" "},"Not in TDSSA",0,{"$f":"IFERROR(VLOOKUP(C23,PivotESA!A:C,3,FALSE),\" \")","v":" "},0,{"$f":"IFERROR(VLOOKUP(C23,PivotGHRF!A:B,2,FALSE),\" \")","v":" "},"Not in TDSSA",0,{"$f":"IFERROR(VLOOKUP(C23,PivotGH!A:C,3,FALSE),\" \")","v":" "},0,{"$f":"IFERROR(VLOOKUP(C23,PivotGHRF!A:B,2,FALSE),\" \")","v":" "},"Not in TDSSA",0,{"$f":"IFERROR(VLOOKUP(C23,PivotGHRF!A:C,3,FALSE),\" \")","v":" "},0]
["American Football","University","American Football - University",{"$f":"IFERROR(VLOOKUP(C24,PivotGHRF!A:B,2,FALSE),\" \")","v":" "},"Not in TDSSA",0,{"$f":"IFERROR(VLOOKUP(C24,PivotESA!A:C,3,FALSE),\" \")","v":" "},0,{"$f":"IFERROR(VLOOKUP(C24,PivotGHRF!A:B,2,FALSE),\" \")","v":" "},"Not in TDSSA",0,{"$f":"IFERROR(VLOOKUP(C24,PivotGH!A:C,3,FALSE),\" \")","v":" "},0,{"$f":"IFERROR(VLOOKUP(C24,PivotGHRF!A:B,2,FALSE),\" \")","v":" "},"Not in TDSSA",0,{"$f":"IFERROR(VLOOKUP(C24,PivotGHRF!A:C,3,FALSE),\" \")","v":" "},0]
["Aquatics","CISS Swimming","Aquatics - CISS Swimming",{"$f":"IFERROR(VLOOKUP(C25,PivotGHRF!A:B,2,FALSE),\" \")","v":" "},"Not in TDSSA",0,{"$f":"IFERROR(VLOOKUP(C25,PivotESA!A:C,3,FALSE),\" \")","v":" "},0,{"$f":"IFERROR(VLOOKUP(C25,PivotGHRF!A:B,2,FALSE),\" \")","v":" "},"Not in TDSSA",0,{"$f":"IFERROR(VLOOKUP(C25,PivotGH!A:C,3,FALSE),\" \")","v":" "},0,{"$f":"IFERROR(VLOOKUP(C25,PivotGHRF!A:B,2,FALSE),\" \")","v":" "},"Not in TDSSA",0,{"$f":"IFERROR(VLOOKUP(C25,PivotGHRF!A:C,3,FALSE),\" \")","v":" "},0]
["Aquatics","CISS Swimming Long Distance 800m and greater","Aquatics - CISS Swimming Long Distance 800m and greater",{"$f":"IFERROR(VLOOKUP(C26,PivotGHRF!A:B,2,FALSE),\" \")","v":" "},"Not in TDSSA",0,{"$f":"IFERROR(VLOOKUP(C26,PivotESA!A:C,3,FALSE),\" \")","v":" "},0,{"$f":"IFERROR(VLOOKUP(C26,PivotGHRF!A:B,2,FALSE),\" \")","v":" "},"Not in TDSSA",0,{"$f":"IFERROR(VLOOKUP(C26,PivotGH!A:C,3,FALSE),\" \")","v":" "},0,{"$f":"IFERROR(VLOOKUP(C26,PivotGHRF!A:B,2,FALSE),\" \")","v":" "},"Not in TDSSA",0,{"$f":"IFERROR(VLOOKUP(C26,PivotGHRF!A:C,3,FALSE),\" \")","v":" "},0]
["Aquatics","CISS Swimming Middle Distance 200-400m","Aquatics - CISS Swimming Middle Distance 200-400m",{"$f":"IFERROR(VLOOKUP(C27,PivotGHRF!A:B,2,FALSE),\" \")","v":" "},"Not in TDSSA",0,{"$f":"IFERROR(VLOOKUP(C27,PivotESA!A:C,3,FALSE),\" \")","v":" "},0,{"$f":"IFERROR(VLOOKUP(C27,PivotGHRF!A:B,2,FALSE),\" \")","v":" "},"Not in TDSSA",0,{"$f":"IFERROR(VLOOKUP(C27,PivotGH!A:C,3,FALSE),\" \")","v":" "},0,{"$f":"IFERROR(VLOOKUP(C27,PivotGHRF!A:B,2,FALSE),\" \")","v":" "},"Not in TDSSA",0,{"$f":"IFERROR(VLOOKUP(C27,PivotGHRF!A:C,3,FALSE),\" \")","v":" "},0]
["Aquatics","CISS Swimming Sprint 100m or less","Aquatics - CISS Swimming Sprint 100m or less",{"$f":"IFERROR(VLOOKUP(C28,PivotGHRF!A:B,2,FALSE),\" \")","v":" "},"Not in TDSSA",0,{"$f":"IFERROR(VLOOKUP(C28,PivotESA!A:C,3,FALSE),\" \")","v":" "},0,{"$f":"IFERROR(VLOOKUP(C28,PivotGHRF!A:B,2,FALSE),\" \")","v":" "},"Not in TDSSA",0,{"$f":"IFERROR(VLOOKUP(C28,PivotGH!A:C,3,FALSE),\" \")","v":" "},0,{"$f":"IFERROR(VLOOKUP(C28,PivotGHRF!A:B,2,FALSE),\" \")","v":" "},"Not in TDSSA",0,{"$f":"IFERROR(VLOOKUP(C28,PivotGHRF!A:C,3,FALSE),\" \")","v":" "},0]
["Aquatics","Free Diving","Aquatics - Free Diving",{"$f":"IFERROR(VLOOKUP(C29,PivotGHRF!A:B,2,FALSE),\" \")","v":" "},"Not in TDSSA",0,{"$f":"IFERROR(VLOOKUP(C29,PivotESA!A:C,3,FALSE),\" \")","v":" "},0,{"$f":"IFERROR(VLOOKUP(C29,PivotGHRF!A:B,2,FALSE),\" \")","v":" "},"Not in TDSSA",0,{"$f":"IFERROR(VLOOKUP(C29,PivotGH!A:C,3,FALSE),\" \")","v":" "},0,{"$f":"IFERROR(VLOOKUP(C29,PivotGHRF!A:B,2,FALSE),\" \")","v":" "},"Not in TDSSA",0,{"$f":"IFERROR(VLOOKUP(C29,PivotGHRF!A:C,3,FALSE),\" \")","v":" "},0]
["Aquatics","Diving","Aquatics - Diving",{"$f":"IFERROR(VLOOKUP(C30,PivotGHRF!A:B,2,FALSE),\" \")","v":" "},0,0,{"$f":"IFERROR(VLOOKUP(C30,PivotESA!A:C,3,FALSE),\" \")","v":" "},0,{"$f":"IFERROR(VLOOKUP(C30,PivotGHRF!A:B,2,FALSE),\" \")","v":" "},0.05,0,{"$f":"IFERROR(VLOOKUP(C30,PivotGH!A:C,3,FALSE),\" \")","v":" "},0,{"$f":"IFERROR(VLOOKUP(C30,PivotGHRF!A:B,2,FALSE),\" \")","v":" "},0.05,0,{"$f":"IFERROR(VLOOKUP(C30,PivotGHRF!A:C,3,FALSE),\" \")","v":" "},0]
["Aquatics","IBSA Swimming","Aquatics - IBSA Swimming",{"$f":"IFERROR(VLOOKUP(C31,PivotGHRF!A:B,2,FALSE),\" \")","v":" "},"Not in TDSSA",0,{"$f":"IFERROR(VLOOKUP(C31,PivotESA!A:C,3,FALSE),\" \")","v":" "},0,{"$f":"IFERROR(VLOOKUP(C31,PivotGHRF!A:B,2,FALSE),\" \")","v":" "},"Not in TDSSA",0,{"$f":"IFERROR(VLOOKUP(C31,PivotGH!A:C,3,FALSE),\" \")","v":" "},0,{"$f":"IFERROR(VLOOKUP(C31,PivotGHRF!A:B,2,FALSE),\" \")","v":" "},"Not in TDSSA",0,{"$f":"IFERROR(VLOOKUP(C31,PivotGHRF!A:C,3,FALSE),\" \")","v":" "},0]
["Aquatics","INAS Swimming","Aquatics - INAS Swimming",{"$f":"IFERROR(VLOOKUP(C32,PivotGHRF!A:B,2,FALSE),\" \")","v":" "},"Not in TDSSA",0,{"$f":"IFERROR(VLOOKUP(C32,PivotESA!A:C,3,FALSE),\" \")","v":" "},0,{"$f":"IFERROR(VLOOKUP(C32,PivotGHRF!A:B,2,FALSE),\" \")","v":" "},"Not in TDSSA",0,{"$f":"IFERROR(VLOOKUP(C32,PivotGH!A:C,3,FALSE),\" \")","v":" "},0,{"$f":"IFERROR(VLOOKUP(C32,PivotGHRF!A:B,2,FALSE),\" \")","v":" "},"Not in TDSSA",0,{"$f":"IFERROR(VLOOKUP(C32,PivotGHRF!A:C,3,FALSE),\" \")","v":" "},0]
["Aquatics","INAS Swimming Long Distance 800m and greater","Aquatics - INAS Swimming Long Distance 800m and greater",{"$f":"IFERROR(VLOOKUP(C33,PivotGHRF!A:B,2,FALSE),\" \")","v":" "},"Not in TDSSA",0,{"$f":"IFERROR(VLOOKUP(C33,PivotESA!A:C,3,FALSE),\" \")","v":" "},0,{"$f":"IFERROR(VLOOKUP(C33,PivotGHRF!A:B,2,FALSE),\" \")","v":" "},"Not in TDSSA",0,{"$f":"IFERROR(VLOOKUP(C33,PivotGH!A:C,3,FALSE),\" \")","v":" "},0,{"$f":"IFERROR(VLOOKUP(C33,PivotGHRF!A:B,2,FALSE),\" \")","v":" "},"Not in TDSSA",0,{"$f":"IFERROR(VLOOKUP(C33,PivotGHRF!A:C,3,FALSE),\" \")","v":" "},0]
["Aquatics","INAS Swimming Middle Distance 200-400m","Aquatics - INAS Swimming Middle Distance 200-400m",{"$f":"IFERROR(VLOOKUP(C34,PivotGHRF!A:B,2,FALSE),\" \")","v":" "},"Not in TDSSA",0,{"$f":"IFERROR(VLOOKUP(C34,PivotESA!A:C,3,FALSE),\" \")","v":" "},0,{"$f":"IFERROR(VLOOKUP(C34,PivotGHRF!A:B,2,FALSE),\" \")","v":" "},"Not in TDSSA",0,{"$f":"IFERROR(VLOOKUP(C34,PivotGH!A:C,3,FALSE),\" \")","v":" "},0,{"$f":"IFERROR(VLOOKUP(C34,PivotGHRF!A:B,2,FALSE),\" \")","v":" "},"Not in TDSSA",0,{"$f":"IFERROR(VLOOKUP(C34,PivotGHRF!A:C,3,FALSE),\" \")","v":" "},0]
["Aquatics","INAS Swimming Sprint 100m or less","Aquatics - INAS Swimming Sprint 100m or less",{"$f":"IFERROR(VLOOKUP(C35,PivotGHRF!A:B,2,FALSE),\" \")","v":" "},"Not in TDSSA",0,{"$f":"IFERROR(VLOOKUP(C35,PivotESA!A:C,3,FALSE),\" \")","v":" "},0,{"$f":"IFERROR(VLOOKUP(C35,PivotGHRF!A:B,2,FALSE),\" \")","v":" "},"Not in TDSSA",0,{"$f":"IFERROR(VLOOKUP(C35,PivotGH!A:C,3,FALSE),\" \")","v":" "},0,{"$f":"IFERROR(VLOOKUP(C35,PivotGHRF!A:B,2,FALSE),\" \")","v":" "},"Not in TDSSA",0,{"$f":"IFERROR(VLOOKUP(C35,PivotGHRF!A:C,3,FALSE),\" \")","v":" "},0]
["Aquatics","Military IPC Swimming Long Distance 800m and greater","Aquatics - Military IPC Swimming Long Distance 800m and greater",{"$f":"IFERROR(VLOOKUP(C36,PivotGHRF!A:B,2,FALSE),\" \")","v":" "},"Not in TDSSA",0,{"$f":"IFERROR(VLOOKUP(C36,PivotESA!A:C,3,FALSE),\" \")","v":" "},0,{"$f":"IFERROR(VLOOKUP(C36,PivotGHRF!A:B,2,FALSE),\" \")","v":" "},"Not in TDSSA",0,{"$f":"IFERROR(VLOOKUP(C36,PivotGH!A:C,3,FALSE),\" \")","v":" "},0,{"$f":"IFERROR(VLOOKUP(C36,PivotGHRF!A:B,2,FALSE),\" \")","v":" "},"Not in TDSSA",0,{"$f":"IFERROR(VLOOKUP(C36,PivotGHRF!A:C,3,FALSE),\" \")","v":" "},0]
["Aquatics","Military IPC Swimming","Aquatics - Military IPC Swimming",{"$f":"IFERROR(VLOOKUP(C37,PivotGHRF!A:B,2,FALSE),\" \")","v":" "},"Not in TDSSA",0,{"$f":"IFERROR(VLOOKUP(C37,PivotESA!A:C,3,FALSE),\" \")","v":" "},0,{"$f":"IFERROR(VLOOKUP(C37,PivotGHRF!A:B,2,FALSE),\" \")","v":" "},"Not in TDSSA",0,{"$f":"IFERROR(VLOOKUP(C37,PivotGH!A:C,3,FALSE),\" \")","v":" "},0,{"$f":"IFERROR(VLOOKUP(C37,PivotGHRF!A:B,2,FALSE),\" \")","v":" "},"Not in TDSSA",0,{"$f":"IFERROR(VLOOKUP(C37,PivotGHRF!A:C,3,FALSE),\" \")","v":" "},0]
["Aquatics","Military IPC Swimming Middle Distance 200-400m","Aquatics - Military IPC Swimming Middle Distance 200-400m",{"$f":"IFERROR(VLOOKUP(C38,PivotGHRF!A:B,2,FALSE),\" \")","v":" "},"Not in TDSSA",0,{"$f":"IFERROR(VLOOKUP(C38,PivotESA!A:C,3,FALSE),\" \")","v":" "},0,{"$f":"IFERROR(VLOOKUP(C38,PivotGHRF!A:B,2,FALSE),\" \")","v":" "},"Not in TDSSA",0,{"$f":"IFERROR(VLOOKUP(C38,PivotGH!A:C,3,FALSE),\" \")","v":" "},0,{"$f":"IFERROR(VLOOKUP(C38,PivotGHRF!A:B,2,FALSE),\" \")","v":" "},"Not in TDSSA",0,{"$f":"IFERROR(VLOOKUP(C38,PivotGHRF!A:C,3,FALSE),\" \")","v":" "},0]
["Aquatics","Military IPC Swimming 100m or less","Aquatics - Military IPC Swimming 100m or less",{"$f":"IFERROR(VLOOKUP(C39,PivotGHRF!A:B,2,FALSE),\" \")","v":" "},"Not in TDSSA",0,{"$f":"IFERROR(VLOOKUP(C39,PivotESA!A:C,3,FALSE),\" \")","v":" "},0,{"$f":"IFERROR(VLOOKUP(C39,PivotGHRF!A:B,2,FALSE),\" \")","v":" "},"Not in TDSSA",0,{"$f":"IFERROR(VLOOKUP(C39,PivotGH!A:C,3,FALSE),\" \")","v":" "},0,{"$f":"IFERROR(VLOOKUP(C39,PivotGHRF!A:B,2,FALSE),\" \")","v":" "},"Not in TDSSA",0,{"$f":"IFERROR(VLOOKUP(C39,PivotGHRF!A:C,3,FALSE),\" \")","v":" "},0]
["Aquatics","Military Swimming","Aquatics - Military Swimming",{"$f":"IFERROR(VLOOKUP(C40,PivotGHRF!A:B,2,FALSE),\" \")","v":" "},"Not in TDSSA",0,{"$f":"IFERROR(VLOOKUP(C40,PivotESA!A:C,3,FALSE),\" \")","v":" "},0,{"$f":"IFERROR(VLOOKUP(C40,PivotGHRF!A:B,2,FALSE),\" \")","v":" "},"Not in TDSSA",0,{"$f":"IFERROR(VLOOKUP(C40,PivotGH!A:C,3,FALSE),\" \")","v":" "},0,{"$f":"IFERROR(VLOOKUP(C40,PivotGHRF!A:B,2,FALSE),\" \")","v":" "},"Not in TDSSA",0,{"$f":"IFERROR(VLOOKUP(C40,PivotGHRF!A:C,3,FALSE),\" \")","v":" "},0]
["Aquatics","Military Swimming Long Distance 800m or greater","Aquatics - Military Swimming Long Distance 800m or greater",{"$f":"IFERROR(VLOOKUP(C41,PivotGHRF!A:B,2,FALSE),\" \")","v":" "},"Not in TDSSA",0,{"$f":"IFERROR(VLOOKUP(C41,PivotESA!A:C,3,FALSE),\" \")","v":" "},0,{"$f":"IFERROR(VLOOKUP(C41,PivotGHRF!A:B,2,FALSE),\" \")","v":" "},"Not in TDSSA",0,{"$f":"IFERROR(VLOOKUP(C41,PivotGH!A:C,3,FALSE),\" \")","v":" "},0,{"$f":"IFERROR(VLOOKUP(C41,PivotGHRF!A:B,2,FALSE),\" \")","v":" "},"Not in TDSSA",0,{"$f":"IFERROR(VLOOKUP(C41,PivotGHRF!A:C,3,FALSE),\" \")","v":" "},0]
["Aquatics","Military Swimming Middle Distance 200-400m","Aquatics - Military Swimming Middle Distance 200-400m",{"$f":"IFERROR(VLOOKUP(C42,PivotGHRF!A:B,2,FALSE),\" \")","v":" "},"Not in TDSSA",0,{"$f":"IFERROR(VLOOKUP(C42,PivotESA!A:C,3,FALSE),\" \")","v":" "},0,{"$f":"IFERROR(VLOOKUP(C42,PivotGHRF!A:B,2,FALSE),\" \")","v":" "},"Not in TDSSA",0,{"$f":"IFERROR(VLOOKUP(C42,PivotGH!A:C,3,FALSE),\" \")","v":" "},0,{"$f":"IFERROR(VLOOKUP(C42,PivotGHRF!A:B,2,FALSE),\" \")","v":" "},"Not in TDSSA",0,{"$f":"IFERROR(VLOOKUP(C42,PivotGHRF!A:C,3,FALSE),\" \")","v":" "},0]
["Aquatics","Military Swimming Sprint 100m or less","Aquatics - Military Swimming Sprint 100m or less",{"$f":"IFERROR(VLOOKUP(C43,PivotGHRF!A:B,2,FALSE),\" \")","v":" "},"Not in TDSSA",0,{"$f":"IFERROR(VLOOKUP(C43,PivotESA!A:C,3,FALSE),\" \")","v":" "},0,{"$f":"IFERROR(VLOOKUP(C43,PivotGHRF!A:B,2,FALSE),\" \")","v":" "},"Not in TDSSA",0,{"$f":"IFERROR(VLOOKUP(C43,PivotGH!A:C,3,FALSE),\" \")","v":" "},0,{"$f":"IFERROR(VLOOKUP(C43,PivotGHRF!A:B,2,FALSE),\" \")","v":" "},"Not in TDSSA",0,{"$f":"IFERROR(VLOOKUP(C43,PivotGHRF!A:C,3,FALSE),\" \")","v":" "},0]
["Aquatics","Open Water","Aquatics - Open Water",{"$f":"IFERROR(VLOOKUP(C44,PivotGHRF!A:B,2,FALSE),\" \")","v":" "},0.3,0,{"$f":"IFERROR(VLOOKUP(C44,PivotESA!A:C,3,FALSE),\" \")","v":" "},0,{"$f":"IFERROR(VLOOKUP(C44,PivotGHRF!A:B,2,FALSE),\" \")","v":" "},0.05,0,{"$f":"IFERROR(VLOOKUP(C44,PivotGH!A:C,3,FALSE),\" \")","v":" "},0,{"$f":"IFERROR(VLOOKUP(C44,PivotGHRF!A:B,2,FALSE),\" \")","v":" "},0.05,0,{"$f":"IFERROR(VLOOKUP(C44,PivotGHRF!A:C,3,FALSE),\" \")","v":" "},0]
["Aquatics","Military Para Swimming","Aquatics - Military Para Swimming",{"$f":"IFERROR(VLOOKUP(C45,PivotGHRF!A:B,2,FALSE),\" \")","v":" "},"Not in TDSSA",0,{"$f":"IFERROR(VLOOKUP(C45,PivotESA!A:C,3,FALSE),\" \")","v":" "},0,{"$f":"IFERROR(VLOOKUP(C45,PivotGHRF!A:B,2,FALSE),\" \")","v":" "},"Not in TDSSA",0,{"$f":"IFERROR(VLOOKUP(C45,PivotGH!A:C,3,FALSE),\" \")","v":" "},0,{"$f":"IFERROR(VLOOKUP(C45,PivotGHRF!A:B,2,FALSE),\" \")","v":" "},"Not in TDSSA",0,{"$f":"IFERROR(VLOOKUP(C45,PivotGHRF!A:C,3,FALSE),\" \")","v":" "},0]
["Aquatics","IPC Swimming Long Distance 800m and greater (R)","Aquatics - IPC Swimming Long Distance 800m and greater (R)",{"$f":"IFERROR(VLOOKUP(C46,PivotGHRF!A:B,2,FALSE),\" \")","v":" "},0.3,0,{"$f":"IFERROR(VLOOKUP(C46,PivotESA!A:C,3,FALSE),\" \")","v":" "},0,{"$f":"IFERROR(VLOOKUP(C46,PivotGHRF!A:B,2,FALSE),\" \")","v":" "},0.05,0,{"$f":"IFERROR(VLOOKUP(C46,PivotGH!A:C,3,FALSE),\" \")","v":" "},0,{"$f":"IFERROR(VLOOKUP(C46,PivotGHRF!A:B,2,FALSE),\" \")","v":" "},0.05,0,{"$f":"IFERROR(VLOOKUP(C46,PivotGHRF!A:C,3,FALSE),\" \")","v":" "},0]
["Aquatics","IPC Swimming Middle Distance 200-400m (R)","Aquatics - IPC Swimming Middle Distance 200-400m (R)",{"$f":"IFERROR(VLOOKUP(C47,PivotGHRF!A:B,2,FALSE),\" \")","v":" "},0.1,0,{"$f":"IFERROR(VLOOKUP(C47,PivotESA!A:C,3,FALSE),\" \")","v":" "},0,{"$f":"IFERROR(VLOOKUP(C47,PivotGHRF!A:B,2,FALSE),\" \")","v":" "},0.05,0,{"$f":"IFERROR(VLOOKUP(C47,PivotGH!A:C,3,FALSE),\" \")","v":" "},0,{"$f":"IFERROR(VLOOKUP(C47,PivotGHRF!A:B,2,FALSE),\" \")","v":" "},0.05,0,{"$f":"IFERROR(VLOOKUP(C47,PivotGHRF!A:C,3,FALSE),\" \")","v":" "},0]
["Aquatics","IPC Swimming Sprint 100m or less (R)","Aquatics - IPC Swimming Sprint 100m or less (R)",{"$f":"IFERROR(VLOOKUP(C48,PivotGHRF!A:B,2,FALSE),\" \")","v":" "},0.05,0,{"$f":"IFERROR(VLOOKUP(C48,PivotESA!A:C,3,FALSE),\" \")","v":" "},0,{"$f":"IFERROR(VLOOKUP(C48,PivotGHRF!A:B,2,FALSE),\" \")","v":" "},0.1,0,{"$f":"IFERROR(VLOOKUP(C48,PivotGH!A:C,3,FALSE),\" \")","v":" "},0,{"$f":"IFERROR(VLOOKUP(C48,PivotGHRF!A:B,2,FALSE),\" \")","v":" "},0.1,0,{"$f":"IFERROR(VLOOKUP(C48,PivotGHRF!A:C,3,FALSE),\" \")","v":" "},0]
["Aquatics","Swimming Long Distance 800m or greater","Aquatics - Swimming Long Distance 800m or greater",{"$f":"IFERROR(VLOOKUP(C49,PivotGHRF!A:B,2,FALSE),\" \")","v":" "},0.3,0,{"$f":"IFERROR(VLOOKUP(C49,PivotESA!A:C,3,FALSE),\" \")","v":" "},0,{"$f":"IFERROR(VLOOKUP(C49,PivotGHRF!A:B,2,FALSE),\" \")","v":" "},0.05,0,{"$f":"IFERROR(VLOOKUP(C49,PivotGH!A:C,3,FALSE),\" \")","v":" "},0,{"$f":"IFERROR(VLOOKUP(C49,PivotGHRF!A:B,2,FALSE),\" \")","v":" "},0.05,0,{"$f":"IFERROR(VLOOKUP(C49,PivotGHRF!A:C,3,FALSE),\" \")","v":" "},0]
["Aquatics","Swimming Middle Distance 200-400m","Aquatics - Swimming Middle Distance 200-400m",{"$f":"IFERROR(VLOOKUP(C50,PivotGHRF!A:B,2,FALSE),\" \")","v":" "},0.15,0,{"$f":"IFERROR(VLOOKUP(C50,PivotESA!A:C,3,FALSE),\" \")","v":" "},0,{"$f":"IFERROR(VLOOKUP(C50,PivotGHRF!A:B,2,FALSE),\" \")","v":" "},0.05,0,{"$f":"IFERROR(VLOOKUP(C50,PivotGH!A:C,3,FALSE),\" \")","v":" "},0,{"$f":"IFERROR(VLOOKUP(C50,PivotGHRF!A:B,2,FALSE),\" \")","v":" "},0.05,0,{"$f":"IFERROR(VLOOKUP(C50,PivotGHRF!A:C,3,FALSE),\" \")","v":" "},0]
["Aquatics","Swimming Sprint 100m or less","Aquatics - Swimming Sprint 100m or less",{"$f":"IFERROR(VLOOKUP(C51,PivotGHRF!A:B,2,FALSE),\" \")","v":" "},0.1,0,{"$f":"IFERROR(VLOOKUP(C51,PivotESA!A:C,3,FALSE),\" \")","v":" "},0,{"$f":"IFERROR(VLOOKUP(C51,PivotGHRF!A:B,2,FALSE),\" \")","v":" "},0.1,0,{"$f":"IFERROR(VLOOKUP(C51,PivotGH!A:C,3,FALSE),\" \")","v":" "},0,{"$f":"IFERROR(VLOOKUP(C51,PivotGHRF!A:B,2,FALSE),\" \")","v":" "},0.1,0,{"$f":"IFERROR(VLOOKUP(C51,PivotGHRF!A:C,3,FALSE),\" \")","v":" "},0]
["Aquatics","Artistic Swimming","Aquatics - Artistic Swimming",{"$f":"IFERROR(VLOOKUP(C52,PivotGHRF!A:B,2,FALSE),\" \")","v":" "},0.1,0,{"$f":"IFERROR(VLOOKUP(C52,PivotESA!A:C,3,FALSE),\" \")","v":" "},0,{"$f":"IFERROR(VLOOKUP(C52,PivotGHRF!A:B,2,FALSE),\" \")","v":" "},0.05,0,{"$f":"IFERROR(VLOOKUP(C52,PivotGH!A:C,3,FALSE),\" \")","v":" "},0,{"$f":"IFERROR(VLOOKUP(C52,PivotGHRF!A:B,2,FALSE),\" \")","v":" "},0.05,0,{"$f":"IFERROR(VLOOKUP(C52,PivotGHRF!A:C,3,FALSE),\" \")","v":" "},0]
["Aquatics","Scuba Diving (R)","Aquatics - Scuba Diving (R)",{"$f":"IFERROR(VLOOKUP(C53,PivotGHRF!A:B,2,FALSE),\" \")","v":" "},"Not in TDSSA",0,{"$f":"IFERROR(VLOOKUP(C53,PivotESA!A:C,3,FALSE),\" \")","v":" "},0,{"$f":"IFERROR(VLOOKUP(C53,PivotGHRF!A:B,2,FALSE),\" \")","v":" "},"Not in TDSSA",0,{"$f":"IFERROR(VLOOKUP(C53,PivotGH!A:C,3,FALSE),\" \")","v":" "},0,{"$f":"IFERROR(VLOOKUP(C53,PivotGHRF!A:B,2,FALSE),\" \")","v":" "},"Not in TDSSA",0,{"$f":"IFERROR(VLOOKUP(C53,PivotGHRF!A:C,3,FALSE),\" \")","v":" "},0]
["Aquatics","University Diving","Aquatics - University Diving",{"$f":"IFERROR(VLOOKUP(C54,PivotGHRF!A:B,2,FALSE),\" \")","v":" "},"Not in TDSSA",0,{"$f":"IFERROR(VLOOKUP(C54,PivotESA!A:C,3,FALSE),\" \")","v":" "},0,{"$f":"IFERROR(VLOOKUP(C54,PivotGHRF!A:B,2,FALSE),\" \")","v":" "},"Not in TDSSA",0,{"$f":"IFERROR(VLOOKUP(C54,PivotGH!A:C,3,FALSE),\" \")","v":" "},0,{"$f":"IFERROR(VLOOKUP(C54,PivotGHRF!A:B,2,FALSE),\" \")","v":" "},"Not in TDSSA",0,{"$f":"IFERROR(VLOOKUP(C54,PivotGHRF!A:C,3,FALSE),\" \")","v":" "},0]
["Aquatics","University Open Water","Aquatics - University Open Water",{"$f":"IFERROR(VLOOKUP(C55,PivotGHRF!A:B,2,FALSE),\" \")","v":" "},"Not in TDSSA",0,{"$f":"IFERROR(VLOOKUP(C55,PivotESA!A:C,3,FALSE),\" \")","v":" "},0,{"$f":"IFERROR(VLOOKUP(C55,PivotGHRF!A:B,2,FALSE),\" \")","v":" "},"Not in TDSSA",0,{"$f":"IFERROR(VLOOKUP(C55,PivotGH!A:C,3,FALSE),\" \")","v":" "},0,{"$f":"IFERROR(VLOOKUP(C55,PivotGHRF!A:B,2,FALSE),\" \")","v":" "},"Not in TDSSA",0,{"$f":"IFERROR(VLOOKUP(C55,PivotGHRF!A:C,3,FALSE),\" \")","v":" "},0]
["Aquatics","University Swimming","Aquatics - University Swimming",{"$f":"IFERROR(VLOOKUP(C56,PivotGHRF!A:B,2,FALSE),\" \")","v":" "},"Not in TDSSA",0,{"$f":"IFERROR(VLOOKUP(C56,PivotESA!A:C,3,FALSE),\" \")","v":" "},0,{"$f":"IFERROR(VLOOKUP(C56,PivotGHRF!A:B,2,FALSE),\" \")","v":" "},"Not in TDSSA",0,{"$f":"IFERROR(VLOOKUP(C56,PivotGH!A:C,3,FALSE),\" \")","v":" "},0,{"$f":"IFERROR(VLOOKUP(C56,PivotGHRF!A:B,2,FALSE),\" \")","v":" "},"Not in TDSSA",0,{"$f":"IFERROR(VLOOKUP(C56,PivotGHRF!A:C,3,FALSE),\" \")","v":" "},0]
["Aquatics","University Swimming Long Distance 800m or greater","Aquatics - University Swimming Long Distance 800m or greater",{"$f":"IFERROR(VLOOKUP(C57,PivotGHRF!A:B,2,FALSE),\" \")","v":" "},"Not in TDSSA",0,{"$f":"IFERROR(VLOOKUP(C57,PivotESA!A:C,3,FALSE),\" \")","v":" "},0,{"$f":"IFERROR(VLOOKUP(C57,PivotGHRF!A:B,2,FALSE),\" \")","v":" "},"Not in TDSSA",0,{"$f":"IFERROR(VLOOKUP(C57,PivotGH!A:C,3,FALSE),\" \")","v":" "},0,{"$f":"IFERROR(VLOOKUP(C57,PivotGHRF!A:B,2,FALSE),\" \")","v":" "},"Not in TDSSA",0,{"$f":"IFERROR(VLOOKUP(C57,PivotGHRF!A:C,3,FALSE),\" \")","v":" "},0]
["Aquatics","University Swimming Middle Distance 200-400m","Aquatics - University Swimming Middle Distance 200-400m",{"$f":"IFERROR(VLOOKUP(C58,PivotGHRF!A:B,2,FALSE),\" \")","v":" "},"Not in TDSSA",0,{"$f":"IFERROR(VLOOKUP(C58,PivotESA!A:C,3,FALSE),\" \")","v":" "},0,{"$f":"IFERROR(VLOOKUP(C58,PivotGHRF!A:B,2,FALSE),\" \")","v":" "},"Not in TDSSA",0,{"$f":"IFERROR(VLOOKUP(C58,PivotGH!A:C,3,FALSE),\" \")","v":" "},0,{"$f":"IFERROR(VLOOKUP(C58,PivotGHRF!A:B,2,FALSE),\" \")","v":" "},"Not in TDSSA",0,{"$f":"IFERROR(VLOOKUP(C58,PivotGHRF!A:C,3,FALSE),\" \")","v":" "},0]
["Aquatics","University Swimming Sprint 100m or less","Aquatics - University Swimming Sprint 100m or less",{"$f":"IFERROR(VLOOKUP(C59,PivotGHRF!A:B,2,FALSE),\" \")","v":" "},"Not in TDSSA",0,{"$f":"IFERROR(VLOOKUP(C59,PivotESA!A:C,3,FALSE),\" \")","v":" "},0,{"$f":"IFERROR(VLOOKUP(C59,PivotGHRF!A:B,2,FALSE),\" \")","v":" "},"Not in TDSSA",0,{"$f":"IFERROR(VLOOKUP(C59,PivotGH!A:C,3,FALSE),\" \")","v":" "},0,{"$f":"IFERROR(VLOOKUP(C59,PivotGHRF!A:B,2,FALSE),\" \")","v":" "},"Not in TDSSA",0,{"$f":"IFERROR(VLOOKUP(C59,PivotGHRF!A:C,3,FALSE),\" \")","v":" "},0]
["Aquatics","University Synchronised Swimming","Aquatics - University Synchronised Swimming",{"$f":"IFERROR(VLOOKUP(C60,PivotGHRF!A:B,2,FALSE),\" \")","v":" "},"Not in TDSSA",0,{"$f":"IFERROR(VLOOKUP(C60,PivotESA!A:C,3,FALSE),\" \")","v":" "},0,{"$f":"IFERROR(VLOOKUP(C60,PivotGHRF!A:B,2,FALSE),\" \")","v":" "},"Not in TDSSA",0,{"$f":"IFERROR(VLOOKUP(C60,PivotGH!A:C,3,FALSE),\" \")","v":" "},0,{"$f":"IFERROR(VLOOKUP(C60,PivotGHRF!A:B,2,FALSE),\" \")","v":" "},"Not in TDSSA",0,{"$f":"IFERROR(VLOOKUP(C60,PivotGHRF!A:C,3,FALSE),\" \")","v":" "},0]
["Aquatics","University Water Polo","Aquatics - University Water Polo",{"$f":"IFERROR(VLOOKUP(C61,PivotGHRF!A:B,2,FALSE),\" \")","v":" "},"Not in TDSSA",0,{"$f":"IFERROR(VLOOKUP(C61,PivotESA!A:C,3,FALSE),\" \")","v":" "},0,{"$f":"IFERROR(VLOOKUP(C61,PivotGHRF!A:B,2,FALSE),\" \")","v":" "},"Not in TDSSA",0,{"$f":"IFERROR(VLOOKUP(C61,PivotGH!A:C,3,FALSE),\" \")","v":" "},0,{"$f":"IFERROR(VLOOKUP(C61,PivotGHRF!A:B,2,FALSE),\" \")","v":" "},"Not in TDSSA",0,{"$f":"IFERROR(VLOOKUP(C61,PivotGHRF!A:C,3,FALSE),\" \")","v":" "},0]
["Aquatics","Water Polo","Aquatics - Water Polo",{"$f":"IFERROR(VLOOKUP(C62,PivotGHRF!A:B,2,FALSE),\" \")","v":" "},0.1,0,{"$f":"IFERROR(VLOOKUP(C62,PivotESA!A:C,3,FALSE),\" \")","v":" "},0,{"$f":"IFERROR(VLOOKUP(C62,PivotGHRF!A:B,2,FALSE),\" \")","v":" "},0.1,0,{"$f":"IFERROR(VLOOKUP(C62,PivotGH!A:C,3,FALSE),\" \")","v":" "},0,{"$f":"IFERROR(VLOOKUP(C62,PivotGHRF!A:B,2,FALSE),\" \")","v":" "},0.1,0,{"$f":"IFERROR(VLOOKUP(C62,PivotGHRF!A:C,3,FALSE),\" \")","v":" "},0]
["Archery","Bow without Sight","Archery - Bow without Sight",{"$f":"IFERROR(VLOOKUP(C63,PivotGHRF!A:B,2,FALSE),\" \")","v":" "},0,0,{"$f":"IFERROR(VLOOKUP(C63,PivotESA!A:C,3,FALSE),\" \")","v":" "},0,{"$f":"IFERROR(VLOOKUP(C63,PivotGHRF!A:B,2,FALSE),\" \")","v":" "},0,0,{"$f":"IFERROR(VLOOKUP(C63,PivotGH!A:C,3,FALSE),\" \")","v":" "},0,{"$f":"IFERROR(VLOOKUP(C63,PivotGHRF!A:B,2,FALSE),\" \")","v":" "},0,0,{"$f":"IFERROR(VLOOKUP(C63,PivotGHRF!A:C,3,FALSE),\" \")","v":" "},0]
["Archery","Para-Archery","Archery - Para-Archery",{"$f":"IFERROR(VLOOKUP(C64,PivotGHRF!A:B,2,FALSE),\" \")","v":" "},0,0,{"$f":"IFERROR(VLOOKUP(C64,PivotESA!A:C,3,FALSE),\" \")","v":" "},0,{"$f":"IFERROR(VLOOKUP(C64,PivotGHRF!A:B,2,FALSE),\" \")","v":" "},0,0,{"$f":"IFERROR(VLOOKUP(C64,PivotGH!A:C,3,FALSE),\" \")","v":" "},0,{"$f":"IFERROR(VLOOKUP(C64,PivotGHRF!A:B,2,FALSE),\" \")","v":" "},0,0,{"$f":"IFERROR(VLOOKUP(C64,PivotGHRF!A:C,3,FALSE),\" \")","v":" "},0]
["Archery","Archery","Archery - Archery",{"$f":"IFERROR(VLOOKUP(C65,PivotGHRF!A:B,2,FALSE),\" \")","v":" "},0,0,{"$f":"IFERROR(VLOOKUP(C65,PivotESA!A:C,3,FALSE),\" \")","v":" "},0,{"$f":"IFERROR(VLOOKUP(C65,PivotGHRF!A:B,2,FALSE),\" \")","v":" "},0,0,{"$f":"IFERROR(VLOOKUP(C65,PivotGH!A:C,3,FALSE),\" \")","v":" "},0,{"$f":"IFERROR(VLOOKUP(C65,PivotGHRF!A:B,2,FALSE),\" \")","v":" "},0,0,{"$f":"IFERROR(VLOOKUP(C65,PivotGHRF!A:C,3,FALSE),\" \")","v":" "},0]
["Archery","Compound","Archery - Compound",{"$f":"IFERROR(VLOOKUP(C66,PivotGHRF!A:B,2,FALSE),\" \")","v":" "},0,0,{"$f":"IFERROR(VLOOKUP(C66,PivotESA!A:C,3,FALSE),\" \")","v":" "},0,{"$f":"IFERROR(VLOOKUP(C66,PivotGHRF!A:B,2,FALSE),\" \")","v":" "},0,0,{"$f":"IFERROR(VLOOKUP(C66,PivotGH!A:C,3,FALSE),\" \")","v":" "},0,{"$f":"IFERROR(VLOOKUP(C66,PivotGHRF!A:B,2,FALSE),\" \")","v":" "},0,0,{"$f":"IFERROR(VLOOKUP(C66,PivotGHRF!A:C,3,FALSE),\" \")","v":" "},0]
["Archery","Recurve","Archery - Recurve",{"$f":"IFERROR(VLOOKUP(C67,PivotGHRF!A:B,2,FALSE),\" \")","v":" "},0,0,{"$f":"IFERROR(VLOOKUP(C67,PivotESA!A:C,3,FALSE),\" \")","v":" "},0,{"$f":"IFERROR(VLOOKUP(C67,PivotGHRF!A:B,2,FALSE),\" \")","v":" "},0,0,{"$f":"IFERROR(VLOOKUP(C67,PivotGH!A:C,3,FALSE),\" \")","v":" "},0,{"$f":"IFERROR(VLOOKUP(C67,PivotGHRF!A:B,2,FALSE),\" \")","v":" "},0,0,{"$f":"IFERROR(VLOOKUP(C67,PivotGHRF!A:C,3,FALSE),\" \")","v":" "},0]
["Archery","University","Archery - University",{"$f":"IFERROR(VLOOKUP(C68,PivotGHRF!A:B,2,FALSE),\" \")","v":" "},"Not in TDSSA",0,{"$f":"IFERROR(VLOOKUP(C68,PivotESA!A:C,3,FALSE),\" \")","v":" "},0,{"$f":"IFERROR(VLOOKUP(C68,PivotGHRF!A:B,2,FALSE),\" \")","v":" "},"Not in TDSSA",0,{"$f":"IFERROR(VLOOKUP(C68,PivotGH!A:C,3,FALSE),\" \")","v":" "},0,{"$f":"IFERROR(VLOOKUP(C68,PivotGHRF!A:B,2,FALSE),\" \")","v":" "},"Not in TDSSA",0,{"$f":"IFERROR(VLOOKUP(C68,PivotGHRF!A:C,3,FALSE),\" \")","v":" "},0]
["Archery","Military Archery","Archery - Military Archery",{"$f":"IFERROR(VLOOKUP(C69,PivotGHRF!A:B,2,FALSE),\" \")","v":" "},"Not in TDSSA",0,{"$f":"IFERROR(VLOOKUP(C69,PivotESA!A:C,3,FALSE),\" \")","v":" "},0,{"$f":"IFERROR(VLOOKUP(C69,PivotGHRF!A:B,2,FALSE),\" \")","v":" "},"Not in TDSSA",0,{"$f":"IFERROR(VLOOKUP(C69,PivotGH!A:C,3,FALSE),\" \")","v":" "},0,{"$f":"IFERROR(VLOOKUP(C69,PivotGHRF!A:B,2,FALSE),\" \")","v":" "},"Not in TDSSA",0,{"$f":"IFERROR(VLOOKUP(C69,PivotGHRF!A:C,3,FALSE),\" \")","v":" "},0]
["Archery","Military Compound","Archery - Military Compound",{"$f":"IFERROR(VLOOKUP(C70,PivotGHRF!A:B,2,FALSE),\" \")","v":" "},"Not in TDSSA",0,{"$f":"IFERROR(VLOOKUP(C70,PivotESA!A:C,3,FALSE),\" \")","v":" "},0,{"$f":"IFERROR(VLOOKUP(C70,PivotGHRF!A:B,2,FALSE),\" \")","v":" "},"Not in TDSSA",0,{"$f":"IFERROR(VLOOKUP(C70,PivotGH!A:C,3,FALSE),\" \")","v":" "},0,{"$f":"IFERROR(VLOOKUP(C70,PivotGHRF!A:B,2,FALSE),\" \")","v":" "},"Not in TDSSA",0,{"$f":"IFERROR(VLOOKUP(C70,PivotGHRF!A:C,3,FALSE),\" \")","v":" "},0]
["Archery","Military Ski-Archery","Archery - Military Ski-Archery",{"$f":"IFERROR(VLOOKUP(C71,PivotGHRF!A:B,2,FALSE),\" \")","v":" "},"Not in TDSSA",0,{"$f":"IFERROR(VLOOKUP(C71,PivotESA!A:C,3,FALSE),\" \")","v":" "},{"$f":"IFERROR(F71-G71,0)","v":0},{"$f":"IFERROR(VLOOKUP(C71,PivotGHRF!A:B,2,FALSE),\" \")","v":" "},"Not in TDSSA",0,{"$f":"IFERROR(VLOOKUP(C71,PivotGH!A:C,3,FALSE),\" \")","v":" "},{"$f":"IFERROR(K71-L71,0)","v":0},{"$f":"IFERROR(VLOOKUP(C71,PivotGHRF!A:B,2,FALSE),\" \")","v":" "},"Not in TDSSA",0,{"$f":"IFERROR(VLOOKUP(C71,PivotGHRF!A:C,3,FALSE),\" \")","v":" "},{"$f":"IFERROR(P71-Q71,0)","v":0}]
["Archery","Ski-Archery","Archery - Ski-Archery",{"$f":"IFERROR(VLOOKUP(C72,PivotGHRF!A:B,2,FALSE),\" \")","v":" "},0,{"$f":"IFERROR(ROUNDUP(E72*D72,0),0)","v":0},{"$f":"IFERROR(VLOOKUP(C72,PivotESA!A:C,3,FALSE),\" \")","v":" "},0,{"$f":"IFERROR(VLOOKUP(C72,PivotGHRF!A:B,2,FALSE),\" \")","v":" "},0,{"$f":"IFERROR(ROUNDUP(J72*I72,0),0)","v":0},{"$f":"IFERROR(VLOOKUP(C72,PivotGH!A:C,3,FALSE),\" \")","v":" "},0,{"$f":"IFERROR(VLOOKUP(C72,PivotGHRF!A:B,2,FALSE),\" \")","v":" "},0,{"$f":"IFERROR(ROUNDUP(O72*N72,0),0)","v":0},{"$f":"IFERROR(VLOOKUP(C72,PivotGHRF!A:C,3,FALSE),\" \")","v":" "},0]
["Arm Wrestling","Arm Wrestling","Arm Wrestling - Arm Wrestling",{"$f":"IFERROR(VLOOKUP(C73,PivotGHRF!A:B,2,FALSE),\" \")","v":" "},"Not in TDSSA",0,{"$f":"IFERROR(VLOOKUP(C73,PivotESA!A:C,3,FALSE),\" \")","v":" "},0,{"$f":"IFERROR(VLOOKUP(C73,PivotGHRF!A:B,2,FALSE),\" \")","v":" "},"Not in TDSSA",0,{"$f":"IFERROR(VLOOKUP(C73,PivotGH!A:C,3,FALSE),\" \")","v":" "},0,{"$f":"IFERROR(VLOOKUP(C73,PivotGHRF!A:B,2,FALSE),\" \")","v":" "},"Not in TDSSA",0,{"$f":"IFERROR(VLOOKUP(C73,PivotGHRF!A:C,3,FALSE),\" \")","v":" "},0]
["Arm Wrestling","Para-Arm Wrestling","Arm Wrestling - Para-Arm Wrestling",{"$f":"IFERROR(VLOOKUP(C74,PivotGHRF!A:B,2,FALSE),\" \")","v":" "},"Not in TDSSA",0,{"$f":"IFERROR(VLOOKUP(C74,PivotESA!A:C,3,FALSE),\" \")","v":" "},0,{"$f":"IFERROR(VLOOKUP(C74,PivotGHRF!A:B,2,FALSE),\" \")","v":" "},"Not in TDSSA",0,{"$f":"IFERROR(VLOOKUP(C74,PivotGH!A:C,3,FALSE),\" \")","v":" "},0,{"$f":"IFERROR(VLOOKUP(C74,PivotGHRF!A:B,2,FALSE),\" \")","v":" "},"Not in TDSSA",0,{"$f":"IFERROR(VLOOKUP(C74,PivotGHRF!A:C,3,FALSE),\" \")","v":" "},0]
["Athletics","Jumps","Athletics - Jumps",{"$f":"IFERROR(VLOOKUP(C75,PivotGHRF!A:B,2,FALSE),\" \")","v":" "},0.1,0,{"$f":"IFERROR(VLOOKUP(C75,PivotESA!A:C,3,FALSE),\" \")","v":" "},0,{"$f":"IFERROR(VLOOKUP(C75,PivotGHRF!A:B,2,FALSE),\" \")","v":" "},0.15,0,{"$f":"IFERROR(VLOOKUP(C75,PivotGH!A:C,3,FALSE),\" \")","v":" "},0,{"$f":"IFERROR(VLOOKUP(C75,PivotGHRF!A:B,2,FALSE),\" \")","v":" "},0.15,0,{"$f":"IFERROR(VLOOKUP(C75,PivotGHRF!A:C,3,FALSE),\" \")","v":" "},0]
["Athletics","Long Distance 3000m or greater","Athletics - Long Distance 3000m or greater",{"$f":"IFERROR(VLOOKUP(C76,PivotGHRF!A:B,2,FALSE),\" \")","v":" "},0.6,0,{"$f":"IFERROR(VLOOKUP(C76,PivotESA!A:C,3,FALSE),\" \")","v":" "},0,{"$f":"IFERROR(VLOOKUP(C76,PivotGHRF!A:B,2,FALSE),\" \")","v":" "},0.05,0,{"$f":"IFERROR(VLOOKUP(C76,PivotGH!A:C,3,FALSE),\" \")","v":" "},0,{"$f":"IFERROR(VLOOKUP(C76,PivotGHRF!A:B,2,FALSE),\" \")","v":" "},0.05,0,{"$f":"IFERROR(VLOOKUP(C76,PivotGHRF!A:C,3,FALSE),\" \")","v":" "},0]
["Athletics","Middle Distance 800-1500m","Athletics - Middle Distance 800-1500m",{"$f":"IFERROR(VLOOKUP(C77,PivotGHRF!A:B,2,FALSE),\" \")","v":" "},0.3,0,{"$f":"IFERROR(VLOOKUP(C77,PivotESA!A:C,3,FALSE),\" \")","v":" "},0,{"$f":"IFERROR(VLOOKUP(C77,PivotGHRF!A:B,2,FALSE),\" \")","v":" "},0.1,0,{"$f":"IFERROR(VLOOKUP(C77,PivotGH!A:C,3,FALSE),\" \")","v":" "},0,{"$f":"IFERROR(VLOOKUP(C77,PivotGHRF!A:B,2,FALSE),\" \")","v":" "},0.1,0,{"$f":"IFERROR(VLOOKUP(C77,PivotGHRF!A:C,3,FALSE),\" \")","v":" "},0]
["Athletics","Sprint 400m or less","Athletics - Sprint 400m or less",{"$f":"IFERROR(VLOOKUP(C78,PivotGHRF!A:B,2,FALSE),\" \")","v":" "},0.1,0,{"$f":"IFERROR(VLOOKUP(C78,PivotESA!A:C,3,FALSE),\" \")","v":" "},0,{"$f":"IFERROR(VLOOKUP(C78,PivotGHRF!A:B,2,FALSE),\" \")","v":" "},0.15,0,{"$f":"IFERROR(VLOOKUP(C78,PivotGH!A:C,3,FALSE),\" \")","v":" "},0,{"$f":"IFERROR(VLOOKUP(C78,PivotGHRF!A:B,2,FALSE),\" \")","v":" "},0.15,0,{"$f":"IFERROR(VLOOKUP(C78,PivotGHRF!A:C,3,FALSE),\" \")","v":" "},0]
["Athletics","Throws","Athletics - Throws",{"$f":"IFERROR(VLOOKUP(C79,PivotGHRF!A:B,2,FALSE),\" \")","v":" "},0.05,0,{"$f":"IFERROR(VLOOKUP(C79,PivotESA!A:C,3,FALSE),\" \")","v":" "},0,{"$f":"IFERROR(VLOOKUP(C79,PivotGHRF!A:B,2,FALSE),\" \")","v":" "},0.15,0,{"$f":"IFERROR(VLOOKUP(C79,PivotGH!A:C,3,FALSE),\" \")","v":" "},0,{"$f":"IFERROR(VLOOKUP(C79,PivotGHRF!A:B,2,FALSE),\" \")","v":" "},0.15,0,{"$f":"IFERROR(VLOOKUP(C79,PivotGHRF!A:C,3,FALSE),\" \")","v":" "},0]
["Athletics","Combined Events","Athletics - Combined Events",{"$f":"IFERROR(VLOOKUP(C80,PivotGHRF!A:B,2,FALSE),\" \")","v":" "},0.15,0,{"$f":"IFERROR(VLOOKUP(C80,PivotESA!A:C,3,FALSE),\" \")","v":" "},0,{"$f":"IFERROR(VLOOKUP(C80,PivotGHRF!A:B,2,FALSE),\" \")","v":" "},0.15,0,{"$f":"IFERROR(VLOOKUP(C80,PivotGH!A:C,3,FALSE),\" \")","v":" "},0,{"$f":"IFERROR(VLOOKUP(C80,PivotGHRF!A:B,2,FALSE),\" \")","v":" "},0.15,0,{"$f":"IFERROR(VLOOKUP(C80,PivotGHRF!A:C,3,FALSE),\" \")","v":" "},0]
["Athletics","CISS Athletics","Athletics - CISS Athletics",{"$f":"IFERROR(VLOOKUP(C81,PivotGHRF!A:B,2,FALSE),\" \")","v":" "},"Not in TDSSA",0,{"$f":"IFERROR(VLOOKUP(C81,PivotESA!A:C,3,FALSE),\" \")","v":" "},0,{"$f":"IFERROR(VLOOKUP(C81,PivotGHRF!A:B,2,FALSE),\" \")","v":" "},"Not in TDSSA",0,{"$f":"IFERROR(VLOOKUP(C81,PivotGH!A:C,3,FALSE),\" \")","v":" "},0,{"$f":"IFERROR(VLOOKUP(C81,PivotGHRF!A:B,2,FALSE),\" \")","v":" "},"Not in TDSSA",0,{"$f":"IFERROR(VLOOKUP(C81,PivotGHRF!A:C,3,FALSE),\" \")","v":" "},0]
["Athletics","CISS Combined Events","Athletics - CISS Combined Events",{"$f":"IFERROR(VLOOKUP(C82,PivotGHRF!A:B,2,FALSE),\" \")","v":" "},"Not in TDSSA",0,{"$f":"IFERROR(VLOOKUP(C82,PivotESA!A:C,3,FALSE),\" \")","v":" "},0,{"$f":"IFERROR(VLOOKUP(C82,PivotGHRF!A:B,2,FALSE),\" \")","v":" "},"Not in TDSSA",0,{"$f":"IFERROR(VLOOKUP(C82,PivotGH!A:C,3,FALSE),\" \")","v":" "},0,{"$f":"IFERROR(VLOOKUP(C82,PivotGHRF!A:B,2,FALSE),\" \")","v":" "},"Not in TDSSA",0,{"$f":"IFERROR(VLOOKUP(C82,PivotGHRF!A:C,3,FALSE),\" \")","v":" "},0]
["Athletics","CISS Jumps","Athletics - CISS Jumps",{"$f":"IFERROR(VLOOKUP(C83,PivotGHRF!A:B,2,FALSE),\" \")","v":" "},"Not in TDSSA",0,{"$f":"IFERROR(VLOOKUP(C83,PivotESA!A:C,3,FALSE),\" \")","v":" "},0,{"$f":"IFERROR(VLOOKUP(C83,PivotGHRF!A:B,2,FALSE),\" \")","v":" "},"Not in TDSSA",0,{"$f":"IFERROR(VLOOKUP(C83,PivotGH!A:C,3,FALSE),\" \")","v":" "},0,{"$f":"IFERROR(VLOOKUP(C83,PivotGHRF!A:B,2,FALSE),\" \")","v":" "},"Not in TDSSA",0,{"$f":"IFERROR(VLOOKUP(C83,PivotGHRF!A:C,3,FALSE),\" \")","v":" "},0]
["Athletics","CISS Long Distance 3000m and greater","Athletics - CISS Long Distance 3000m and greater",{"$f":"IFERROR(VLOOKUP(C84,PivotGHRF!A:B,2,FALSE),\" \")","v":" "},"Not in TDSSA",0,{"$f":"IFERROR(VLOOKUP(C84,PivotESA!A:C,3,FALSE),\" \")","v":" "},0,{"$f":"IFERROR(VLOOKUP(C84,PivotGHRF!A:B,2,FALSE),\" \")","v":" "},"Not in TDSSA",0,{"$f":"IFERROR(VLOOKUP(C84,PivotGH!A:C,3,FALSE),\" \")","v":" "},0,{"$f":"IFERROR(VLOOKUP(C84,PivotGHRF!A:B,2,FALSE),\" \")","v":" "},"Not in TDSSA",0,{"$f":"IFERROR(VLOOKUP(C84,PivotGHRF!A:C,3,FALSE),\" \")","v":" "},0]
["Athletics","CISS Middle Distance 800-1500m","Athletics - CISS Middle Distance 800-1500m",{"$f":"IFERROR(VLOOKUP(C85,PivotGHRF!A:B,2,FALSE),\" \")","v":" "},"Not in TDSSA",0,{"$f":"IFERROR(VLOOKUP(C85,PivotESA!A:C,3,FALSE),\" \")","v":" "},0,{"$f":"IFERROR(VLOOKUP(C85,PivotGHRF!A:B,2,FALSE),\" \")","v":" "},"Not in TDSSA",0,{"$f":"IFERROR(VLOOKUP(C85,PivotGH!A:C,3,FALSE),\" \")","v":" "},0,{"$f":"IFERROR(VLOOKUP(C85,PivotGHRF!A:B,2,FALSE),\" \")","v":" "},"Not in TDSSA",0,{"$f":"IFERROR(VLOOKUP(C85,PivotGHRF!A:C,3,FALSE),\" \")","v":" "},0]
["Athletics","CISS Sprint 400m or less","Athletics - CISS Sprint 400m or less",{"$f":"IFERROR(VLOOKUP(C86,PivotGHRF!A:B,2,FALSE),\" \")","v":" "},"Not in TDSSA",0,{"$f":"IFERROR(VLOOKUP(C86,PivotESA!A:C,3,FALSE),\" \")","v":" "},0,{"$f":"IFERROR(VLOOKUP(C86,PivotGHRF!A:B,2,FALSE),\" \")","v":" "},"Not in TDSSA",0,{"$f":"IFERROR(VLOOKUP(C86,PivotGH!A:C,3,FALSE),\" \")","v":" "},0,{"$f":"IFERROR(VLOOKUP(C86,PivotGHRF!A:B,2,FALSE),\" \")","v":" "},"Not in TDSSA",0,{"$f":"IFERROR(VLOOKUP(C86,PivotGHRF!A:C,3,FALSE),\" \")","v":" "},0]
["Athletics","CISS Throws","Athletics - CISS Throws",{"$f":"IFERROR(VLOOKUP(C87,PivotGHRF!A:B,2,FALSE),\" \")","v":" "},"Not in TDSSA",0,{"$f":"IFERROR(VLOOKUP(C87,PivotESA!A:C,3,FALSE),\" \")","v":" "},0,{"$f":"IFERROR(VLOOKUP(C87,PivotGHRF!A:B,2,FALSE),\" \")","v":" "},"Not in TDSSA",0,{"$f":"IFERROR(VLOOKUP(C87,PivotGH!A:C,3,FALSE),\" \")","v":" "},0,{"$f":"IFERROR(VLOOKUP(C87,PivotGHRF!A:B,2,FALSE),\" \")","v":" "},"Not in TDSSA",0,{"$f":"IFERROR(VLOOKUP(C87,PivotGHRF!A:C,3,FALSE),\" \")","v":" "},0]
["Athletics","College Cross Country","Athletics - College Cross Country",{"$f":"IFERROR(VLOOKUP(C88,PivotGHRF!A:B,2,FALSE),\" \")","v":" "},"Not in TDSSA",0,{"$f":"IFERROR(VLOOKUP(C88,PivotESA!A:C,3,FALSE),\" \")","v":" "},0,{"$f":"IFERROR(VLOOKUP(C88,PivotGHRF!A:B,2,FALSE),\" \")","v":" "},"Not in TDSSA",0,{"$f":"IFERROR(VLOOKUP(C88,PivotGH!A:C,3,FALSE),\" \")","v":" "},0,{"$f":"IFERROR(VLOOKUP(C88,PivotGHRF!A:B,2,FALSE),\" \")","v":" "},"Not in TDSSA",0,{"$f":"IFERROR(VLOOKUP(C88,PivotGHRF!A:C,3,FALSE),\" \")","v":" "},0]
["Athletics","Discus Throwing (R)","Athletics - Discus Throwing (R)",{"$f":"IFERROR(VLOOKUP(C89,PivotGHRF!A:B,2,FALSE),\" \")","v":" "},0.05,0,{"$f":"IFERROR(VLOOKUP(C89,PivotESA!A:C,3,FALSE),\" \")","v":" "},0,{"$f":"IFERROR(VLOOKUP(C89,PivotGHRF!A:B,2,FALSE),\" \")","v":" "},0.15,0,{"$f":"IFERROR(VLOOKUP(C89,PivotGH!A:C,3,FALSE),\" \")","v":" "},0,{"$f":"IFERROR(VLOOKUP(C89,PivotGHRF!A:B,2,FALSE),\" \")","v":" "},0.15,0,{"$f":"IFERROR(VLOOKUP(C89,PivotGHRF!A:C,3,FALSE),\" \")","v":" "},0]
["Athletics","High Jump (R)","Athletics - High Jump (R)",{"$f":"IFERROR(VLOOKUP(C90,PivotGHRF!A:B,2,FALSE),\" \")","v":" "},0.1,0,{"$f":"IFERROR(VLOOKUP(C90,PivotESA!A:C,3,FALSE),\" \")","v":" "},0,{"$f":"IFERROR(VLOOKUP(C90,PivotGHRF!A:B,2,FALSE),\" \")","v":" "},0.15,0,{"$f":"IFERROR(VLOOKUP(C90,PivotGH!A:C,3,FALSE),\" \")","v":" "},0,{"$f":"IFERROR(VLOOKUP(C90,PivotGHRF!A:B,2,FALSE),\" \")","v":" "},0.15,0,{"$f":"IFERROR(VLOOKUP(C90,PivotGHRF!A:C,3,FALSE),\" \")","v":" "},0]
["Athletics","INAS Combined Events","Athletics - INAS Combined Events",{"$f":"IFERROR(VLOOKUP(C91,PivotGHRF!A:B,2,FALSE),\" \")","v":" "},"Not in TDSSA",0,{"$f":"IFERROR(VLOOKUP(C91,PivotESA!A:C,3,FALSE),\" \")","v":" "},0,{"$f":"IFERROR(VLOOKUP(C91,PivotGHRF!A:B,2,FALSE),\" \")","v":" "},"Not in TDSSA",0,{"$f":"IFERROR(VLOOKUP(C91,PivotGH!A:C,3,FALSE),\" \")","v":" "},0,{"$f":"IFERROR(VLOOKUP(C91,PivotGHRF!A:B,2,FALSE),\" \")","v":" "},"Not in TDSSA",0,{"$f":"IFERROR(VLOOKUP(C91,PivotGHRF!A:C,3,FALSE),\" \")","v":" "},0]
["Athletics","INAS Jumps","Athletics - INAS Jumps",{"$f":"IFERROR(VLOOKUP(C92,PivotGHRF!A:B,2,FALSE),\" \")","v":" "},"Not in TDSSA",0,{"$f":"IFERROR(VLOOKUP(C92,PivotESA!A:C,3,FALSE),\" \")","v":" "},0,{"$f":"IFERROR(VLOOKUP(C92,PivotGHRF!A:B,2,FALSE),\" \")","v":" "},"Not in TDSSA",0,{"$f":"IFERROR(VLOOKUP(C92,PivotGH!A:C,3,FALSE),\" \")","v":" "},0,{"$f":"IFERROR(VLOOKUP(C92,PivotGHRF!A:B,2,FALSE),\" \")","v":" "},"Not in TDSSA",0,{"$f":"IFERROR(VLOOKUP(C92,PivotGHRF!A:C,3,FALSE),\" \")","v":" "},0]
["Athletics","INAS Long Distance 3000m and greater","Athletics - INAS Long Distance 3000m and greater",{"$f":"IFERROR(VLOOKUP(C93,PivotGHRF!A:B,2,FALSE),\" \")","v":" "},"Not in TDSSA",0,{"$f":"IFERROR(VLOOKUP(C93,PivotESA!A:C,3,FALSE),\" \")","v":" "},0,{"$f":"IFERROR(VLOOKUP(C93,PivotGHRF!A:B,2,FALSE),\" \")","v":" "},"Not in TDSSA",0,{"$f":"IFERROR(VLOOKUP(C93,PivotGH!A:C,3,FALSE),\" \")","v":" "},0,{"$f":"IFERROR(VLOOKUP(C93,PivotGHRF!A:B,2,FALSE),\" \")","v":" "},"Not in TDSSA",0,{"$f":"IFERROR(VLOOKUP(C93,PivotGHRF!A:C,3,FALSE),\" \")","v":" "},0]
["Athletics","INAS Middle Distance 800-1500m","Athletics - INAS Middle Distance 800-1500m",{"$f":"IFERROR(VLOOKUP(C94,PivotGHRF!A:B,2,FALSE),\" \")","v":" "},"Not in TDSSA",0,{"$f":"IFERROR(VLOOKUP(C94,PivotESA!A:C,3,FALSE),\" \")","v":" "},0,{"$f":"IFERROR(VLOOKUP(C94,PivotGHRF!A:B,2,FALSE),\" \")","v":" "},"Not in TDSSA",0,{"$f":"IFERROR(VLOOKUP(C94,PivotGH!A:C,3,FALSE),\" \")","v":" "},0,{"$f":"IFERROR(VLOOKUP(C94,PivotGHRF!A:B,2,FALSE),\" \")","v":" "},"Not in TDSSA",0,{"$f":"IFERROR(VLOOKUP(C94,PivotGHRF!A:C,3,FALSE),\" \")","v":" "},0]
["Athletics","INAS Sprint 400m or less","Athletics - INAS Sprint 400m or less",{"$f":"IFERROR(VLOOKUP(C95,PivotGHRF!A:B,2,FALSE),\" \")","v":" "},"Not in TDSSA",0,{"$f":"IFERROR(VLOOKUP(C95,PivotESA!A:C,3,FALSE),\" \")","v":" "},0,{"$f":"IFERROR(VLOOKUP(C95,PivotGHRF!A:B,2,FALSE),\" \")","v":" "},"Not in TDSSA",0,{"$f":"IFERROR(VLOOKUP(C95,PivotGH!A:C,3,FALSE),\" \")","v":" "},0,{"$f":"IFERROR(VLOOKUP(C95,PivotGHRF!A:B,2,FALSE),\" \")","v":" "},"Not in TDSSA",0,{"$f":"IFERROR(VLOOKUP(C95,PivotGHRF!A:C,3,FALSE),\" \")","v":" "},0]
["Athletics","INAS Throws","Athletics - INAS Throws",{"$f":"IFERROR(VLOOKUP(C96,PivotGHRF!A:B,2,FALSE),\" \")","v":" "},"Not in TDSSA",0,{"$f":"IFERROR(VLOOKUP(C96,PivotESA!A:C,3,FALSE),\" \")","v":" "},0,{"$f":"IFERROR(VLOOKUP(C96,PivotGHRF!A:B,2,FALSE),\" \")","v":" "},"Not in TDSSA",0,{"$f":"IFERROR(VLOOKUP(C96,PivotGH!A:C,3,FALSE),\" \")","v":" "},0,{"$f":"IFERROR(VLOOKUP(C96,PivotGHRF!A:B,2,FALSE),\" \")","v":" "},"Not in TDSSA",0,{"$f":"IFERROR(VLOOKUP(C96,PivotGHRF!A:C,3,FALSE),\" \")","v":" "},0]
["Athletics","IBSA Athletics","Athletics - IBSA Athletics",{"$f":"IFERROR(VLOOKUP(C97,PivotGHRF!A:B,2,FALSE),\" \")","v":" "},"Not in TDSSA",0,{"$f":"IFERROR(VLOOKUP(C97,PivotESA!A:C,3,FALSE),\" \")","v":" "},0,{"$f":"IFERROR(VLOOKUP(C97,PivotGHRF!A:B,2,FALSE),\" \")","v":" "},"Not in TDSSA",0,{"$f":"IFERROR(VLOOKUP(C97,PivotGH!A:C,3,FALSE),\" \")","v":" "},0,{"$f":"IFERROR(VLOOKUP(C97,PivotGHRF!A:B,2,FALSE),\" \")","v":" "},"Not in TDSSA",0,{"$f":"IFERROR(VLOOKUP(C97,PivotGHRF!A:C,3,FALSE),\" \")","v":" "},0]
["Athletics","INAS Athletics","Athletics - INAS Athletics",{"$f":"IFERROR(VLOOKUP(C98,PivotGHRF!A:B,2,FALSE),\" \")","v":" "},"Not in TDSSA",0,{"$f":"IFERROR(VLOOKUP(C98,PivotESA!A:C,3,FALSE),\" \")","v":" "},0,{"$f":"IFERROR(VLOOKUP(C98,PivotGHRF!A:B,2,FALSE),\" \")","v":" "},"Not in TDSSA",0,{"$f":"IFERROR(VLOOKUP(C98,PivotGH!A:C,3,FALSE),\" \")","v":" "},0,{"$f":"IFERROR(VLOOKUP(C98,PivotGHRF!A:B,2,FALSE),\" \")","v":" "},"Not in TDSSA",0,{"$f":"IFERROR(VLOOKUP(C98,PivotGHRF!A:C,3,FALSE),\" \")","v":" "},0]
["Athletics","Military Athletics","Athletics - Military Athletics",{"$f":"IFERROR(VLOOKUP(C99,PivotGHRF!A:B,2,FALSE),\" \")","v":" "},"Not in TDSSA",0,{"$f":"IFERROR(VLOOKUP(C99,PivotESA!A:C,3,FALSE),\" \")","v":" "},0,{"$f":"IFERROR(VLOOKUP(C99,PivotGHRF!A:B,2,FALSE),\" \")","v":" "},"Not in TDSSA",0,{"$f":"IFERROR(VLOOKUP(C99,PivotGH!A:C,3,FALSE),\" \")","v":" "},0,{"$f":"IFERROR(VLOOKUP(C99,PivotGHRF!A:B,2,FALSE),\" \")","v":" "},"Not in TDSSA",0,{"$f":"IFERROR(VLOOKUP(C99,PivotGHRF!A:C,3,FALSE),\" \")","v":" "},0]
["Athletics","Military Jumps","Athletics - Military Jumps",{"$f":"IFERROR(VLOOKUP(C100,PivotGHRF!A:B,2,FALSE),\" \")","v":" "},"Not in TDSSA",0,{"$f":"IFERROR(VLOOKUP(C100,PivotESA!A:C,3,FALSE),\" \")","v":" "},0,{"$f":"IFERROR(VLOOKUP(C100,PivotGHRF!A:B,2,FALSE),\" \")","v":" "},"Not in TDSSA",0,{"$f":"IFERROR(VLOOKUP(C100,PivotGH!A:C,3,FALSE),\" \")","v":" "},0,{"$f":"IFERROR(VLOOKUP(C100,PivotGHRF!A:B,2,FALSE),\" \")","v":" "},"Not in TDSSA",0,{"$f":"IFERROR(VLOOKUP(C100,PivotGHRF!A:C,3,FALSE),\" \")","v":" "},0]
["Athletics","Military Long Distance 3000m or greater","Athletics - Military Long Distance 3000m or greater",{"$f":"IFERROR(VLOOKUP(C101,PivotGHRF!A:B,2,FALSE),\" \")","v":" "},"Not in TDSSA",0,{"$f":"IFERROR(VLOOKUP(C101,PivotESA!A:C,3,FALSE),\" \")","v":" "},0,{"$f":"IFERROR(VLOOKUP(C101,PivotGHRF!A:B,2,FALSE),\" \")","v":" "},"Not in TDSSA",0,{"$f":"IFERROR(VLOOKUP(C101,PivotGH!A:C,3,FALSE),\" \")","v":" "},0,{"$f":"IFERROR(VLOOKUP(C101,PivotGHRF!A:B,2,FALSE),\" \")","v":" "},"Not in TDSSA",0,{"$f":"IFERROR(VLOOKUP(C101,PivotGHRF!A:C,3,FALSE),\" \")","v":" "},0]
["Athletics","Military Middle Distance 800-1500m","Athletics - Military Middle Distance 800-1500m",{"$f":"IFERROR(VLOOKUP(C102,PivotGHRF!A:B,2,FALSE),\" \")","v":" "},"Not in TDSSA",0,{"$f":"IFERROR(VLOOKUP(C102,PivotESA!A:C,3,FALSE),\" \")","v":" "},0,{"$f":"IFERROR(VLOOKUP(C102,PivotGHRF!A:B,2,FALSE),\" \")","v":" "},"Not in TDSSA",0,{"$f":"IFERROR(VLOOKUP(C102,PivotGH!A:C,3,FALSE),\" \")","v":" "},0,{"$f":"IFERROR(VLOOKUP(C102,PivotGHRF!A:B,2,FALSE),\" \")","v":" "},"Not in TDSSA",0,{"$f":"IFERROR(VLOOKUP(C102,PivotGHRF!A:C,3,FALSE),\" \")","v":" "},0]
["Athletics","Military Sprint 400m or less","Athletics - Military Sprint 400m or less",{"$f":"IFERROR(VLOOKUP(C103,PivotGHRF!A:B,2,FALSE),\" \")","v":" "},"Not in TDSSA",0,{"$f":"IFERROR(VLOOKUP(C103,PivotESA!A:C,3,FALSE),\" \")","v":" "},0,{"$f":"IFERROR(VLOOKUP(C103,PivotGHRF!A:B,2,FALSE),\" \")","v":" "},"Not in TDSSA",0,{"$f":"IFERROR(VLOOKUP(C103,PivotGH!A:C,3,FALSE),\" \")","v":" "},0,{"$f":"IFERROR(VLOOKUP(C103,PivotGHRF!A:B,2,FALSE),\" \")","v":" "},"Not in TDSSA",0,{"$f":"IFERROR(VLOOKUP(C103,PivotGHRF!A:C,3,FALSE),\" \")","v":" "},0]
["Athletics","Military Throws","Athletics - Military Throws",{"$f":"IFERROR(VLOOKUP(C104,PivotGHRF!A:B,2,FALSE),\" \")","v":" "},"Not in TDSSA",0,{"$f":"IFERROR(VLOOKUP(C104,PivotESA!A:C,3,FALSE),\" \")","v":" "},0,{"$f":"IFERROR(VLOOKUP(C104,PivotGHRF!A:B,2,FALSE),\" \")","v":" "},"Not in TDSSA",0,{"$f":"IFERROR(VLOOKUP(C104,PivotGH!A:C,3,FALSE),\" \")","v":" "},0,{"$f":"IFERROR(VLOOKUP(C104,PivotGHRF!A:B,2,FALSE),\" \")","v":" "},"Not in TDSSA",0,{"$f":"IFERROR(VLOOKUP(C104,PivotGHRF!A:C,3,FALSE),\" \")","v":" "},0]
["Athletics","Military Combined Events","Athletics - Military Combined Events",{"$f":"IFERROR(VLOOKUP(C105,PivotGHRF!A:B,2,FALSE),\" \")","v":" "},"Not in TDSSA",0,{"$f":"IFERROR(VLOOKUP(C105,PivotESA!A:C,3,FALSE),\" \")","v":" "},0,{"$f":"IFERROR(VLOOKUP(C105,PivotGHRF!A:B,2,FALSE),\" \")","v":" "},"Not in TDSSA",0,{"$f":"IFERROR(VLOOKUP(C105,PivotGH!A:C,3,FALSE),\" \")","v":" "},0,{"$f":"IFERROR(VLOOKUP(C105,PivotGHRF!A:B,2,FALSE),\" \")","v":" "},"Not in TDSSA",0,{"$f":"IFERROR(VLOOKUP(C105,PivotGHRF!A:C,3,FALSE),\" \")","v":" "},0]
["Athletics","Military Cross Country","Athletics - Military Cross Country",{"$f":"IFERROR(VLOOKUP(C106,PivotGHRF!A:B,2,FALSE),\" \")","v":" "},"Not in TDSSA",0,{"$f":"IFERROR(VLOOKUP(C106,PivotESA!A:C,3,FALSE),\" \")","v":" "},0,{"$f":"IFERROR(VLOOKUP(C106,PivotGHRF!A:B,2,FALSE),\" \")","v":" "},"Not in TDSSA",0,{"$f":"IFERROR(VLOOKUP(C106,PivotGH!A:C,3,FALSE),\" \")","v":" "},0,{"$f":"IFERROR(VLOOKUP(C106,PivotGHRF!A:B,2,FALSE),\" \")","v":" "},"Not in TDSSA",0,{"$f":"IFERROR(VLOOKUP(C106,PivotGHRF!A:C,3,FALSE),\" \")","v":" "},0]
["Athletics","Military Marathon Track and Field","Athletics - Military Marathon Track and Field",{"$f":"IFERROR(VLOOKUP(C107,PivotGHRF!A:B,2,FALSE),\" \")","v":" "},"Not in TDSSA",0,{"$f":"IFERROR(VLOOKUP(C107,PivotESA!A:C,3,FALSE),\" \")","v":" "},0,{"$f":"IFERROR(VLOOKUP(C107,PivotGHRF!A:B,2,FALSE),\" \")","v":" "},"Not in TDSSA",0,{"$f":"IFERROR(VLOOKUP(C107,PivotGH!A:C,3,FALSE),\" \")","v":" "},0,{"$f":"IFERROR(VLOOKUP(C107,PivotGHRF!A:B,2,FALSE),\" \")","v":" "},"Not in TDSSA",0,{"$f":"IFERROR(VLOOKUP(C107,PivotGHRF!A:C,3,FALSE),\" \")","v":" "},0]
["Athletics","IPC Combined Events (R)","Athletics - IPC Combined Events (R)",{"$f":"IFERROR(VLOOKUP(C108,PivotGHRF!A:B,2,FALSE),\" \")","v":" "},0.15,0,{"$f":"IFERROR(VLOOKUP(C108,PivotESA!A:C,3,FALSE),\" \")","v":" "},0,{"$f":"IFERROR(VLOOKUP(C108,PivotGHRF!A:B,2,FALSE),\" \")","v":" "},0.1,0,{"$f":"IFERROR(VLOOKUP(C108,PivotGH!A:C,3,FALSE),\" \")","v":" "},0,{"$f":"IFERROR(VLOOKUP(C108,PivotGHRF!A:B,2,FALSE),\" \")","v":" "},0.1,0,{"$f":"IFERROR(VLOOKUP(C108,PivotGHRF!A:C,3,FALSE),\" \")","v":" "},0]
["Athletics","IPC Jumps (R)","Athletics - IPC Jumps (R)",{"$f":"IFERROR(VLOOKUP(C109,PivotGHRF!A:B,2,FALSE),\" \")","v":" "},0.05,0,{"$f":"IFERROR(VLOOKUP(C109,PivotESA!A:C,3,FALSE),\" \")","v":" "},0,{"$f":"IFERROR(VLOOKUP(C109,PivotGHRF!A:B,2,FALSE),\" \")","v":" "},0.1,0,{"$f":"IFERROR(VLOOKUP(C109,PivotGH!A:C,3,FALSE),\" \")","v":" "},0,{"$f":"IFERROR(VLOOKUP(C109,PivotGHRF!A:B,2,FALSE),\" \")","v":" "},0.1,0,{"$f":"IFERROR(VLOOKUP(C109,PivotGHRF!A:C,3,FALSE),\" \")","v":" "},0]
["Athletics","IPC Long Distance 3000m+ (R)","Athletics - IPC Long Distance 3000m+ (R)",{"$f":"IFERROR(VLOOKUP(C110,PivotGHRF!A:B,2,FALSE),\" \")","v":" "},0.3,0,{"$f":"IFERROR(VLOOKUP(C110,PivotESA!A:C,3,FALSE),\" \")","v":" "},0,{"$f":"IFERROR(VLOOKUP(C110,PivotGHRF!A:B,2,FALSE),\" \")","v":" "},0.05,0,{"$f":"IFERROR(VLOOKUP(C110,PivotGH!A:C,3,FALSE),\" \")","v":" "},0,{"$f":"IFERROR(VLOOKUP(C110,PivotGHRF!A:B,2,FALSE),\" \")","v":" "},0.05,0,{"$f":"IFERROR(VLOOKUP(C110,PivotGHRF!A:C,3,FALSE),\" \")","v":" "},0]
["Athletics","IPC Middle Distance 800-1500m (R)","Athletics - IPC Middle Distance 800-1500m (R)",{"$f":"IFERROR(VLOOKUP(C111,PivotGHRF!A:B,2,FALSE),\" \")","v":" "},0.3,0,{"$f":"IFERROR(VLOOKUP(C111,PivotESA!A:C,3,FALSE),\" \")","v":" "},0,{"$f":"IFERROR(VLOOKUP(C111,PivotGHRF!A:B,2,FALSE),\" \")","v":" "},0.05,0,{"$f":"IFERROR(VLOOKUP(C111,PivotGH!A:C,3,FALSE),\" \")","v":" "},0,{"$f":"IFERROR(VLOOKUP(C111,PivotGHRF!A:B,2,FALSE),\" \")","v":" "},0.05,0,{"$f":"IFERROR(VLOOKUP(C111,PivotGHRF!A:C,3,FALSE),\" \")","v":" "},0]
["Athletics","IPC Sprint 400m or less (R)","Athletics - IPC Sprint 400m or less (R)",{"$f":"IFERROR(VLOOKUP(C112,PivotGHRF!A:B,2,FALSE),\" \")","v":" "},0.05,0,{"$f":"IFERROR(VLOOKUP(C112,PivotESA!A:C,3,FALSE),\" \")","v":" "},0,{"$f":"IFERROR(VLOOKUP(C112,PivotGHRF!A:B,2,FALSE),\" \")","v":" "},0.1,0,{"$f":"IFERROR(VLOOKUP(C112,PivotGH!A:C,3,FALSE),\" \")","v":" "},0,{"$f":"IFERROR(VLOOKUP(C112,PivotGHRF!A:B,2,FALSE),\" \")","v":" "},0.1,0,{"$f":"IFERROR(VLOOKUP(C112,PivotGHRF!A:C,3,FALSE),\" \")","v":" "},0]
["Athletics","IPC Throws (R)","Athletics - IPC Throws (R)",{"$f":"IFERROR(VLOOKUP(C113,PivotGHRF!A:B,2,FALSE),\" \")","v":" "},0.05,0,{"$f":"IFERROR(VLOOKUP(C113,PivotESA!A:C,3,FALSE),\" \")","v":" "},0,{"$f":"IFERROR(VLOOKUP(C113,PivotGHRF!A:B,2,FALSE),\" \")","v":" "},0.1,0,{"$f":"IFERROR(VLOOKUP(C113,PivotGH!A:C,3,FALSE),\" \")","v":" "},0,{"$f":"IFERROR(VLOOKUP(C113,PivotGHRF!A:B,2,FALSE),\" \")","v":" "},0.1,0,{"$f":"IFERROR(VLOOKUP(C113,PivotGHRF!A:C,3,FALSE),\" \")","v":" "},0]
["Athletics","Shot-put (R)","Athletics - Shot-put (R)",{"$f":"IFERROR(VLOOKUP(C114,PivotGHRF!A:B,2,FALSE),\" \")","v":" "},0.05,0,{"$f":"IFERROR(VLOOKUP(C114,PivotESA!A:C,3,FALSE),\" \")","v":" "},0,{"$f":"IFERROR(VLOOKUP(C114,PivotGHRF!A:B,2,FALSE),\" \")","v":" "},0.15,0,{"$f":"IFERROR(VLOOKUP(C114,PivotGH!A:C,3,FALSE),\" \")","v":" "},0,{"$f":"IFERROR(VLOOKUP(C114,PivotGHRF!A:B,2,FALSE),\" \")","v":" "},0.15,0,{"$f":"IFERROR(VLOOKUP(C114,PivotGHRF!A:C,3,FALSE),\" \")","v":" "},0]
["Athletics","University","Athletics - University",{"$f":"IFERROR(VLOOKUP(C115,PivotGHRF!A:B,2,FALSE),\" \")","v":" "},"Not in TDSSA",0,{"$f":"IFERROR(VLOOKUP(C115,PivotESA!A:C,3,FALSE),\" \")","v":" "},0,{"$f":"IFERROR(VLOOKUP(C115,PivotGHRF!A:B,2,FALSE),\" \")","v":" "},"Not in TDSSA",0,{"$f":"IFERROR(VLOOKUP(C115,PivotGH!A:C,3,FALSE),\" \")","v":" "},0,{"$f":"IFERROR(VLOOKUP(C115,PivotGHRF!A:B,2,FALSE),\" \")","v":" "},"Not in TDSSA",0,{"$f":"IFERROR(VLOOKUP(C115,PivotGHRF!A:C,3,FALSE),\" \")","v":" "},0]
["Athletics","University Combined Events","Athletics - University Combined Events",{"$f":"IFERROR(VLOOKUP(C116,PivotGHRF!A:B,2,FALSE),\" \")","v":" "},"Not in TDSSA",0,{"$f":"IFERROR(VLOOKUP(C116,PivotESA!A:C,3,FALSE),\" \")","v":" "},0,{"$f":"IFERROR(VLOOKUP(C116,PivotGHRF!A:B,2,FALSE),\" \")","v":" "},"Not in TDSSA",0,{"$f":"IFERROR(VLOOKUP(C116,PivotGH!A:C,3,FALSE),\" \")","v":" "},0,{"$f":"IFERROR(VLOOKUP(C116,PivotGHRF!A:B,2,FALSE),\" \")","v":" "},"Not in TDSSA",0,{"$f":"IFERROR(VLOOKUP(C116,PivotGHRF!A:C,3,FALSE),\" \")","v":" "},0]
["Athletics","University Jumps","Athletics - University Jumps",{"$f":"IFERROR(VLOOKUP(C117,PivotGHRF!A:B,2,FALSE),\" \")","v":" "},"Not in TDSSA",0,{"$f":"IFERROR(VLOOKUP(C117,PivotESA!A:C,3,FALSE),\" \")","v":" "},0,{"$f":"IFERROR(VLOOKUP(C117,PivotGHRF!A:B,2,FALSE),\" \")","v":" "},"Not in TDSSA",0,{"$f":"IFERROR(VLOOKUP(C117,PivotGH!A:C,3,FALSE),\" \")","v":" "},0,{"$f":"IFERROR(VLOOKUP(C117,PivotGHRF!A:B,2,FALSE),\" \")","v":" "},"Not in TDSSA",0,{"$f":"IFERROR(VLOOKUP(C117,PivotGHRF!A:C,3,FALSE),\" \")","v":" "},0]
["Athletics","University Long Distance 3000m or greater","Athletics - University Long Distance 3000m or greater",{"$f":"IFERROR(VLOOKUP(C118,PivotGHRF!A:B,2,FALSE),\" \")","v":" "},"Not in TDSSA",0,{"$f":"IFERROR(VLOOKUP(C118,PivotESA!A:C,3,FALSE),\" \")","v":" "},0,{"$f":"IFERROR(VLOOKUP(C118,PivotGHRF!A:B,2,FALSE),\" \")","v":" "},"Not in TDSSA",0,{"$f":"IFERROR(VLOOKUP(C118,PivotGH!A:C,3,FALSE),\" \")","v":" "},0,{"$f":"IFERROR(VLOOKUP(C118,PivotGHRF!A:B,2,FALSE),\" \")","v":" "},"Not in TDSSA",0,{"$f":"IFERROR(VLOOKUP(C118,PivotGHRF!A:C,3,FALSE),\" \")","v":" "},0]
["Athletics","University Middle Distance 800-1500m","Athletics - University Middle Distance 800-1500m",{"$f":"IFERROR(VLOOKUP(C119,PivotGHRF!A:B,2,FALSE),\" \")","v":" "},"Not in TDSSA",0,{"$f":"IFERROR(VLOOKUP(C119,PivotESA!A:C,3,FALSE),\" \")","v":" "},0,{"$f":"IFERROR(VLOOKUP(C119,PivotGHRF!A:B,2,FALSE),\" \")","v":" "},"Not in TDSSA",0,{"$f":"IFERROR(VLOOKUP(C119,PivotGH!A:C,3,FALSE),\" \")","v":" "},0,{"$f":"IFERROR(VLOOKUP(C119,PivotGHRF!A:B,2,FALSE),\" \")","v":" "},"Not in TDSSA",0,{"$f":"IFERROR(VLOOKUP(C119,PivotGHRF!A:C,3,FALSE),\" \")","v":" "},0]
["Athletics","University Sprint 400m or less","Athletics - University Sprint 400m or less",{"$f":"IFERROR(VLOOKUP(C120,PivotGHRF!A:B,2,FALSE),\" \")","v":" "},"Not in TDSSA",0,{"$f":"IFERROR(VLOOKUP(C120,PivotESA!A:C,3,FALSE),\" \")","v":" "},0,{"$f":"IFERROR(VLOOKUP(C120,PivotGHRF!A:B,2,FALSE),\" \")","v":" "},"Not in TDSSA",0,{"$f":"IFERROR(VLOOKUP(C120,PivotGH!A:C,3,FALSE),\" \")","v":" "},0,{"$f":"IFERROR(VLOOKUP(C120,PivotGHRF!A:B,2,FALSE),\" \")","v":" "},"Not in TDSSA",0,{"$f":"IFERROR(VLOOKUP(C120,PivotGHRF!A:C,3,FALSE),\" \")","v":" "},0]
["Athletics","University Throws","Athletics - University Throws",{"$f":"IFERROR(VLOOKUP(C121,PivotGHRF!A:B,2,FALSE),\" \")","v":" "},"Not in TDSSA",0,{"$f":"IFERROR(VLOOKUP(C121,PivotESA!A:C,3,FALSE),\" \")","v":" "},0,{"$f":"IFERROR(VLOOKUP(C121,PivotGHRF!A:B,2,FALSE),\" \")","v":" "},"Not in TDSSA",0,{"$f":"IFERROR(VLOOKUP(C121,PivotGH!A:C,3,FALSE),\" \")","v":" "},0,{"$f":"IFERROR(VLOOKUP(C121,PivotGHRF!A:B,2,FALSE),\" \")","v":" "},"Not in TDSSA",0,{"$f":"IFERROR(VLOOKUP(C121,PivotGHRF!A:C,3,FALSE),\" \")","v":" "},0]
["Athletics","University Cross Country","Athletics - University Cross Country",{"$f":"IFERROR(VLOOKUP(C122,PivotGHRF!A:B,2,FALSE),\" \")","v":" "},"Not in TDSSA",0,{"$f":"IFERROR(VLOOKUP(C122,PivotESA!A:C,3,FALSE),\" \")","v":" "},0,{"$f":"IFERROR(VLOOKUP(C122,PivotGHRF!A:B,2,FALSE),\" \")","v":" "},"Not in TDSSA",0,{"$f":"IFERROR(VLOOKUP(C122,PivotGH!A:C,3,FALSE),\" \")","v":" "},0,{"$f":"IFERROR(VLOOKUP(C122,PivotGHRF!A:B,2,FALSE),\" \")","v":" "},"Not in TDSSA",0,{"$f":"IFERROR(VLOOKUP(C122,PivotGHRF!A:C,3,FALSE),\" \")","v":" "},0]
["Athletics","University Track & Field (R)","Athletics - University Track & Field (R)",{"$f":"IFERROR(VLOOKUP(C123,PivotGHRF!A:B,2,FALSE),\" \")","v":" "},"Not in TDSSA",0,{"$f":"IFERROR(VLOOKUP(C123,PivotESA!A:C,3,FALSE),\" \")","v":" "},0,{"$f":"IFERROR(VLOOKUP(C123,PivotGHRF!A:B,2,FALSE),\" \")","v":" "},"Not in TDSSA",0,{"$f":"IFERROR(VLOOKUP(C123,PivotGH!A:C,3,FALSE),\" \")","v":" "},0,{"$f":"IFERROR(VLOOKUP(C123,PivotGHRF!A:B,2,FALSE),\" \")","v":" "},"Not in TDSSA",0,{"$f":"IFERROR(VLOOKUP(C123,PivotGHRF!A:C,3,FALSE),\" \")","v":" "},0]
["Athletics","Veteran Athletics","Athletics - Veteran Athletics",{"$f":"IFERROR(VLOOKUP(C124,PivotGHRF!A:B,2,FALSE),\" \")","v":" "},"Not in TDSSA",0,{"$f":"IFERROR(VLOOKUP(C124,PivotESA!A:C,3,FALSE),\" \")","v":" "},0,{"$f":"IFERROR(VLOOKUP(C124,PivotGHRF!A:B,2,FALSE),\" \")","v":" "},"Not in TDSSA",0,{"$f":"IFERROR(VLOOKUP(C124,PivotGH!A:C,3,FALSE),\" \")","v":" "},0,{"$f":"IFERROR(VLOOKUP(C124,PivotGHRF!A:B,2,FALSE),\" \")","v":" "},"Not in TDSSA",0,{"$f":"IFERROR(VLOOKUP(C124,PivotGHRF!A:C,3,FALSE),\" \")","v":" "},0]
["Athletics","WMA Masters Athletics","Athletics - WMA Masters Athletics",{"$f":"IFERROR(VLOOKUP(C125,PivotGHRF!A:B,2,FALSE),\" \")","v":" "},"Not in TDSSA",0,{"$f":"IFERROR(VLOOKUP(C125,PivotESA!A:C,3,FALSE),\" \")","v":" "},0,{"$f":"IFERROR(VLOOKUP(C125,PivotGHRF!A:B,2,FALSE),\" \")","v":" "},"Not in TDSSA",0,{"$f":"IFERROR(VLOOKUP(C125,PivotGH!A:C,3,FALSE),\" \")","v":" "},0,{"$f":"IFERROR(VLOOKUP(C125,PivotGHRF!A:B,2,FALSE),\" \")","v":" "},"Not in TDSSA",0,{"$f":"IFERROR(VLOOKUP(C125,PivotGHRF!A:C,3,FALSE),\" \")","v":" "},0]
["Athletics","IPC Wheelchair Road Race (R)","Athletics - IPC Wheelchair Road Race (R)",{"$f":"IFERROR(VLOOKUP(C126,PivotGHRF!A:B,2,FALSE),\" \")","v":" "},0.3,0,{"$f":"IFERROR(VLOOKUP(C126,PivotESA!A:C,3,FALSE),\" \")","v":" "},0,{"$f":"IFERROR(VLOOKUP(C126,PivotGHRF!A:B,2,FALSE),\" \")","v":" "},0.05,0,{"$f":"IFERROR(VLOOKUP(C126,PivotGH!A:C,3,FALSE),\" \")","v":" "},0,{"$f":"IFERROR(VLOOKUP(C126,PivotGHRF!A:B,2,FALSE),\" \")","v":" "},0.05,0,{"$f":"IFERROR(VLOOKUP(C126,PivotGHRF!A:C,3,FALSE),\" \")","v":" "},0]
["Australian Rules Football","Australian Rules Football","Australian Rules Football - Australian Rules Football",{"$f":"IFERROR(VLOOKUP(C127,PivotGHRF!A:B,2,FALSE),\" \")","v":" "},"Not in TDSSA",0,{"$f":"IFERROR(VLOOKUP(C127,PivotESA!A:C,3,FALSE),\" \")","v":" "},0,{"$f":"IFERROR(VLOOKUP(C127,PivotGHRF!A:B,2,FALSE),\" \")","v":" "},"Not in TDSSA",0,{"$f":"IFERROR(VLOOKUP(C127,PivotGH!A:C,3,FALSE),\" \")","v":" "},0,{"$f":"IFERROR(VLOOKUP(C127,PivotGHRF!A:B,2,FALSE),\" \")","v":" "},"Not in TDSSA",0,{"$f":"IFERROR(VLOOKUP(C127,PivotGHRF!A:C,3,FALSE),\" \")","v":" "},0]
["Automobile Sports","Automobile Sports","Automobile Sports - Automobile Sports",{"$f":"IFERROR(VLOOKUP(C128,PivotGHRF!A:B,2,FALSE),\" \")","v":" "},0.05,0,{"$f":"IFERROR(VLOOKUP(C128,PivotESA!A:C,3,FALSE),\" \")","v":" "},0,{"$f":"IFERROR(VLOOKUP(C128,PivotGHRF!A:B,2,FALSE),\" \")","v":" "},0,0,{"$f":"IFERROR(VLOOKUP(C128,PivotGH!A:C,3,FALSE),\" \")","v":" "},0,{"$f":"IFERROR(VLOOKUP(C128,PivotGHRF!A:B,2,FALSE),\" \")","v":" "},0,0,{"$f":"IFERROR(VLOOKUP(C128,PivotGHRF!A:C,3,FALSE),\" \")","v":" "},0]
["Automobile Sports","Auto Cross","Automobile Sports - Auto Cross",{"$f":"IFERROR(VLOOKUP(C129,PivotGHRF!A:B,2,FALSE),\" \")","v":" "},0.05,0,{"$f":"IFERROR(VLOOKUP(C129,PivotESA!A:C,3,FALSE),\" \")","v":" "},0,{"$f":"IFERROR(VLOOKUP(C129,PivotGHRF!A:B,2,FALSE),\" \")","v":" "},0,0,{"$f":"IFERROR(VLOOKUP(C129,PivotGH!A:C,3,FALSE),\" \")","v":" "},0,{"$f":"IFERROR(VLOOKUP(C129,PivotGHRF!A:B,2,FALSE),\" \")","v":" "},0,0,{"$f":"IFERROR(VLOOKUP(C129,PivotGHRF!A:C,3,FALSE),\" \")","v":" "},0]
["Automobile Sports","Formula 1","Automobile Sports - Formula 1",{"$f":"IFERROR(VLOOKUP(C130,PivotGHRF!A:B,2,FALSE),\" \")","v":" "},0.05,0,{"$f":"IFERROR(VLOOKUP(C130,PivotESA!A:C,3,FALSE),\" \")","v":" "},0,{"$f":"IFERROR(VLOOKUP(C130,PivotGHRF!A:B,2,FALSE),\" \")","v":" "},0,0,{"$f":"IFERROR(VLOOKUP(C130,PivotGH!A:C,3,FALSE),\" \")","v":" "},0,{"$f":"IFERROR(VLOOKUP(C130,PivotGHRF!A:B,2,FALSE),\" \")","v":" "},0,0,{"$f":"IFERROR(VLOOKUP(C130,PivotGHRF!A:C,3,FALSE),\" \")","v":" "},0]
["Automobile Sports","GT1","Automobile Sports - GT1",{"$f":"IFERROR(VLOOKUP(C131,PivotGHRF!A:B,2,FALSE),\" \")","v":" "},0.05,0,{"$f":"IFERROR(VLOOKUP(C131,PivotESA!A:C,3,FALSE),\" \")","v":" "},0,{"$f":"IFERROR(VLOOKUP(C131,PivotGHRF!A:B,2,FALSE),\" \")","v":" "},0,0,{"$f":"IFERROR(VLOOKUP(C131,PivotGH!A:C,3,FALSE),\" \")","v":" "},0,{"$f":"IFERROR(VLOOKUP(C131,PivotGHRF!A:B,2,FALSE),\" \")","v":" "},0,0,{"$f":"IFERROR(VLOOKUP(C131,PivotGHRF!A:C,3,FALSE),\" \")","v":" "},0]
["Automobile Sports","Karting","Automobile Sports - Karting",{"$f":"IFERROR(VLOOKUP(C132,PivotGHRF!A:B,2,FALSE),\" \")","v":" "},0.05,0,{"$f":"IFERROR(VLOOKUP(C132,PivotESA!A:C,3,FALSE),\" \")","v":" "},0,{"$f":"IFERROR(VLOOKUP(C132,PivotGHRF!A:B,2,FALSE),\" \")","v":" "},0,0,{"$f":"IFERROR(VLOOKUP(C132,PivotGH!A:C,3,FALSE),\" \")","v":" "},0,{"$f":"IFERROR(VLOOKUP(C132,PivotGHRF!A:B,2,FALSE),\" \")","v":" "},0,0,{"$f":"IFERROR(VLOOKUP(C132,PivotGHRF!A:C,3,FALSE),\" \")","v":" "},0]
["Automobile Sports","Rally","Automobile Sports - Rally",{"$f":"IFERROR(VLOOKUP(C133,PivotGHRF!A:B,2,FALSE),\" \")","v":" "},0.05,0,{"$f":"IFERROR(VLOOKUP(C133,PivotESA!A:C,3,FALSE),\" \")","v":" "},0,{"$f":"IFERROR(VLOOKUP(C133,PivotGHRF!A:B,2,FALSE),\" \")","v":" "},0,0,{"$f":"IFERROR(VLOOKUP(C133,PivotGH!A:C,3,FALSE),\" \")","v":" "},0,{"$f":"IFERROR(VLOOKUP(C133,PivotGHRF!A:B,2,FALSE),\" \")","v":" "},0,0,{"$f":"IFERROR(VLOOKUP(C133,PivotGHRF!A:C,3,FALSE),\" \")","v":" "},0]
["Automobile Sports","Sprintcar","Automobile Sports - Sprintcar",{"$f":"IFERROR(VLOOKUP(C134,PivotGHRF!A:B,2,FALSE),\" \")","v":" "},0.05,0,{"$f":"IFERROR(VLOOKUP(C134,PivotESA!A:C,3,FALSE),\" \")","v":" "},0,{"$f":"IFERROR(VLOOKUP(C134,PivotGHRF!A:B,2,FALSE),\" \")","v":" "},0,0,{"$f":"IFERROR(VLOOKUP(C134,PivotGH!A:C,3,FALSE),\" \")","v":" "},0,{"$f":"IFERROR(VLOOKUP(C134,PivotGHRF!A:B,2,FALSE),\" \")","v":" "},0,0,{"$f":"IFERROR(VLOOKUP(C134,PivotGHRF!A:C,3,FALSE),\" \")","v":" "},0]
["Badminton","Badminton","Badminton - Badminton",{"$f":"IFERROR(VLOOKUP(C135,PivotGHRF!A:B,2,FALSE),\" \")","v":" "},0.1,0,{"$f":"IFERROR(VLOOKUP(C135,PivotESA!A:C,3,FALSE),\" \")","v":" "},{"$f":"IFERROR(F135-G135,0)","v":0},{"$f":"IFERROR(VLOOKUP(C135,PivotGHRF!A:B,2,FALSE),\" \")","v":" "},0.1,0,{"$f":"IFERROR(VLOOKUP(C135,PivotGH!A:C,3,FALSE),\" \")","v":" "},{"$f":"IFERROR(K135-L135,0)","v":0},{"$f":"IFERROR(VLOOKUP(C135,PivotGHRF!A:B,2,FALSE),\" \")","v":" "},0.1,0,{"$f":"IFERROR(VLOOKUP(C135,PivotGHRF!A:C,3,FALSE),\" \")","v":" "},{"$f":"IFERROR(P135-Q135,0)","v":0}]
["Badminton","University","Badminton - University",{"$f":"IFERROR(VLOOKUP(C136,PivotGHRF!A:B,2,FALSE),\" \")","v":" "},"Not in TDSSA",{"$f":"IFERROR(ROUNDUP(E136*D136,0),0)","v":0},{"$f":"IFERROR(VLOOKUP(C136,PivotESA!A:C,3,FALSE),\" \")","v":" "},0,{"$f":"IFERROR(VLOOKUP(C136,PivotGHRF!A:B,2,FALSE),\" \")","v":" "},"Not in TDSSA",{"$f":"IFERROR(ROUNDUP(J136*I136,0),0)","v":0},{"$f":"IFERROR(VLOOKUP(C136,PivotGH!A:C,3,FALSE),\" \")","v":" "},0,{"$f":"IFERROR(VLOOKUP(C136,PivotGHRF!A:B,2,FALSE),\" \")","v":" "},"Not in TDSSA",{"$f":"IFERROR(ROUNDUP(O136*N136,0),0)","v":0},{"$f":"IFERROR(VLOOKUP(C136,PivotGHRF!A:C,3,FALSE),\" \")","v":" "},0]
["Badminton","College","Badminton - College",{"$f":"IFERROR(VLOOKUP(C137,PivotGHRF!A:B,2,FALSE),\" \")","v":" "},"Not in TDSSA",0,{"$f":"IFERROR(VLOOKUP(C137,PivotESA!A:C,3,FALSE),\" \")","v":" "},0,{"$f":"IFERROR(VLOOKUP(C137,PivotGHRF!A:B,2,FALSE),\" \")","v":" "},"Not in TDSSA",0,{"$f":"IFERROR(VLOOKUP(C137,PivotGH!A:C,3,FALSE),\" \")","v":" "},0,{"$f":"IFERROR(VLOOKUP(C137,PivotGHRF!A:B,2,FALSE),\" \")","v":" "},"Not in TDSSA",0,{"$f":"IFERROR(VLOOKUP(C137,PivotGHRF!A:C,3,FALSE),\" \")","v":" "},0]
["Badminton","CISS Badminton","Badminton - CISS Badminton",{"$f":"IFERROR(VLOOKUP(C138,PivotGHRF!A:B,2,FALSE),\" \")","v":" "},"Not in TDSSA",0,{"$f":"IFERROR(VLOOKUP(C138,PivotESA!A:C,3,FALSE),\" \")","v":" "},0,{"$f":"IFERROR(VLOOKUP(C138,PivotGHRF!A:B,2,FALSE),\" \")","v":" "},"Not in TDSSA",0,{"$f":"IFERROR(VLOOKUP(C138,PivotGH!A:C,3,FALSE),\" \")","v":" "},0,{"$f":"IFERROR(VLOOKUP(C138,PivotGHRF!A:B,2,FALSE),\" \")","v":" "},"Not in TDSSA",0,{"$f":"IFERROR(VLOOKUP(C138,PivotGHRF!A:C,3,FALSE),\" \")","v":" "},0]
["Badminton","Para-Badminton","Badminton - Para-Badminton",{"$f":"IFERROR(VLOOKUP(C139,PivotGHRF!A:B,2,FALSE),\" \")","v":" "},0.05,0,{"$f":"IFERROR(VLOOKUP(C139,PivotESA!A:C,3,FALSE),\" \")","v":" "},0,{"$f":"IFERROR(VLOOKUP(C139,PivotGHRF!A:B,2,FALSE),\" \")","v":" "},0.05,0,{"$f":"IFERROR(VLOOKUP(C139,PivotGH!A:C,3,FALSE),\" \")","v":" "},0,{"$f":"IFERROR(VLOOKUP(C139,PivotGHRF!A:B,2,FALSE),\" \")","v":" "},0.05,0,{"$f":"IFERROR(VLOOKUP(C139,PivotGHRF!A:C,3,FALSE),\" \")","v":" "},0]
["Balle au Tambourin","Balle au Tambourin","Balle au Tambourin - Balle au Tambourin",{"$f":"IFERROR(VLOOKUP(C140,PivotGHRF!A:B,2,FALSE),\" \")","v":" "},"Not in TDSSA",0,{"$f":"IFERROR(VLOOKUP(C140,PivotESA!A:C,3,FALSE),\" \")","v":" "},0,{"$f":"IFERROR(VLOOKUP(C140,PivotGHRF!A:B,2,FALSE),\" \")","v":" "},"Not in TDSSA",0,{"$f":"IFERROR(VLOOKUP(C140,PivotGH!A:C,3,FALSE),\" \")","v":" "},0,{"$f":"IFERROR(VLOOKUP(C140,PivotGHRF!A:B,2,FALSE),\" \")","v":" "},"Not in TDSSA",0,{"$f":"IFERROR(VLOOKUP(C140,PivotGHRF!A:C,3,FALSE),\" \")","v":" "},0]
["Ballon au Poing","Ballon au Poing","Ballon au Poing - Ballon au Poing",{"$f":"IFERROR(VLOOKUP(C141,PivotGHRF!A:B,2,FALSE),\" \")","v":" "},"Not in TDSSA",0,{"$f":"IFERROR(VLOOKUP(C141,PivotESA!A:C,3,FALSE),\" \")","v":" "},0,{"$f":"IFERROR(VLOOKUP(C141,PivotGHRF!A:B,2,FALSE),\" \")","v":" "},"Not in TDSSA",0,{"$f":"IFERROR(VLOOKUP(C141,PivotGH!A:C,3,FALSE),\" \")","v":" "},0,{"$f":"IFERROR(VLOOKUP(C141,PivotGHRF!A:B,2,FALSE),\" \")","v":" "},"Not in TDSSA",0,{"$f":"IFERROR(VLOOKUP(C141,PivotGHRF!A:C,3,FALSE),\" \")","v":" "},0]
["Bandy","Bandy","Bandy - Bandy",{"$f":"IFERROR(VLOOKUP(C142,PivotGHRF!A:B,2,FALSE),\" \")","v":" "},0.05,0,{"$f":"IFERROR(VLOOKUP(C142,PivotESA!A:C,3,FALSE),\" \")","v":" "},0,{"$f":"IFERROR(VLOOKUP(C142,PivotGHRF!A:B,2,FALSE),\" \")","v":" "},0.1,0,{"$f":"IFERROR(VLOOKUP(C142,PivotGH!A:C,3,FALSE),\" \")","v":" "},0,{"$f":"IFERROR(VLOOKUP(C142,PivotGHRF!A:B,2,FALSE),\" \")","v":" "},0.1,0,{"$f":"IFERROR(VLOOKUP(C142,PivotGHRF!A:C,3,FALSE),\" \")","v":" "},0]
["Baseball","Baseball League","Baseball - Baseball League",{"$f":"IFERROR(VLOOKUP(C143,PivotGHRF!A:B,2,FALSE),\" \")","v":" "},"Not in TDSSA",0,{"$f":"IFERROR(VLOOKUP(C143,PivotESA!A:C,3,FALSE),\" \")","v":" "},0,{"$f":"IFERROR(VLOOKUP(C143,PivotGHRF!A:B,2,FALSE),\" \")","v":" "},"Not in TDSSA",0,{"$f":"IFERROR(VLOOKUP(C143,PivotGH!A:C,3,FALSE),\" \")","v":" "},0,{"$f":"IFERROR(VLOOKUP(C143,PivotGHRF!A:B,2,FALSE),\" \")","v":" "},"Not in TDSSA",0,{"$f":"IFERROR(VLOOKUP(C143,PivotGHRF!A:C,3,FALSE),\" \")","v":" "},0]
["Baseball","Baseball","Baseball - Baseball",{"$f":"IFERROR(VLOOKUP(C144,PivotGHRF!A:B,2,FALSE),\" \")","v":" "},0.05,0,{"$f":"IFERROR(VLOOKUP(C144,PivotESA!A:C,3,FALSE),\" \")","v":" "},0,{"$f":"IFERROR(VLOOKUP(C144,PivotGHRF!A:B,2,FALSE),\" \")","v":" "},0.1,0,{"$f":"IFERROR(VLOOKUP(C144,PivotGH!A:C,3,FALSE),\" \")","v":" "},0,{"$f":"IFERROR(VLOOKUP(C144,PivotGHRF!A:B,2,FALSE),\" \")","v":" "},0.1,0,{"$f":"IFERROR(VLOOKUP(C144,PivotGHRF!A:C,3,FALSE),\" \")","v":" "},0]
["Baseball","University","Baseball - University",{"$f":"IFERROR(VLOOKUP(C145,PivotGHRF!A:B,2,FALSE),\" \")","v":" "},"Not in TDSSA",0,{"$f":"IFERROR(VLOOKUP(C145,PivotESA!A:C,3,FALSE),\" \")","v":" "},0,{"$f":"IFERROR(VLOOKUP(C145,PivotGHRF!A:B,2,FALSE),\" \")","v":" "},"Not in TDSSA",0,{"$f":"IFERROR(VLOOKUP(C145,PivotGH!A:C,3,FALSE),\" \")","v":" "},0,{"$f":"IFERROR(VLOOKUP(C145,PivotGHRF!A:B,2,FALSE),\" \")","v":" "},"Not in TDSSA",0,{"$f":"IFERROR(VLOOKUP(C145,PivotGHRF!A:C,3,FALSE),\" \")","v":" "},0]
["Baseball","Pesäpallo","Baseball - Pesäpallo",{"$f":"IFERROR(VLOOKUP(C146,PivotGHRF!A:B,2,FALSE),\" \")","v":" "},"Not in TDSSA",0,{"$f":"IFERROR(VLOOKUP(C146,PivotESA!A:C,3,FALSE),\" \")","v":" "},0,{"$f":"IFERROR(VLOOKUP(C146,PivotGHRF!A:B,2,FALSE),\" \")","v":" "},"Not in TDSSA",0,{"$f":"IFERROR(VLOOKUP(C146,PivotGH!A:C,3,FALSE),\" \")","v":" "},0,{"$f":"IFERROR(VLOOKUP(C146,PivotGHRF!A:B,2,FALSE),\" \")","v":" "},"Not in TDSSA",0,{"$f":"IFERROR(VLOOKUP(C146,PivotGHRF!A:C,3,FALSE),\" \")","v":" "},0]
["Baseball","Oina","Baseball - Oina",{"$f":"IFERROR(VLOOKUP(C147,PivotGHRF!A:B,2,FALSE),\" \")","v":" "},"Not in TDSSA",0,{"$f":"IFERROR(VLOOKUP(C147,PivotESA!A:C,3,FALSE),\" \")","v":" "},0,{"$f":"IFERROR(VLOOKUP(C147,PivotGHRF!A:B,2,FALSE),\" \")","v":" "},"Not in TDSSA",0,{"$f":"IFERROR(VLOOKUP(C147,PivotGH!A:C,3,FALSE),\" \")","v":" "},0,{"$f":"IFERROR(VLOOKUP(C147,PivotGHRF!A:B,2,FALSE),\" \")","v":" "},"Not in TDSSA",0,{"$f":"IFERROR(VLOOKUP(C147,PivotGHRF!A:C,3,FALSE),\" \")","v":" "},0]
["Baseball","Professional Baseball","Baseball - Professional Baseball",{"$f":"IFERROR(VLOOKUP(C148,PivotGHRF!A:B,2,FALSE),\" \")","v":" "},"Not in TDSSA",0,{"$f":"IFERROR(VLOOKUP(C148,PivotESA!A:C,3,FALSE),\" \")","v":" "},0,{"$f":"IFERROR(VLOOKUP(C148,PivotGHRF!A:B,2,FALSE),\" \")","v":" "},"Not in TDSSA",0,{"$f":"IFERROR(VLOOKUP(C148,PivotGH!A:C,3,FALSE),\" \")","v":" "},0,{"$f":"IFERROR(VLOOKUP(C148,PivotGHRF!A:B,2,FALSE),\" \")","v":" "},"Not in TDSSA",0,{"$f":"IFERROR(VLOOKUP(C148,PivotGHRF!A:C,3,FALSE),\" \")","v":" "},0]
["Baseball","Rubber Baseball","Baseball - Rubber Baseball",{"$f":"IFERROR(VLOOKUP(C149,PivotGHRF!A:B,2,FALSE),\" \")","v":" "},"Not in TDSSA",0,{"$f":"IFERROR(VLOOKUP(C149,PivotESA!A:C,3,FALSE),\" \")","v":" "},0,{"$f":"IFERROR(VLOOKUP(C149,PivotGHRF!A:B,2,FALSE),\" \")","v":" "},"Not in TDSSA",0,{"$f":"IFERROR(VLOOKUP(C149,PivotGH!A:C,3,FALSE),\" \")","v":" "},0,{"$f":"IFERROR(VLOOKUP(C149,PivotGHRF!A:B,2,FALSE),\" \")","v":" "},"Not in TDSSA",0,{"$f":"IFERROR(VLOOKUP(C149,PivotGHRF!A:C,3,FALSE),\" \")","v":" "},0]
["Basketball","Beach Basketball","Basketball - Beach Basketball",{"$f":"IFERROR(VLOOKUP(C150,PivotGHRF!A:B,2,FALSE),\" \")","v":" "},"Not in TDSSA",0,{"$f":"IFERROR(VLOOKUP(C150,PivotESA!A:C,3,FALSE),\" \")","v":" "},0,{"$f":"IFERROR(VLOOKUP(C150,PivotGHRF!A:B,2,FALSE),\" \")","v":" "},"Not in TDSSA",0,{"$f":"IFERROR(VLOOKUP(C150,PivotGH!A:C,3,FALSE),\" \")","v":" "},0,{"$f":"IFERROR(VLOOKUP(C150,PivotGHRF!A:B,2,FALSE),\" \")","v":" "},"Not in TDSSA",0,{"$f":"IFERROR(VLOOKUP(C150,PivotGHRF!A:C,3,FALSE),\" \")","v":" "},0]
["Basketball","Basketball","Basketball - Basketball",{"$f":"IFERROR(VLOOKUP(C151,PivotGHRF!A:B,2,FALSE),\" \")","v":" "},0.1,0,{"$f":"IFERROR(VLOOKUP(C151,PivotESA!A:C,3,FALSE),\" \")","v":" "},0,{"$f":"IFERROR(VLOOKUP(C151,PivotGHRF!A:B,2,FALSE),\" \")","v":" "},0.1,0,{"$f":"IFERROR(VLOOKUP(C151,PivotGH!A:C,3,FALSE),\" \")","v":" "},0,{"$f":"IFERROR(VLOOKUP(C151,PivotGHRF!A:B,2,FALSE),\" \")","v":" "},0.1,0,{"$f":"IFERROR(VLOOKUP(C151,PivotGHRF!A:C,3,FALSE),\" \")","v":" "},0]
["Basketball","3 on 3","Basketball - 3 on 3",{"$f":"IFERROR(VLOOKUP(C152,PivotGHRF!A:B,2,FALSE),\" \")","v":" "},0.1,0,{"$f":"IFERROR(VLOOKUP(C152,PivotESA!A:C,3,FALSE),\" \")","v":" "},0,{"$f":"IFERROR(VLOOKUP(C152,PivotGHRF!A:B,2,FALSE),\" \")","v":" "},0.1,0,{"$f":"IFERROR(VLOOKUP(C152,PivotGH!A:C,3,FALSE),\" \")","v":" "},0,{"$f":"IFERROR(VLOOKUP(C152,PivotGHRF!A:B,2,FALSE),\" \")","v":" "},0.1,0,{"$f":"IFERROR(VLOOKUP(C152,PivotGHRF!A:C,3,FALSE),\" \")","v":" "},0]
["Basketball","Basketball ID","Basketball - Basketball ID",{"$f":"IFERROR(VLOOKUP(C153,PivotGHRF!A:B,2,FALSE),\" \")","v":" "},"Not in TDSSA",0,{"$f":"IFERROR(VLOOKUP(C153,PivotESA!A:C,3,FALSE),\" \")","v":" "},0,{"$f":"IFERROR(VLOOKUP(C153,PivotGHRF!A:B,2,FALSE),\" \")","v":" "},"Not in TDSSA",0,{"$f":"IFERROR(VLOOKUP(C153,PivotGH!A:C,3,FALSE),\" \")","v":" "},0,{"$f":"IFERROR(VLOOKUP(C153,PivotGHRF!A:B,2,FALSE),\" \")","v":" "},"Not in TDSSA",0,{"$f":"IFERROR(VLOOKUP(C153,PivotGHRF!A:C,3,FALSE),\" \")","v":" "},0]
["Basketball","College","Basketball - College",{"$f":"IFERROR(VLOOKUP(C154,PivotGHRF!A:B,2,FALSE),\" \")","v":" "},"Not in TDSSA",0,{"$f":"IFERROR(VLOOKUP(C154,PivotESA!A:C,3,FALSE),\" \")","v":" "},0,{"$f":"IFERROR(VLOOKUP(C154,PivotGHRF!A:B,2,FALSE),\" \")","v":" "},"Not in TDSSA",0,{"$f":"IFERROR(VLOOKUP(C154,PivotGH!A:C,3,FALSE),\" \")","v":" "},0,{"$f":"IFERROR(VLOOKUP(C154,PivotGHRF!A:B,2,FALSE),\" \")","v":" "},"Not in TDSSA",0,{"$f":"IFERROR(VLOOKUP(C154,PivotGHRF!A:C,3,FALSE),\" \")","v":" "},0]
["Basketball","CISS Basketball","Basketball - CISS Basketball",{"$f":"IFERROR(VLOOKUP(C155,PivotGHRF!A:B,2,FALSE),\" \")","v":" "},"Not in TDSSA",0,{"$f":"IFERROR(VLOOKUP(C155,PivotESA!A:C,3,FALSE),\" \")","v":" "},0,{"$f":"IFERROR(VLOOKUP(C155,PivotGHRF!A:B,2,FALSE),\" \")","v":" "},"Not in TDSSA",0,{"$f":"IFERROR(VLOOKUP(C155,PivotGH!A:C,3,FALSE),\" \")","v":" "},0,{"$f":"IFERROR(VLOOKUP(C155,PivotGHRF!A:B,2,FALSE),\" \")","v":" "},"Not in TDSSA",0,{"$f":"IFERROR(VLOOKUP(C155,PivotGHRF!A:C,3,FALSE),\" \")","v":" "},0]
["Basketball","INAS-FID Basketball","Basketball - INAS-FID Basketball",{"$f":"IFERROR(VLOOKUP(C156,PivotGHRF!A:B,2,FALSE),\" \")","v":" "},"Not in TDSSA",0,{"$f":"IFERROR(VLOOKUP(C156,PivotESA!A:C,3,FALSE),\" \")","v":" "},0,{"$f":"IFERROR(VLOOKUP(C156,PivotGHRF!A:B,2,FALSE),\" \")","v":" "},"Not in TDSSA",0,{"$f":"IFERROR(VLOOKUP(C156,PivotGH!A:C,3,FALSE),\" \")","v":" "},0,{"$f":"IFERROR(VLOOKUP(C156,PivotGHRF!A:B,2,FALSE),\" \")","v":" "},"Not in TDSSA",0,{"$f":"IFERROR(VLOOKUP(C156,PivotGHRF!A:C,3,FALSE),\" \")","v":" "},0]
["Basketball","Military Basketball","Basketball - Military Basketball",{"$f":"IFERROR(VLOOKUP(C157,PivotGHRF!A:B,2,FALSE),\" \")","v":" "},"Not in TDSSA",0,{"$f":"IFERROR(VLOOKUP(C157,PivotESA!A:C,3,FALSE),\" \")","v":" "},0,{"$f":"IFERROR(VLOOKUP(C157,PivotGHRF!A:B,2,FALSE),\" \")","v":" "},"Not in TDSSA",0,{"$f":"IFERROR(VLOOKUP(C157,PivotGH!A:C,3,FALSE),\" \")","v":" "},0,{"$f":"IFERROR(VLOOKUP(C157,PivotGHRF!A:B,2,FALSE),\" \")","v":" "},"Not in TDSSA",0,{"$f":"IFERROR(VLOOKUP(C157,PivotGHRF!A:C,3,FALSE),\" \")","v":" "},0]
["Basketball","Professional Basketball","Basketball - Professional Basketball",{"$f":"IFERROR(VLOOKUP(C158,PivotGHRF!A:B,2,FALSE),\" \")","v":" "},"Not in TDSSA",0,{"$f":"IFERROR(VLOOKUP(C158,PivotESA!A:C,3,FALSE),\" \")","v":" "},0,{"$f":"IFERROR(VLOOKUP(C158,PivotGHRF!A:B,2,FALSE),\" \")","v":" "},"Not in TDSSA",0,{"$f":"IFERROR(VLOOKUP(C158,PivotGH!A:C,3,FALSE),\" \")","v":" "},0,{"$f":"IFERROR(VLOOKUP(C158,PivotGHRF!A:B,2,FALSE),\" \")","v":" "},"Not in TDSSA",0,{"$f":"IFERROR(VLOOKUP(C158,PivotGHRF!A:C,3,FALSE),\" \")","v":" "},0]
["Basketball","University","Basketball - University",{"$f":"IFERROR(VLOOKUP(C159,PivotGHRF!A:B,2,FALSE),\" \")","v":" "},"Not in TDSSA",0,{"$f":"IFERROR(VLOOKUP(C159,PivotESA!A:C,3,FALSE),\" \")","v":" "},0,{"$f":"IFERROR(VLOOKUP(C159,PivotGHRF!A:B,2,FALSE),\" \")","v":" "},"Not in TDSSA",0,{"$f":"IFERROR(VLOOKUP(C159,PivotGH!A:C,3,FALSE),\" \")","v":" "},0,{"$f":"IFERROR(VLOOKUP(C159,PivotGHRF!A:B,2,FALSE),\" \")","v":" "},"Not in TDSSA",0,{"$f":"IFERROR(VLOOKUP(C159,PivotGHRF!A:C,3,FALSE),\" \")","v":" "},0]
["Basketball","USPE Basketball","Basketball - USPE Basketball",{"$f":"IFERROR(VLOOKUP(C160,PivotGHRF!A:B,2,FALSE),\" \")","v":" "},"Not in TDSSA",0,{"$f":"IFERROR(VLOOKUP(C160,PivotESA!A:C,3,FALSE),\" \")","v":" "},0,{"$f":"IFERROR(VLOOKUP(C160,PivotGHRF!A:B,2,FALSE),\" \")","v":" "},"Not in TDSSA",0,{"$f":"IFERROR(VLOOKUP(C160,PivotGH!A:C,3,FALSE),\" \")","v":" "},0,{"$f":"IFERROR(VLOOKUP(C160,PivotGHRF!A:B,2,FALSE),\" \")","v":" "},"Not in TDSSA",0,{"$f":"IFERROR(VLOOKUP(C160,PivotGHRF!A:C,3,FALSE),\" \")","v":" "},0]
["Basketball","Wheelchair Basketball","Basketball - Wheelchair Basketball",{"$f":"IFERROR(VLOOKUP(C161,PivotGHRF!A:B,2,FALSE),\" \")","v":" "},0.05,0,{"$f":"IFERROR(VLOOKUP(C161,PivotESA!A:C,3,FALSE),\" \")","v":" "},0,{"$f":"IFERROR(VLOOKUP(C161,PivotGHRF!A:B,2,FALSE),\" \")","v":" "},0.05,0,{"$f":"IFERROR(VLOOKUP(C161,PivotGH!A:C,3,FALSE),\" \")","v":" "},0,{"$f":"IFERROR(VLOOKUP(C161,PivotGHRF!A:B,2,FALSE),\" \")","v":" "},0.05,0,{"$f":"IFERROR(VLOOKUP(C161,PivotGHRF!A:C,3,FALSE),\" \")","v":" "},0]
["Basque Pelota","Basque Pelota","Basque Pelota - Basque Pelota",{"$f":"IFERROR(VLOOKUP(C162,PivotGHRF!A:B,2,FALSE),\" \")","v":" "},0.05,0,{"$f":"IFERROR(VLOOKUP(C162,PivotESA!A:C,3,FALSE),\" \")","v":" "},0,{"$f":"IFERROR(VLOOKUP(C162,PivotGHRF!A:B,2,FALSE),\" \")","v":" "},0.05,0,{"$f":"IFERROR(VLOOKUP(C162,PivotGH!A:C,3,FALSE),\" \")","v":" "},0,{"$f":"IFERROR(VLOOKUP(C162,PivotGHRF!A:B,2,FALSE),\" \")","v":" "},0.05,0,{"$f":"IFERROR(VLOOKUP(C162,PivotGHRF!A:C,3,FALSE),\" \")","v":" "},0]
["Basque Sports","Aizkolaritza","Basque Sports - Aizkolaritza",{"$f":"IFERROR(VLOOKUP(C163,PivotGHRF!A:B,2,FALSE),\" \")","v":" "},"Not in TDSSA",0,{"$f":"IFERROR(VLOOKUP(C163,PivotESA!A:C,3,FALSE),\" \")","v":" "},0,{"$f":"IFERROR(VLOOKUP(C163,PivotGHRF!A:B,2,FALSE),\" \")","v":" "},"Not in TDSSA",0,{"$f":"IFERROR(VLOOKUP(C163,PivotGH!A:C,3,FALSE),\" \")","v":" "},0,{"$f":"IFERROR(VLOOKUP(C163,PivotGHRF!A:B,2,FALSE),\" \")","v":" "},"Not in TDSSA",0,{"$f":"IFERROR(VLOOKUP(C163,PivotGHRF!A:C,3,FALSE),\" \")","v":" "},0]
["Basque Sports","Basque Sports","Basque Sports - Basque Sports",{"$f":"IFERROR(VLOOKUP(C164,PivotGHRF!A:B,2,FALSE),\" \")","v":" "},"Not in TDSSA",0,{"$f":"IFERROR(VLOOKUP(C164,PivotESA!A:C,3,FALSE),\" \")","v":" "},0,{"$f":"IFERROR(VLOOKUP(C164,PivotGHRF!A:B,2,FALSE),\" \")","v":" "},"Not in TDSSA",0,{"$f":"IFERROR(VLOOKUP(C164,PivotGH!A:C,3,FALSE),\" \")","v":" "},0,{"$f":"IFERROR(VLOOKUP(C164,PivotGHRF!A:B,2,FALSE),\" \")","v":" "},"Not in TDSSA",0,{"$f":"IFERROR(VLOOKUP(C164,PivotGHRF!A:C,3,FALSE),\" \")","v":" "},0]
["Basque Sports","Aizkora-korrika","Basque Sports - Aizkora-korrika",{"$f":"IFERROR(VLOOKUP(C165,PivotGHRF!A:B,2,FALSE),\" \")","v":" "},"Not in TDSSA",0,{"$f":"IFERROR(VLOOKUP(C165,PivotESA!A:C,3,FALSE),\" \")","v":" "},0,{"$f":"IFERROR(VLOOKUP(C165,PivotGHRF!A:B,2,FALSE),\" \")","v":" "},"Not in TDSSA",0,{"$f":"IFERROR(VLOOKUP(C165,PivotGH!A:C,3,FALSE),\" \")","v":" "},0,{"$f":"IFERROR(VLOOKUP(C165,PivotGHRF!A:B,2,FALSE),\" \")","v":" "},"Not in TDSSA",0,{"$f":"IFERROR(VLOOKUP(C165,PivotGHRF!A:C,3,FALSE),\" \")","v":" "},0]
["Basque Sports","Giza-abere probak ","Basque Sports - Giza-abere probak ",{"$f":"IFERROR(VLOOKUP(C166,PivotGHRF!A:B,2,FALSE),\" \")","v":" "},"Not in TDSSA",0,{"$f":"IFERROR(VLOOKUP(C166,PivotESA!A:C,3,FALSE),\" \")","v":" "},0,{"$f":"IFERROR(VLOOKUP(C166,PivotGHRF!A:B,2,FALSE),\" \")","v":" "},"Not in TDSSA",0,{"$f":"IFERROR(VLOOKUP(C166,PivotGH!A:C,3,FALSE),\" \")","v":" "},0,{"$f":"IFERROR(VLOOKUP(C166,PivotGHRF!A:B,2,FALSE),\" \")","v":" "},"Not in TDSSA",0,{"$f":"IFERROR(VLOOKUP(C166,PivotGHRF!A:C,3,FALSE),\" \")","v":" "},0]
["Basque Sports","Ingude altxatzea ","Basque Sports - Ingude altxatzea ",{"$f":"IFERROR(VLOOKUP(C167,PivotGHRF!A:B,2,FALSE),\" \")","v":" "},"Not in TDSSA",0,{"$f":"IFERROR(VLOOKUP(C167,PivotESA!A:C,3,FALSE),\" \")","v":" "},0,{"$f":"IFERROR(VLOOKUP(C167,PivotGHRF!A:B,2,FALSE),\" \")","v":" "},"Not in TDSSA",0,{"$f":"IFERROR(VLOOKUP(C167,PivotGH!A:C,3,FALSE),\" \")","v":" "},0,{"$f":"IFERROR(VLOOKUP(C167,PivotGHRF!A:B,2,FALSE),\" \")","v":" "},"Not in TDSSA",0,{"$f":"IFERROR(VLOOKUP(C167,PivotGHRF!A:C,3,FALSE),\" \")","v":" "},0]
["Basque Sports","Lasto altxatzea ","Basque Sports - Lasto altxatzea ",{"$f":"IFERROR(VLOOKUP(C168,PivotGHRF!A:B,2,FALSE),\" \")","v":" "},"Not in TDSSA",0,{"$f":"IFERROR(VLOOKUP(C168,PivotESA!A:C,3,FALSE),\" \")","v":" "},0,{"$f":"IFERROR(VLOOKUP(C168,PivotGHRF!A:B,2,FALSE),\" \")","v":" "},"Not in TDSSA",0,{"$f":"IFERROR(VLOOKUP(C168,PivotGH!A:C,3,FALSE),\" \")","v":" "},0,{"$f":"IFERROR(VLOOKUP(C168,PivotGHRF!A:B,2,FALSE),\" \")","v":" "},"Not in TDSSA",0,{"$f":"IFERROR(VLOOKUP(C168,PivotGHRF!A:C,3,FALSE),\" \")","v":" "},0]
["Basque Sports","Orga jokoa ","Basque Sports - Orga jokoa ",{"$f":"IFERROR(VLOOKUP(C169,PivotGHRF!A:B,2,FALSE),\" \")","v":" "},"Not in TDSSA",0,{"$f":"IFERROR(VLOOKUP(C169,PivotESA!A:C,3,FALSE),\" \")","v":" "},0,{"$f":"IFERROR(VLOOKUP(C169,PivotGHRF!A:B,2,FALSE),\" \")","v":" "},"Not in TDSSA",0,{"$f":"IFERROR(VLOOKUP(C169,PivotGH!A:C,3,FALSE),\" \")","v":" "},0,{"$f":"IFERROR(VLOOKUP(C169,PivotGHRF!A:B,2,FALSE),\" \")","v":" "},"Not in TDSSA",0,{"$f":"IFERROR(VLOOKUP(C169,PivotGHRF!A:C,3,FALSE),\" \")","v":" "},0]
["Basque Sports","Sokatira","Basque Sports - Sokatira",{"$f":"IFERROR(VLOOKUP(C170,PivotGHRF!A:B,2,FALSE),\" \")","v":" "},"Not in TDSSA",0,{"$f":"IFERROR(VLOOKUP(C170,PivotESA!A:C,3,FALSE),\" \")","v":" "},0,{"$f":"IFERROR(VLOOKUP(C170,PivotGHRF!A:B,2,FALSE),\" \")","v":" "},"Not in TDSSA",0,{"$f":"IFERROR(VLOOKUP(C170,PivotGH!A:C,3,FALSE),\" \")","v":" "},0,{"$f":"IFERROR(VLOOKUP(C170,PivotGHRF!A:B,2,FALSE),\" \")","v":" "},"Not in TDSSA",0,{"$f":"IFERROR(VLOOKUP(C170,PivotGHRF!A:C,3,FALSE),\" \")","v":" "},0]
["Basque Sports","Txinga eramatea ","Basque Sports - Txinga eramatea ",{"$f":"IFERROR(VLOOKUP(C171,PivotGHRF!A:B,2,FALSE),\" \")","v":" "},"Not in TDSSA",0,{"$f":"IFERROR(VLOOKUP(C171,PivotESA!A:C,3,FALSE),\" \")","v":" "},0,{"$f":"IFERROR(VLOOKUP(C171,PivotGHRF!A:B,2,FALSE),\" \")","v":" "},"Not in TDSSA",0,{"$f":"IFERROR(VLOOKUP(C171,PivotGH!A:C,3,FALSE),\" \")","v":" "},0,{"$f":"IFERROR(VLOOKUP(C171,PivotGHRF!A:B,2,FALSE),\" \")","v":" "},"Not in TDSSA",0,{"$f":"IFERROR(VLOOKUP(C171,PivotGHRF!A:C,3,FALSE),\" \")","v":" "},0]
["Basque Sports","Trontza","Basque Sports - Trontza",{"$f":"IFERROR(VLOOKUP(C172,PivotGHRF!A:B,2,FALSE),\" \")","v":" "},"Not in TDSSA",0,{"$f":"IFERROR(VLOOKUP(C172,PivotESA!A:C,3,FALSE),\" \")","v":" "},0,{"$f":"IFERROR(VLOOKUP(C172,PivotGHRF!A:B,2,FALSE),\" \")","v":" "},"Not in TDSSA",0,{"$f":"IFERROR(VLOOKUP(C172,PivotGH!A:C,3,FALSE),\" \")","v":" "},0,{"$f":"IFERROR(VLOOKUP(C172,PivotGHRF!A:B,2,FALSE),\" \")","v":" "},"Not in TDSSA",0,{"$f":"IFERROR(VLOOKUP(C172,PivotGHRF!A:C,3,FALSE),\" \")","v":" "},0]
["Basque Sports","Zaku eramatea ","Basque Sports - Zaku eramatea ",{"$f":"IFERROR(VLOOKUP(C173,PivotGHRF!A:B,2,FALSE),\" \")","v":" "},"Not in TDSSA",0,{"$f":"IFERROR(VLOOKUP(C173,PivotESA!A:C,3,FALSE),\" \")","v":" "},0,{"$f":"IFERROR(VLOOKUP(C173,PivotGHRF!A:B,2,FALSE),\" \")","v":" "},"Not in TDSSA",0,{"$f":"IFERROR(VLOOKUP(C173,PivotGH!A:C,3,FALSE),\" \")","v":" "},0,{"$f":"IFERROR(VLOOKUP(C173,PivotGHRF!A:B,2,FALSE),\" \")","v":" "},"Not in TDSSA",0,{"$f":"IFERROR(VLOOKUP(C173,PivotGHRF!A:C,3,FALSE),\" \")","v":" "},0]
["Basque Sports","Lokotx biltzea","Basque Sports - Lokotx biltzea",{"$f":"IFERROR(VLOOKUP(C174,PivotGHRF!A:B,2,FALSE),\" \")","v":" "},"Not in TDSSA",0,{"$f":"IFERROR(VLOOKUP(C174,PivotESA!A:C,3,FALSE),\" \")","v":" "},0,{"$f":"IFERROR(VLOOKUP(C174,PivotGHRF!A:B,2,FALSE),\" \")","v":" "},"Not in TDSSA",0,{"$f":"IFERROR(VLOOKUP(C174,PivotGH!A:C,3,FALSE),\" \")","v":" "},0,{"$f":"IFERROR(VLOOKUP(C174,PivotGHRF!A:B,2,FALSE),\" \")","v":" "},"Not in TDSSA",0,{"$f":"IFERROR(VLOOKUP(C174,PivotGHRF!A:C,3,FALSE),\" \")","v":" "},0]
["Basque Sports","Txinga-eroatea","Basque Sports - Txinga-eroatea",{"$f":"IFERROR(VLOOKUP(C175,PivotGHRF!A:B,2,FALSE),\" \")","v":" "},"Not in TDSSA",0,{"$f":"IFERROR(VLOOKUP(C175,PivotESA!A:C,3,FALSE),\" \")","v":" "},0,{"$f":"IFERROR(VLOOKUP(C175,PivotGHRF!A:B,2,FALSE),\" \")","v":" "},"Not in TDSSA",0,{"$f":"IFERROR(VLOOKUP(C175,PivotGH!A:C,3,FALSE),\" \")","v":" "},0,{"$f":"IFERROR(VLOOKUP(C175,PivotGHRF!A:B,2,FALSE),\" \")","v":" "},"Not in TDSSA",0,{"$f":"IFERROR(VLOOKUP(C175,PivotGHRF!A:C,3,FALSE),\" \")","v":" "},0]
["Basque Sports","Harri jasotzea","Basque Sports - Harri jasotzea",{"$f":"IFERROR(VLOOKUP(C176,PivotGHRF!A:B,2,FALSE),\" \")","v":" "},"Not in TDSSA",0,{"$f":"IFERROR(VLOOKUP(C176,PivotESA!A:C,3,FALSE),\" \")","v":" "},0,{"$f":"IFERROR(VLOOKUP(C176,PivotGHRF!A:B,2,FALSE),\" \")","v":" "},"Not in TDSSA",0,{"$f":"IFERROR(VLOOKUP(C176,PivotGH!A:C,3,FALSE),\" \")","v":" "},0,{"$f":"IFERROR(VLOOKUP(C176,PivotGHRF!A:B,2,FALSE),\" \")","v":" "},"Not in TDSSA",0,{"$f":"IFERROR(VLOOKUP(C176,PivotGHRF!A:C,3,FALSE),\" \")","v":" "},0]
["Basque Sports","Harri-zulatze","Basque Sports - Harri-zulatze",{"$f":"IFERROR(VLOOKUP(C177,PivotGHRF!A:B,2,FALSE),\" \")","v":" "},"Not in TDSSA",0,{"$f":"IFERROR(VLOOKUP(C177,PivotESA!A:C,3,FALSE),\" \")","v":" "},0,{"$f":"IFERROR(VLOOKUP(C177,PivotGHRF!A:B,2,FALSE),\" \")","v":" "},"Not in TDSSA",0,{"$f":"IFERROR(VLOOKUP(C177,PivotGH!A:C,3,FALSE),\" \")","v":" "},0,{"$f":"IFERROR(VLOOKUP(C177,PivotGHRF!A:B,2,FALSE),\" \")","v":" "},"Not in TDSSA",0,{"$f":"IFERROR(VLOOKUP(C177,PivotGHRF!A:C,3,FALSE),\" \")","v":" "},0]
["Basque Sports","Ingude jasotzea","Basque Sports - Ingude jasotzea",{"$f":"IFERROR(VLOOKUP(C178,PivotGHRF!A:B,2,FALSE),\" \")","v":" "},"Not in TDSSA",0,{"$f":"IFERROR(VLOOKUP(C178,PivotESA!A:C,3,FALSE),\" \")","v":" "},0,{"$f":"IFERROR(VLOOKUP(C178,PivotGHRF!A:B,2,FALSE),\" \")","v":" "},"Not in TDSSA",0,{"$f":"IFERROR(VLOOKUP(C178,PivotGH!A:C,3,FALSE),\" \")","v":" "},0,{"$f":"IFERROR(VLOOKUP(C178,PivotGHRF!A:B,2,FALSE),\" \")","v":" "},"Not in TDSSA",0,{"$f":"IFERROR(VLOOKUP(C178,PivotGHRF!A:C,3,FALSE),\" \")","v":" "},0]
["Basque Sports","Leongo Jokoa","Basque Sports - Leongo Jokoa",{"$f":"IFERROR(VLOOKUP(C179,PivotGHRF!A:B,2,FALSE),\" \")","v":" "},"Not in TDSSA",0,{"$f":"IFERROR(VLOOKUP(C179,PivotESA!A:C,3,FALSE),\" \")","v":" "},0,{"$f":"IFERROR(VLOOKUP(C179,PivotGHRF!A:B,2,FALSE),\" \")","v":" "},"Not in TDSSA",0,{"$f":"IFERROR(VLOOKUP(C179,PivotGH!A:C,3,FALSE),\" \")","v":" "},0,{"$f":"IFERROR(VLOOKUP(C179,PivotGHRF!A:B,2,FALSE),\" \")","v":" "},"Not in TDSSA",0,{"$f":"IFERROR(VLOOKUP(C179,PivotGHRF!A:C,3,FALSE),\" \")","v":" "},0]
["Basque Sports","Lasto jasotzea","Basque Sports - Lasto jasotzea",{"$f":"IFERROR(VLOOKUP(C180,PivotGHRF!A:B,2,FALSE),\" \")","v":" "},"Not in TDSSA",0,{"$f":"IFERROR(VLOOKUP(C180,PivotESA!A:C,3,FALSE),\" \")","v":" "},0,{"$f":"IFERROR(VLOOKUP(C180,PivotGHRF!A:B,2,FALSE),\" \")","v":" "},"Not in TDSSA",0,{"$f":"IFERROR(VLOOKUP(C180,PivotGH!A:C,3,FALSE),\" \")","v":" "},0,{"$f":"IFERROR(VLOOKUP(C180,PivotGHRF!A:B,2,FALSE),\" \")","v":" "},"Not in TDSSA",0,{"$f":"IFERROR(VLOOKUP(C180,PivotGHRF!A:C,3,FALSE),\" \")","v":" "},0]
["Basque Sports","Sega","Basque Sports - Sega",{"$f":"IFERROR(VLOOKUP(C181,PivotGHRF!A:B,2,FALSE),\" \")","v":" "},"Not in TDSSA",0,{"$f":"IFERROR(VLOOKUP(C181,PivotESA!A:C,3,FALSE),\" \")","v":" "},0,{"$f":"IFERROR(VLOOKUP(C181,PivotGHRF!A:B,2,FALSE),\" \")","v":" "},"Not in TDSSA",0,{"$f":"IFERROR(VLOOKUP(C181,PivotGH!A:C,3,FALSE),\" \")","v":" "},0,{"$f":"IFERROR(VLOOKUP(C181,PivotGHRF!A:B,2,FALSE),\" \")","v":" "},"Not in TDSSA",0,{"$f":"IFERROR(VLOOKUP(C181,PivotGHRF!A:C,3,FALSE),\" \")","v":" "},0]
["Beach Tennis","Beach Tennis","Beach Tennis - Beach Tennis",{"$f":"IFERROR(VLOOKUP(C182,PivotGHRF!A:B,2,FALSE),\" \")","v":" "},"Not in TDSSA",0,{"$f":"IFERROR(VLOOKUP(C182,PivotESA!A:C,3,FALSE),\" \")","v":" "},0,{"$f":"IFERROR(VLOOKUP(C182,PivotGHRF!A:B,2,FALSE),\" \")","v":" "},"Not in TDSSA",0,{"$f":"IFERROR(VLOOKUP(C182,PivotGH!A:C,3,FALSE),\" \")","v":" "},0,{"$f":"IFERROR(VLOOKUP(C182,PivotGHRF!A:B,2,FALSE),\" \")","v":" "},"Not in TDSSA",0,{"$f":"IFERROR(VLOOKUP(C182,PivotGHRF!A:C,3,FALSE),\" \")","v":" "},0]
["Biathlon","Biathlon","Biathlon - Biathlon",{"$f":"IFERROR(VLOOKUP(C183,PivotGHRF!A:B,2,FALSE),\" \")","v":" "},0.6,0,{"$f":"IFERROR(VLOOKUP(C183,PivotESA!A:C,3,FALSE),\" \")","v":" "},0,{"$f":"IFERROR(VLOOKUP(C183,PivotGHRF!A:B,2,FALSE),\" \")","v":" "},0.1,0,{"$f":"IFERROR(VLOOKUP(C183,PivotGH!A:C,3,FALSE),\" \")","v":" "},0,{"$f":"IFERROR(VLOOKUP(C183,PivotGHRF!A:B,2,FALSE),\" \")","v":" "},0.1,0,{"$f":"IFERROR(VLOOKUP(C183,PivotGHRF!A:C,3,FALSE),\" \")","v":" "},0]
["Biathlon","FICEP Biathlon","Biathlon - FICEP Biathlon",{"$f":"IFERROR(VLOOKUP(C184,PivotGHRF!A:B,2,FALSE),\" \")","v":" "},"Not in TDSSA",0,{"$f":"IFERROR(VLOOKUP(C184,PivotESA!A:C,3,FALSE),\" \")","v":" "},0,{"$f":"IFERROR(VLOOKUP(C184,PivotGHRF!A:B,2,FALSE),\" \")","v":" "},"Not in TDSSA",0,{"$f":"IFERROR(VLOOKUP(C184,PivotGH!A:C,3,FALSE),\" \")","v":" "},0,{"$f":"IFERROR(VLOOKUP(C184,PivotGHRF!A:B,2,FALSE),\" \")","v":" "},"Not in TDSSA",0,{"$f":"IFERROR(VLOOKUP(C184,PivotGHRF!A:C,3,FALSE),\" \")","v":" "},0]
["Biathlon","Military Biathlon","Biathlon - Military Biathlon",{"$f":"IFERROR(VLOOKUP(C185,PivotGHRF!A:B,2,FALSE),\" \")","v":" "},"Not in TDSSA",0,{"$f":"IFERROR(VLOOKUP(C185,PivotESA!A:C,3,FALSE),\" \")","v":" "},0,{"$f":"IFERROR(VLOOKUP(C185,PivotGHRF!A:B,2,FALSE),\" \")","v":" "},"Not in TDSSA",0,{"$f":"IFERROR(VLOOKUP(C185,PivotGH!A:C,3,FALSE),\" \")","v":" "},0,{"$f":"IFERROR(VLOOKUP(C185,PivotGHRF!A:B,2,FALSE),\" \")","v":" "},"Not in TDSSA",0,{"$f":"IFERROR(VLOOKUP(C185,PivotGHRF!A:C,3,FALSE),\" \")","v":" "},0]
["Biathlon","IPC Biathlon (R)","Biathlon - IPC Biathlon (R)",{"$f":"IFERROR(VLOOKUP(C186,PivotGHRF!A:B,2,FALSE),\" \")","v":" "},0.3,0,{"$f":"IFERROR(VLOOKUP(C186,PivotESA!A:C,3,FALSE),\" \")","v":" "},0,{"$f":"IFERROR(VLOOKUP(C186,PivotGHRF!A:B,2,FALSE),\" \")","v":" "},0.1,0,{"$f":"IFERROR(VLOOKUP(C186,PivotGH!A:C,3,FALSE),\" \")","v":" "},0,{"$f":"IFERROR(VLOOKUP(C186,PivotGHRF!A:B,2,FALSE),\" \")","v":" "},0.1,0,{"$f":"IFERROR(VLOOKUP(C186,PivotGHRF!A:C,3,FALSE),\" \")","v":" "},0]
["Biathlon","University","Biathlon - University",{"$f":"IFERROR(VLOOKUP(C187,PivotGHRF!A:B,2,FALSE),\" \")","v":" "},"Not in TDSSA",0,{"$f":"IFERROR(VLOOKUP(C187,PivotESA!A:C,3,FALSE),\" \")","v":" "},0,{"$f":"IFERROR(VLOOKUP(C187,PivotGHRF!A:B,2,FALSE),\" \")","v":" "},"Not in TDSSA",0,{"$f":"IFERROR(VLOOKUP(C187,PivotGH!A:C,3,FALSE),\" \")","v":" "},0,{"$f":"IFERROR(VLOOKUP(C187,PivotGHRF!A:B,2,FALSE),\" \")","v":" "},"Not in TDSSA",0,{"$f":"IFERROR(VLOOKUP(C187,PivotGHRF!A:C,3,FALSE),\" \")","v":" "},0]
["Billiards Sports","Carom","Billiards Sports - Carom",{"$f":"IFERROR(VLOOKUP(C188,PivotGHRF!A:B,2,FALSE),\" \")","v":" "},0,0,{"$f":"IFERROR(VLOOKUP(C188,PivotESA!A:C,3,FALSE),\" \")","v":" "},0,{"$f":"IFERROR(VLOOKUP(C188,PivotGHRF!A:B,2,FALSE),\" \")","v":" "},0,0,{"$f":"IFERROR(VLOOKUP(C188,PivotGH!A:C,3,FALSE),\" \")","v":" "},0,{"$f":"IFERROR(VLOOKUP(C188,PivotGHRF!A:B,2,FALSE),\" \")","v":" "},0,0,{"$f":"IFERROR(VLOOKUP(C188,PivotGHRF!A:C,3,FALSE),\" \")","v":" "},0]
["Billiards Sports","Snooker","Billiards Sports - Snooker",{"$f":"IFERROR(VLOOKUP(C189,PivotGHRF!A:B,2,FALSE),\" \")","v":" "},0,0,{"$f":"IFERROR(VLOOKUP(C189,PivotESA!A:C,3,FALSE),\" \")","v":" "},0,{"$f":"IFERROR(VLOOKUP(C189,PivotGHRF!A:B,2,FALSE),\" \")","v":" "},0,0,{"$f":"IFERROR(VLOOKUP(C189,PivotGH!A:C,3,FALSE),\" \")","v":" "},0,{"$f":"IFERROR(VLOOKUP(C189,PivotGHRF!A:B,2,FALSE),\" \")","v":" "},0,0,{"$f":"IFERROR(VLOOKUP(C189,PivotGHRF!A:C,3,FALSE),\" \")","v":" "},0]
["Billiards Sports","Pool","Billiards Sports - Pool",{"$f":"IFERROR(VLOOKUP(C190,PivotGHRF!A:B,2,FALSE),\" \")","v":" "},0,0,{"$f":"IFERROR(VLOOKUP(C190,PivotESA!A:C,3,FALSE),\" \")","v":" "},0,{"$f":"IFERROR(VLOOKUP(C190,PivotGHRF!A:B,2,FALSE),\" \")","v":" "},0,0,{"$f":"IFERROR(VLOOKUP(C190,PivotGH!A:C,3,FALSE),\" \")","v":" "},0,{"$f":"IFERROR(VLOOKUP(C190,PivotGHRF!A:B,2,FALSE),\" \")","v":" "},0,0,{"$f":"IFERROR(VLOOKUP(C190,PivotGHRF!A:C,3,FALSE),\" \")","v":" "},0]
["Billiards Sports","Billiards","Billiards Sports - Billiards",{"$f":"IFERROR(VLOOKUP(C191,PivotGHRF!A:B,2,FALSE),\" \")","v":" "},0,0,{"$f":"IFERROR(VLOOKUP(C191,PivotESA!A:C,3,FALSE),\" \")","v":" "},0,{"$f":"IFERROR(VLOOKUP(C191,PivotGHRF!A:B,2,FALSE),\" \")","v":" "},0,0,{"$f":"IFERROR(VLOOKUP(C191,PivotGH!A:C,3,FALSE),\" \")","v":" "},0,{"$f":"IFERROR(VLOOKUP(C191,PivotGHRF!A:B,2,FALSE),\" \")","v":" "},0,0,{"$f":"IFERROR(VLOOKUP(C191,PivotGHRF!A:C,3,FALSE),\" \")","v":" "},0]
["Billiards Sports","Professional Snooker","Billiards Sports - Professional Snooker",{"$f":"IFERROR(VLOOKUP(C192,PivotGHRF!A:B,2,FALSE),\" \")","v":" "},"Not in TDSSA",0,{"$f":"IFERROR(VLOOKUP(C192,PivotESA!A:C,3,FALSE),\" \")","v":" "},0,{"$f":"IFERROR(VLOOKUP(C192,PivotGHRF!A:B,2,FALSE),\" \")","v":" "},"Not in TDSSA",0,{"$f":"IFERROR(VLOOKUP(C192,PivotGH!A:C,3,FALSE),\" \")","v":" "},0,{"$f":"IFERROR(VLOOKUP(C192,PivotGHRF!A:B,2,FALSE),\" \")","v":" "},"Not in TDSSA",0,{"$f":"IFERROR(VLOOKUP(C192,PivotGHRF!A:C,3,FALSE),\" \")","v":" "},0]
["Bobsleigh","Bobsleigh","Bobsleigh - Bobsleigh",{"$f":"IFERROR(VLOOKUP(C193,PivotGHRF!A:B,2,FALSE),\" \")","v":" "},0.05,0,{"$f":"IFERROR(VLOOKUP(C193,PivotESA!A:C,3,FALSE),\" \")","v":" "},0,{"$f":"IFERROR(VLOOKUP(C193,PivotGHRF!A:B,2,FALSE),\" \")","v":" "},0.1,0,{"$f":"IFERROR(VLOOKUP(C193,PivotGH!A:C,3,FALSE),\" \")","v":" "},0,{"$f":"IFERROR(VLOOKUP(C193,PivotGHRF!A:B,2,FALSE),\" \")","v":" "},0.1,0,{"$f":"IFERROR(VLOOKUP(C193,PivotGHRF!A:C,3,FALSE),\" \")","v":" "},0]
["Bobsleigh","Para-Bobsleigh","Bobsleigh - Para-Bobsleigh",{"$f":"IFERROR(VLOOKUP(C194,PivotGHRF!A:B,2,FALSE),\" \")","v":" "},0.05,0,{"$f":"IFERROR(VLOOKUP(C194,PivotESA!A:C,3,FALSE),\" \")","v":" "},0,{"$f":"IFERROR(VLOOKUP(C194,PivotGHRF!A:B,2,FALSE),\" \")","v":" "},0.05,0,{"$f":"IFERROR(VLOOKUP(C194,PivotGH!A:C,3,FALSE),\" \")","v":" "},0,{"$f":"IFERROR(VLOOKUP(C194,PivotGHRF!A:B,2,FALSE),\" \")","v":" "},0.05,0,{"$f":"IFERROR(VLOOKUP(C194,PivotGHRF!A:C,3,FALSE),\" \")","v":" "},0]
["Bobsleigh","Skeleton","Bobsleigh - Skeleton",{"$f":"IFERROR(VLOOKUP(C195,PivotGHRF!A:B,2,FALSE),\" \")","v":" "},0,0,{"$f":"IFERROR(VLOOKUP(C195,PivotESA!A:C,3,FALSE),\" \")","v":" "},0,{"$f":"IFERROR(VLOOKUP(C195,PivotGHRF!A:B,2,FALSE),\" \")","v":" "},0.1,0,{"$f":"IFERROR(VLOOKUP(C195,PivotGH!A:C,3,FALSE),\" \")","v":" "},0,{"$f":"IFERROR(VLOOKUP(C195,PivotGHRF!A:B,2,FALSE),\" \")","v":" "},0.1,0,{"$f":"IFERROR(VLOOKUP(C195,PivotGHRF!A:C,3,FALSE),\" \")","v":" "},0]
["Boccia","Boccia (R)","Boccia - Boccia (R)",{"$f":"IFERROR(VLOOKUP(C196,PivotGHRF!A:B,2,FALSE),\" \")","v":" "},0,0,{"$f":"IFERROR(VLOOKUP(C196,PivotESA!A:C,3,FALSE),\" \")","v":" "},0,{"$f":"IFERROR(VLOOKUP(C196,PivotGHRF!A:B,2,FALSE),\" \")","v":" "},0,0,{"$f":"IFERROR(VLOOKUP(C196,PivotGH!A:C,3,FALSE),\" \")","v":" "},0,{"$f":"IFERROR(VLOOKUP(C196,PivotGHRF!A:B,2,FALSE),\" \")","v":" "},0,0,{"$f":"IFERROR(VLOOKUP(C196,PivotGHRF!A:C,3,FALSE),\" \")","v":" "},0]
["Boccia","Para-Boccia","Boccia - Para-Boccia",{"$f":"IFERROR(VLOOKUP(C197,PivotGHRF!A:B,2,FALSE),\" \")","v":" "},0,0,{"$f":"IFERROR(VLOOKUP(C197,PivotESA!A:C,3,FALSE),\" \")","v":" "},0,{"$f":"IFERROR(VLOOKUP(C197,PivotGHRF!A:B,2,FALSE),\" \")","v":" "},0,0,{"$f":"IFERROR(VLOOKUP(C197,PivotGH!A:C,3,FALSE),\" \")","v":" "},0,{"$f":"IFERROR(VLOOKUP(C197,PivotGHRF!A:B,2,FALSE),\" \")","v":" "},0,0,{"$f":"IFERROR(VLOOKUP(C197,PivotGHRF!A:C,3,FALSE),\" \")","v":" "},0]
["Bodybuilding","Bodybuilding","Bodybuilding - Bodybuilding",{"$f":"IFERROR(VLOOKUP(C198,PivotGHRF!A:B,2,FALSE),\" \")","v":" "},0.05,0,{"$f":"IFERROR(VLOOKUP(C198,PivotESA!A:C,3,FALSE),\" \")","v":" "},0,{"$f":"IFERROR(VLOOKUP(C198,PivotGHRF!A:B,2,FALSE),\" \")","v":" "},0.3,0,{"$f":"IFERROR(VLOOKUP(C198,PivotGH!A:C,3,FALSE),\" \")","v":" "},0,{"$f":"IFERROR(VLOOKUP(C198,PivotGHRF!A:B,2,FALSE),\" \")","v":" "},0.3,0,{"$f":"IFERROR(VLOOKUP(C198,PivotGHRF!A:C,3,FALSE),\" \")","v":" "},0]
["Bodybuilding","FISAF Fitness","Bodybuilding - FISAF Fitness",{"$f":"IFERROR(VLOOKUP(C199,PivotGHRF!A:B,2,FALSE),\" \")","v":" "},"Not in TDSSA",0,{"$f":"IFERROR(VLOOKUP(C199,PivotESA!A:C,3,FALSE),\" \")","v":" "},{"$f":"IFERROR(F199-G199,0)","v":0},{"$f":"IFERROR(VLOOKUP(C199,PivotGHRF!A:B,2,FALSE),\" \")","v":" "},"Not in TDSSA",0,{"$f":"IFERROR(VLOOKUP(C199,PivotGH!A:C,3,FALSE),\" \")","v":" "},{"$f":"IFERROR(K199-L199,0)","v":0},{"$f":"IFERROR(VLOOKUP(C199,PivotGHRF!A:B,2,FALSE),\" \")","v":" "},"Not in TDSSA",0,{"$f":"IFERROR(VLOOKUP(C199,PivotGHRF!A:C,3,FALSE),\" \")","v":" "},{"$f":"IFERROR(P199-Q199,0)","v":0}]
["Bodybuilding","Fitness","Bodybuilding - Fitness",{"$f":"IFERROR(VLOOKUP(C200,PivotGHRF!A:B,2,FALSE),\" \")","v":" "},0.1,{"$f":"IFERROR(ROUNDUP(E200*D200,0),0)","v":0},{"$f":"IFERROR(VLOOKUP(C200,PivotESA!A:C,3,FALSE),\" \")","v":" "},0,{"$f":"IFERROR(VLOOKUP(C200,PivotGHRF!A:B,2,FALSE),\" \")","v":" "},0.3,{"$f":"IFERROR(ROUNDUP(J200*I200,0),0)","v":0},{"$f":"IFERROR(VLOOKUP(C200,PivotGH!A:C,3,FALSE),\" \")","v":" "},0,{"$f":"IFERROR(VLOOKUP(C200,PivotGHRF!A:B,2,FALSE),\" \")","v":" "},0.3,{"$f":"IFERROR(ROUNDUP(O200*N200,0),0)","v":0},{"$f":"IFERROR(VLOOKUP(C200,PivotGHRF!A:C,3,FALSE),\" \")","v":" "},0]
["Bodybuilding","IDFA Bodybuilding","Bodybuilding - IDFA Bodybuilding",{"$f":"IFERROR(VLOOKUP(C201,PivotGHRF!A:B,2,FALSE),\" \")","v":" "},"Not in TDSSA",0,{"$f":"IFERROR(VLOOKUP(C201,PivotESA!A:C,3,FALSE),\" \")","v":" "},0,{"$f":"IFERROR(VLOOKUP(C201,PivotGHRF!A:B,2,FALSE),\" \")","v":" "},"Not in TDSSA",0,{"$f":"IFERROR(VLOOKUP(C201,PivotGH!A:C,3,FALSE),\" \")","v":" "},0,{"$f":"IFERROR(VLOOKUP(C201,PivotGHRF!A:B,2,FALSE),\" \")","v":" "},"Not in TDSSA",0,{"$f":"IFERROR(VLOOKUP(C201,PivotGHRF!A:C,3,FALSE),\" \")","v":" "},0]
["Bodybuilding","INBA Natural Bodybuilding","Bodybuilding - INBA Natural Bodybuilding",{"$f":"IFERROR(VLOOKUP(C202,PivotGHRF!A:B,2,FALSE),\" \")","v":" "},"Not in TDSSA",0,{"$f":"IFERROR(VLOOKUP(C202,PivotESA!A:C,3,FALSE),\" \")","v":" "},0,{"$f":"IFERROR(VLOOKUP(C202,PivotGHRF!A:B,2,FALSE),\" \")","v":" "},"Not in TDSSA",0,{"$f":"IFERROR(VLOOKUP(C202,PivotGH!A:C,3,FALSE),\" \")","v":" "},0,{"$f":"IFERROR(VLOOKUP(C202,PivotGHRF!A:B,2,FALSE),\" \")","v":" "},"Not in TDSSA",0,{"$f":"IFERROR(VLOOKUP(C202,PivotGHRF!A:C,3,FALSE),\" \")","v":" "},0]
["Bodybuilding","Physique Sports","Bodybuilding - Physique Sports",{"$f":"IFERROR(VLOOKUP(C203,PivotGHRF!A:B,2,FALSE),\" \")","v":" "},"Not in TDSSA",0,{"$f":"IFERROR(VLOOKUP(C203,PivotESA!A:C,3,FALSE),\" \")","v":" "},0,{"$f":"IFERROR(VLOOKUP(C203,PivotGHRF!A:B,2,FALSE),\" \")","v":" "},"Not in TDSSA",0,{"$f":"IFERROR(VLOOKUP(C203,PivotGH!A:C,3,FALSE),\" \")","v":" "},0,{"$f":"IFERROR(VLOOKUP(C203,PivotGHRF!A:B,2,FALSE),\" \")","v":" "},"Not in TDSSA",0,{"$f":"IFERROR(VLOOKUP(C203,PivotGHRF!A:C,3,FALSE),\" \")","v":" "},0]
["Bodybuilding","Natural Bodybuilding (R)","Bodybuilding - Natural Bodybuilding (R)",{"$f":"IFERROR(VLOOKUP(C204,PivotGHRF!A:B,2,FALSE),\" \")","v":" "},"Not in TDSSA",0,{"$f":"IFERROR(VLOOKUP(C204,PivotESA!A:C,3,FALSE),\" \")","v":" "},0,{"$f":"IFERROR(VLOOKUP(C204,PivotGHRF!A:B,2,FALSE),\" \")","v":" "},"Not in TDSSA",0,{"$f":"IFERROR(VLOOKUP(C204,PivotGH!A:C,3,FALSE),\" \")","v":" "},0,{"$f":"IFERROR(VLOOKUP(C204,PivotGHRF!A:B,2,FALSE),\" \")","v":" "},"Not in TDSSA",0,{"$f":"IFERROR(VLOOKUP(C204,PivotGHRF!A:C,3,FALSE),\" \")","v":" "},0]
["Bodybuilding","UIBBN Natural Bodybuilding","Bodybuilding - UIBBN Natural Bodybuilding",{"$f":"IFERROR(VLOOKUP(C205,PivotGHRF!A:B,2,FALSE),\" \")","v":" "},"Not in TDSSA",0,{"$f":"IFERROR(VLOOKUP(C205,PivotESA!A:C,3,FALSE),\" \")","v":" "},0,{"$f":"IFERROR(VLOOKUP(C205,PivotGHRF!A:B,2,FALSE),\" \")","v":" "},"Not in TDSSA",0,{"$f":"IFERROR(VLOOKUP(C205,PivotGH!A:C,3,FALSE),\" \")","v":" "},0,{"$f":"IFERROR(VLOOKUP(C205,PivotGHRF!A:B,2,FALSE),\" \")","v":" "},"Not in TDSSA",0,{"$f":"IFERROR(VLOOKUP(C205,PivotGHRF!A:C,3,FALSE),\" \")","v":" "},0]
["Bodybuilding","WNBF Natural Bodybuilding","Bodybuilding - WNBF Natural Bodybuilding",{"$f":"IFERROR(VLOOKUP(C206,PivotGHRF!A:B,2,FALSE),\" \")","v":" "},"Not in TDSSA",0,{"$f":"IFERROR(VLOOKUP(C206,PivotESA!A:C,3,FALSE),\" \")","v":" "},0,{"$f":"IFERROR(VLOOKUP(C206,PivotGHRF!A:B,2,FALSE),\" \")","v":" "},"Not in TDSSA",0,{"$f":"IFERROR(VLOOKUP(C206,PivotGH!A:C,3,FALSE),\" \")","v":" "},0,{"$f":"IFERROR(VLOOKUP(C206,PivotGHRF!A:B,2,FALSE),\" \")","v":" "},"Not in TDSSA",0,{"$f":"IFERROR(VLOOKUP(C206,PivotGHRF!A:C,3,FALSE),\" \")","v":" "},0]
["Bodybuilding","CrossFit","Bodybuilding - CrossFit",{"$f":"IFERROR(VLOOKUP(C207,PivotGHRF!A:B,2,FALSE),\" \")","v":" "},"Not in TDSSA",0,{"$f":"IFERROR(VLOOKUP(C207,PivotESA!A:C,3,FALSE),\" \")","v":" "},0,{"$f":"IFERROR(VLOOKUP(C207,PivotGHRF!A:B,2,FALSE),\" \")","v":" "},"Not in TDSSA",0,{"$f":"IFERROR(VLOOKUP(C207,PivotGH!A:C,3,FALSE),\" \")","v":" "},0,{"$f":"IFERROR(VLOOKUP(C207,PivotGHRF!A:B,2,FALSE),\" \")","v":" "},"Not in TDSSA",0,{"$f":"IFERROR(VLOOKUP(C207,PivotGHRF!A:C,3,FALSE),\" \")","v":" "},0]
["Boot-Throwing","Boot-Throwing","Boot-Throwing - Boot-Throwing",{"$f":"IFERROR(VLOOKUP(C208,PivotGHRF!A:B,2,FALSE),\" \")","v":" "},"Not in TDSSA",0,{"$f":"IFERROR(VLOOKUP(C208,PivotESA!A:C,3,FALSE),\" \")","v":" "},0,{"$f":"IFERROR(VLOOKUP(C208,PivotGHRF!A:B,2,FALSE),\" \")","v":" "},"Not in TDSSA",0,{"$f":"IFERROR(VLOOKUP(C208,PivotGH!A:C,3,FALSE),\" \")","v":" "},0,{"$f":"IFERROR(VLOOKUP(C208,PivotGHRF!A:B,2,FALSE),\" \")","v":" "},"Not in TDSSA",0,{"$f":"IFERROR(VLOOKUP(C208,PivotGHRF!A:C,3,FALSE),\" \")","v":" "},0]
["Boules Sports","Petanque","Boules Sports - Petanque",{"$f":"IFERROR(VLOOKUP(C209,PivotGHRF!A:B,2,FALSE),\" \")","v":" "},0,0,{"$f":"IFERROR(VLOOKUP(C209,PivotESA!A:C,3,FALSE),\" \")","v":" "},0,{"$f":"IFERROR(VLOOKUP(C209,PivotGHRF!A:B,2,FALSE),\" \")","v":" "},0,0,{"$f":"IFERROR(VLOOKUP(C209,PivotGH!A:C,3,FALSE),\" \")","v":" "},0,{"$f":"IFERROR(VLOOKUP(C209,PivotGHRF!A:B,2,FALSE),\" \")","v":" "},0,0,{"$f":"IFERROR(VLOOKUP(C209,PivotGHRF!A:C,3,FALSE),\" \")","v":" "},0]
["Boules Sports","Raffa","Boules Sports - Raffa",{"$f":"IFERROR(VLOOKUP(C210,PivotGHRF!A:B,2,FALSE),\" \")","v":" "},0,0,{"$f":"IFERROR(VLOOKUP(C210,PivotESA!A:C,3,FALSE),\" \")","v":" "},0,{"$f":"IFERROR(VLOOKUP(C210,PivotGHRF!A:B,2,FALSE),\" \")","v":" "},0,0,{"$f":"IFERROR(VLOOKUP(C210,PivotGH!A:C,3,FALSE),\" \")","v":" "},0,{"$f":"IFERROR(VLOOKUP(C210,PivotGHRF!A:B,2,FALSE),\" \")","v":" "},0,0,{"$f":"IFERROR(VLOOKUP(C210,PivotGHRF!A:C,3,FALSE),\" \")","v":" "},0]
["Boules Sports","Lyonnaise","Boules Sports - Lyonnaise",{"$f":"IFERROR(VLOOKUP(C211,PivotGHRF!A:B,2,FALSE),\" \")","v":" "},0,0,{"$f":"IFERROR(VLOOKUP(C211,PivotESA!A:C,3,FALSE),\" \")","v":" "},0,{"$f":"IFERROR(VLOOKUP(C211,PivotGHRF!A:B,2,FALSE),\" \")","v":" "},0,0,{"$f":"IFERROR(VLOOKUP(C211,PivotGH!A:C,3,FALSE),\" \")","v":" "},0,{"$f":"IFERROR(VLOOKUP(C211,PivotGHRF!A:B,2,FALSE),\" \")","v":" "},0,0,{"$f":"IFERROR(VLOOKUP(C211,PivotGHRF!A:C,3,FALSE),\" \")","v":" "},0]
["Boules Sports","Boules Sports","Boules Sports - Boules Sports",{"$f":"IFERROR(VLOOKUP(C212,PivotGHRF!A:B,2,FALSE),\" \")","v":" "},0,0,{"$f":"IFERROR(VLOOKUP(C212,PivotESA!A:C,3,FALSE),\" \")","v":" "},0,{"$f":"IFERROR(VLOOKUP(C212,PivotGHRF!A:B,2,FALSE),\" \")","v":" "},0,0,{"$f":"IFERROR(VLOOKUP(C212,PivotGH!A:C,3,FALSE),\" \")","v":" "},0,{"$f":"IFERROR(VLOOKUP(C212,PivotGHRF!A:B,2,FALSE),\" \")","v":" "},0,0,{"$f":"IFERROR(VLOOKUP(C212,PivotGHRF!A:C,3,FALSE),\" \")","v":" "},0]
["Boules Sports","Lawn Bowl","Boules Sports - Lawn Bowl",{"$f":"IFERROR(VLOOKUP(C213,PivotGHRF!A:B,2,FALSE),\" \")","v":" "},0,0,{"$f":"IFERROR(VLOOKUP(C213,PivotESA!A:C,3,FALSE),\" \")","v":" "},0,{"$f":"IFERROR(VLOOKUP(C213,PivotGHRF!A:B,2,FALSE),\" \")","v":" "},0,0,{"$f":"IFERROR(VLOOKUP(C213,PivotGH!A:C,3,FALSE),\" \")","v":" "},0,{"$f":"IFERROR(VLOOKUP(C213,PivotGHRF!A:B,2,FALSE),\" \")","v":" "},0,0,{"$f":"IFERROR(VLOOKUP(C213,PivotGHRF!A:C,3,FALSE),\" \")","v":" "},0]
["Bowling","Bowling","Bowling - Bowling",{"$f":"IFERROR(VLOOKUP(C214,PivotGHRF!A:B,2,FALSE),\" \")","v":" "},0,0,{"$f":"IFERROR(VLOOKUP(C214,PivotESA!A:C,3,FALSE),\" \")","v":" "},0,{"$f":"IFERROR(VLOOKUP(C214,PivotGHRF!A:B,2,FALSE),\" \")","v":" "},0,0,{"$f":"IFERROR(VLOOKUP(C214,PivotGH!A:C,3,FALSE),\" \")","v":" "},0,{"$f":"IFERROR(VLOOKUP(C214,PivotGHRF!A:B,2,FALSE),\" \")","v":" "},0,0,{"$f":"IFERROR(VLOOKUP(C214,PivotGHRF!A:C,3,FALSE),\" \")","v":" "},0]
["Bowling","Ten-Pin","Bowling - Ten-Pin",{"$f":"IFERROR(VLOOKUP(C215,PivotGHRF!A:B,2,FALSE),\" \")","v":" "},0,0,{"$f":"IFERROR(VLOOKUP(C215,PivotESA!A:C,3,FALSE),\" \")","v":" "},0,{"$f":"IFERROR(VLOOKUP(C215,PivotGHRF!A:B,2,FALSE),\" \")","v":" "},0,0,{"$f":"IFERROR(VLOOKUP(C215,PivotGH!A:C,3,FALSE),\" \")","v":" "},0,{"$f":"IFERROR(VLOOKUP(C215,PivotGHRF!A:B,2,FALSE),\" \")","v":" "},0,0,{"$f":"IFERROR(VLOOKUP(C215,PivotGHRF!A:C,3,FALSE),\" \")","v":" "},0]
["Bowling","Nine-Pin Classic","Bowling - Nine-Pin Classic",{"$f":"IFERROR(VLOOKUP(C216,PivotGHRF!A:B,2,FALSE),\" \")","v":" "},0,0,{"$f":"IFERROR(VLOOKUP(C216,PivotESA!A:C,3,FALSE),\" \")","v":" "},0,{"$f":"IFERROR(VLOOKUP(C216,PivotGHRF!A:B,2,FALSE),\" \")","v":" "},0,0,{"$f":"IFERROR(VLOOKUP(C216,PivotGH!A:C,3,FALSE),\" \")","v":" "},0,{"$f":"IFERROR(VLOOKUP(C216,PivotGHRF!A:B,2,FALSE),\" \")","v":" "},0,0,{"$f":"IFERROR(VLOOKUP(C216,PivotGHRF!A:C,3,FALSE),\" \")","v":" "},0]
["Bowling","Nine-Pin Schere","Bowling - Nine-Pin Schere",{"$f":"IFERROR(VLOOKUP(C217,PivotGHRF!A:B,2,FALSE),\" \")","v":" "},0,0,{"$f":"IFERROR(VLOOKUP(C217,PivotESA!A:C,3,FALSE),\" \")","v":" "},0,{"$f":"IFERROR(VLOOKUP(C217,PivotGHRF!A:B,2,FALSE),\" \")","v":" "},0,0,{"$f":"IFERROR(VLOOKUP(C217,PivotGH!A:C,3,FALSE),\" \")","v":" "},0,{"$f":"IFERROR(VLOOKUP(C217,PivotGHRF!A:B,2,FALSE),\" \")","v":" "},0,0,{"$f":"IFERROR(VLOOKUP(C217,PivotGHRF!A:C,3,FALSE),\" \")","v":" "},0]
["Bowling","CISS Bowling","Bowling - CISS Bowling",{"$f":"IFERROR(VLOOKUP(C218,PivotGHRF!A:B,2,FALSE),\" \")","v":" "},"Not in TDSSA",0,{"$f":"IFERROR(VLOOKUP(C218,PivotESA!A:C,3,FALSE),\" \")","v":" "},0,{"$f":"IFERROR(VLOOKUP(C218,PivotGHRF!A:B,2,FALSE),\" \")","v":" "},"Not in TDSSA",0,{"$f":"IFERROR(VLOOKUP(C218,PivotGH!A:C,3,FALSE),\" \")","v":" "},0,{"$f":"IFERROR(VLOOKUP(C218,PivotGHRF!A:B,2,FALSE),\" \")","v":" "},"Not in TDSSA",0,{"$f":"IFERROR(VLOOKUP(C218,PivotGHRF!A:C,3,FALSE),\" \")","v":" "},0]
["Bowling","IBSA tenpin bowling ","Bowling - IBSA tenpin bowling ",{"$f":"IFERROR(VLOOKUP(C219,PivotGHRF!A:B,2,FALSE),\" \")","v":" "},"Not in TDSSA",0,{"$f":"IFERROR(VLOOKUP(C219,PivotESA!A:C,3,FALSE),\" \")","v":" "},0,{"$f":"IFERROR(VLOOKUP(C219,PivotGHRF!A:B,2,FALSE),\" \")","v":" "},"Not in TDSSA",0,{"$f":"IFERROR(VLOOKUP(C219,PivotGH!A:C,3,FALSE),\" \")","v":" "},0,{"$f":"IFERROR(VLOOKUP(C219,PivotGHRF!A:B,2,FALSE),\" \")","v":" "},"Not in TDSSA",0,{"$f":"IFERROR(VLOOKUP(C219,PivotGHRF!A:C,3,FALSE),\" \")","v":" "},0]
["Bowling","IBSA Nine-Pin Bowling","Bowling - IBSA Nine-Pin Bowling",{"$f":"IFERROR(VLOOKUP(C220,PivotGHRF!A:B,2,FALSE),\" \")","v":" "},"Not in TDSSA",0,{"$f":"IFERROR(VLOOKUP(C220,PivotESA!A:C,3,FALSE),\" \")","v":" "},0,{"$f":"IFERROR(VLOOKUP(C220,PivotGHRF!A:B,2,FALSE),\" \")","v":" "},"Not in TDSSA",0,{"$f":"IFERROR(VLOOKUP(C220,PivotGH!A:C,3,FALSE),\" \")","v":" "},0,{"$f":"IFERROR(VLOOKUP(C220,PivotGHRF!A:B,2,FALSE),\" \")","v":" "},"Not in TDSSA",0,{"$f":"IFERROR(VLOOKUP(C220,PivotGHRF!A:C,3,FALSE),\" \")","v":" "},0]
["Bowls","Bowls","Bowls - Bowls",{"$f":"IFERROR(VLOOKUP(C221,PivotGHRF!A:B,2,FALSE),\" \")","v":" "},"Not in TDSSA",0,{"$f":"IFERROR(VLOOKUP(C221,PivotESA!A:C,3,FALSE),\" \")","v":" "},0,{"$f":"IFERROR(VLOOKUP(C221,PivotGHRF!A:B,2,FALSE),\" \")","v":" "},"Not in TDSSA",0,{"$f":"IFERROR(VLOOKUP(C221,PivotGH!A:C,3,FALSE),\" \")","v":" "},0,{"$f":"IFERROR(VLOOKUP(C221,PivotGHRF!A:B,2,FALSE),\" \")","v":" "},"Not in TDSSA",0,{"$f":"IFERROR(VLOOKUP(C221,PivotGHRF!A:C,3,FALSE),\" \")","v":" "},0]
["Boxing","AIBA Pro Boxing","Boxing - AIBA Pro Boxing",{"$f":"IFERROR(VLOOKUP(C222,PivotGHRF!A:B,2,FALSE),\" \")","v":" "},0.15,0,{"$f":"IFERROR(VLOOKUP(C222,PivotESA!A:C,3,FALSE),\" \")","v":" "},0,{"$f":"IFERROR(VLOOKUP(C222,PivotGHRF!A:B,2,FALSE),\" \")","v":" "},0.1,0,{"$f":"IFERROR(VLOOKUP(C222,PivotGH!A:C,3,FALSE),\" \")","v":" "},0,{"$f":"IFERROR(VLOOKUP(C222,PivotGHRF!A:B,2,FALSE),\" \")","v":" "},0.1,0,{"$f":"IFERROR(VLOOKUP(C222,PivotGHRF!A:C,3,FALSE),\" \")","v":" "},0]
["Boxing","BDB Professional Boxing","Boxing - BDB Professional Boxing",{"$f":"IFERROR(VLOOKUP(C223,PivotGHRF!A:B,2,FALSE),\" \")","v":" "},"Not in TDSSA",0,{"$f":"IFERROR(VLOOKUP(C223,PivotESA!A:C,3,FALSE),\" \")","v":" "},0,{"$f":"IFERROR(VLOOKUP(C223,PivotGHRF!A:B,2,FALSE),\" \")","v":" "},"Not in TDSSA",0,{"$f":"IFERROR(VLOOKUP(C223,PivotGH!A:C,3,FALSE),\" \")","v":" "},0,{"$f":"IFERROR(VLOOKUP(C223,PivotGHRF!A:B,2,FALSE),\" \")","v":" "},"Not in TDSSA",0,{"$f":"IFERROR(VLOOKUP(C223,PivotGHRF!A:C,3,FALSE),\" \")","v":" "},0]
["Boxing","Boxing","Boxing - Boxing",{"$f":"IFERROR(VLOOKUP(C224,PivotGHRF!A:B,2,FALSE),\" \")","v":" "},0.15,0,{"$f":"IFERROR(VLOOKUP(C224,PivotESA!A:C,3,FALSE),\" \")","v":" "},0,{"$f":"IFERROR(VLOOKUP(C224,PivotGHRF!A:B,2,FALSE),\" \")","v":" "},0.1,0,{"$f":"IFERROR(VLOOKUP(C224,PivotGH!A:C,3,FALSE),\" \")","v":" "},0,{"$f":"IFERROR(VLOOKUP(C224,PivotGHRF!A:B,2,FALSE),\" \")","v":" "},0.1,0,{"$f":"IFERROR(VLOOKUP(C224,PivotGHRF!A:C,3,FALSE),\" \")","v":" "},0]
["Boxing","University","Boxing - University",{"$f":"IFERROR(VLOOKUP(C225,PivotGHRF!A:B,2,FALSE),\" \")","v":" "},"Not in TDSSA",0,{"$f":"IFERROR(VLOOKUP(C225,PivotESA!A:C,3,FALSE),\" \")","v":" "},0,{"$f":"IFERROR(VLOOKUP(C225,PivotGHRF!A:B,2,FALSE),\" \")","v":" "},"Not in TDSSA",0,{"$f":"IFERROR(VLOOKUP(C225,PivotGH!A:C,3,FALSE),\" \")","v":" "},0,{"$f":"IFERROR(VLOOKUP(C225,PivotGHRF!A:B,2,FALSE),\" \")","v":" "},"Not in TDSSA",0,{"$f":"IFERROR(VLOOKUP(C225,PivotGHRF!A:C,3,FALSE),\" \")","v":" "},0]
["Boxing","FVA Professional Boxing","Boxing - FVA Professional Boxing",{"$f":"IFERROR(VLOOKUP(C226,PivotGHRF!A:B,2,FALSE),\" \")","v":" "},"Not in TDSSA",0,{"$f":"IFERROR(VLOOKUP(C226,PivotESA!A:C,3,FALSE),\" \")","v":" "},0,{"$f":"IFERROR(VLOOKUP(C226,PivotGHRF!A:B,2,FALSE),\" \")","v":" "},"Not in TDSSA",0,{"$f":"IFERROR(VLOOKUP(C226,PivotGH!A:C,3,FALSE),\" \")","v":" "},0,{"$f":"IFERROR(VLOOKUP(C226,PivotGHRF!A:B,2,FALSE),\" \")","v":" "},"Not in TDSSA",0,{"$f":"IFERROR(VLOOKUP(C226,PivotGHRF!A:C,3,FALSE),\" \")","v":" "},0]
["Boxing","GBU Professional Boxing","Boxing - GBU Professional Boxing",{"$f":"IFERROR(VLOOKUP(C227,PivotGHRF!A:B,2,FALSE),\" \")","v":" "},"Not in TDSSA",0,{"$f":"IFERROR(VLOOKUP(C227,PivotESA!A:C,3,FALSE),\" \")","v":" "},0,{"$f":"IFERROR(VLOOKUP(C227,PivotGHRF!A:B,2,FALSE),\" \")","v":" "},"Not in TDSSA",0,{"$f":"IFERROR(VLOOKUP(C227,PivotGH!A:C,3,FALSE),\" \")","v":" "},0,{"$f":"IFERROR(VLOOKUP(C227,PivotGHRF!A:B,2,FALSE),\" \")","v":" "},"Not in TDSSA",0,{"$f":"IFERROR(VLOOKUP(C227,PivotGHRF!A:C,3,FALSE),\" \")","v":" "},0]
["Boxing","WBA Professional Boxing","Boxing - WBA Professional Boxing",{"$f":"IFERROR(VLOOKUP(C228,PivotGHRF!A:B,2,FALSE),\" \")","v":" "},"Not in TDSSA",0,{"$f":"IFERROR(VLOOKUP(C228,PivotESA!A:C,3,FALSE),\" \")","v":" "},0,{"$f":"IFERROR(VLOOKUP(C228,PivotGHRF!A:B,2,FALSE),\" \")","v":" "},"Not in TDSSA",0,{"$f":"IFERROR(VLOOKUP(C228,PivotGH!A:C,3,FALSE),\" \")","v":" "},0,{"$f":"IFERROR(VLOOKUP(C228,PivotGHRF!A:B,2,FALSE),\" \")","v":" "},"Not in TDSSA",0,{"$f":"IFERROR(VLOOKUP(C228,PivotGHRF!A:C,3,FALSE),\" \")","v":" "},0]
["Boxing","IBO Professional Boxing","Boxing - IBO Professional Boxing",{"$f":"IFERROR(VLOOKUP(C229,PivotGHRF!A:B,2,FALSE),\" \")","v":" "},"Not in TDSSA",0,{"$f":"IFERROR(VLOOKUP(C229,PivotESA!A:C,3,FALSE),\" \")","v":" "},0,{"$f":"IFERROR(VLOOKUP(C229,PivotGHRF!A:B,2,FALSE),\" \")","v":" "},"Not in TDSSA",0,{"$f":"IFERROR(VLOOKUP(C229,PivotGH!A:C,3,FALSE),\" \")","v":" "},0,{"$f":"IFERROR(VLOOKUP(C229,PivotGHRF!A:B,2,FALSE),\" \")","v":" "},"Not in TDSSA",0,{"$f":"IFERROR(VLOOKUP(C229,PivotGHRF!A:C,3,FALSE),\" \")","v":" "},0]
["Boxing","Military Boxing","Boxing - Military Boxing",{"$f":"IFERROR(VLOOKUP(C230,PivotGHRF!A:B,2,FALSE),\" \")","v":" "},"Not in TDSSA",0,{"$f":"IFERROR(VLOOKUP(C230,PivotESA!A:C,3,FALSE),\" \")","v":" "},0,{"$f":"IFERROR(VLOOKUP(C230,PivotGHRF!A:B,2,FALSE),\" \")","v":" "},"Not in TDSSA",0,{"$f":"IFERROR(VLOOKUP(C230,PivotGH!A:C,3,FALSE),\" \")","v":" "},0,{"$f":"IFERROR(VLOOKUP(C230,PivotGHRF!A:B,2,FALSE),\" \")","v":" "},"Not in TDSSA",0,{"$f":"IFERROR(VLOOKUP(C230,PivotGHRF!A:C,3,FALSE),\" \")","v":" "},0]
["Boxing","Professional Boxing","Boxing - Professional Boxing",{"$f":"IFERROR(VLOOKUP(C231,PivotGHRF!A:B,2,FALSE),\" \")","v":" "},"Not in TDSSA",0,{"$f":"IFERROR(VLOOKUP(C231,PivotESA!A:C,3,FALSE),\" \")","v":" "},0,{"$f":"IFERROR(VLOOKUP(C231,PivotGHRF!A:B,2,FALSE),\" \")","v":" "},"Not in TDSSA",0,{"$f":"IFERROR(VLOOKUP(C231,PivotGH!A:C,3,FALSE),\" \")","v":" "},0,{"$f":"IFERROR(VLOOKUP(C231,PivotGHRF!A:B,2,FALSE),\" \")","v":" "},"Not in TDSSA",0,{"$f":"IFERROR(VLOOKUP(C231,PivotGHRF!A:C,3,FALSE),\" \")","v":" "},0]
["Boxing","WBC Professional Boxing","Boxing - WBC Professional Boxing",{"$f":"IFERROR(VLOOKUP(C232,PivotGHRF!A:B,2,FALSE),\" \")","v":" "},"Not in TDSSA",0,{"$f":"IFERROR(VLOOKUP(C232,PivotESA!A:C,3,FALSE),\" \")","v":" "},0,{"$f":"IFERROR(VLOOKUP(C232,PivotGHRF!A:B,2,FALSE),\" \")","v":" "},"Not in TDSSA",0,{"$f":"IFERROR(VLOOKUP(C232,PivotGH!A:C,3,FALSE),\" \")","v":" "},0,{"$f":"IFERROR(VLOOKUP(C232,PivotGHRF!A:B,2,FALSE),\" \")","v":" "},"Not in TDSSA",0,{"$f":"IFERROR(VLOOKUP(C232,PivotGHRF!A:C,3,FALSE),\" \")","v":" "},0]
["Boxing","WBF Professional Boxing","Boxing - WBF Professional Boxing",{"$f":"IFERROR(VLOOKUP(C233,PivotGHRF!A:B,2,FALSE),\" \")","v":" "},"Not in TDSSA",0,{"$f":"IFERROR(VLOOKUP(C233,PivotESA!A:C,3,FALSE),\" \")","v":" "},0,{"$f":"IFERROR(VLOOKUP(C233,PivotGHRF!A:B,2,FALSE),\" \")","v":" "},"Not in TDSSA",0,{"$f":"IFERROR(VLOOKUP(C233,PivotGH!A:C,3,FALSE),\" \")","v":" "},0,{"$f":"IFERROR(VLOOKUP(C233,PivotGHRF!A:B,2,FALSE),\" \")","v":" "},"Not in TDSSA",0,{"$f":"IFERROR(VLOOKUP(C233,PivotGHRF!A:C,3,FALSE),\" \")","v":" "},0]
["Boxing","WBO Professional Boxing","Boxing - WBO Professional Boxing",{"$f":"IFERROR(VLOOKUP(C234,PivotGHRF!A:B,2,FALSE),\" \")","v":" "},"Not in TDSSA",0,{"$f":"IFERROR(VLOOKUP(C234,PivotESA!A:C,3,FALSE),\" \")","v":" "},0,{"$f":"IFERROR(VLOOKUP(C234,PivotGHRF!A:B,2,FALSE),\" \")","v":" "},"Not in TDSSA",0,{"$f":"IFERROR(VLOOKUP(C234,PivotGH!A:C,3,FALSE),\" \")","v":" "},0,{"$f":"IFERROR(VLOOKUP(C234,PivotGHRF!A:B,2,FALSE),\" \")","v":" "},"Not in TDSSA",0,{"$f":"IFERROR(VLOOKUP(C234,PivotGHRF!A:C,3,FALSE),\" \")","v":" "},0]
["Boxing","AIBA WSB Boxing","Boxing - AIBA WSB Boxing",{"$f":"IFERROR(VLOOKUP(C235,PivotGHRF!A:B,2,FALSE),\" \")","v":" "},0.15,0,{"$f":"IFERROR(VLOOKUP(C235,PivotESA!A:C,3,FALSE),\" \")","v":" "},0,{"$f":"IFERROR(VLOOKUP(C235,PivotGHRF!A:B,2,FALSE),\" \")","v":" "},0.1,0,{"$f":"IFERROR(VLOOKUP(C235,PivotGH!A:C,3,FALSE),\" \")","v":" "},0,{"$f":"IFERROR(VLOOKUP(C235,PivotGHRF!A:B,2,FALSE),\" \")","v":" "},0.1,0,{"$f":"IFERROR(VLOOKUP(C235,PivotGHRF!A:C,3,FALSE),\" \")","v":" "},0]
["Bridge","Bridge","Bridge - Bridge",{"$f":"IFERROR(VLOOKUP(C236,PivotGHRF!A:B,2,FALSE),\" \")","v":" "},0,0,{"$f":"IFERROR(VLOOKUP(C236,PivotESA!A:C,3,FALSE),\" \")","v":" "},0,{"$f":"IFERROR(VLOOKUP(C236,PivotGHRF!A:B,2,FALSE),\" \")","v":" "},0,0,{"$f":"IFERROR(VLOOKUP(C236,PivotGH!A:C,3,FALSE),\" \")","v":" "},0,{"$f":"IFERROR(VLOOKUP(C236,PivotGHRF!A:B,2,FALSE),\" \")","v":" "},0,0,{"$f":"IFERROR(VLOOKUP(C236,PivotGHRF!A:C,3,FALSE),\" \")","v":" "},0]
["Bridge","University","Bridge - University",{"$f":"IFERROR(VLOOKUP(C237,PivotGHRF!A:B,2,FALSE),\" \")","v":" "},"Not in TDSSA",0,{"$f":"IFERROR(VLOOKUP(C237,PivotESA!A:C,3,FALSE),\" \")","v":" "},0,{"$f":"IFERROR(VLOOKUP(C237,PivotGHRF!A:B,2,FALSE),\" \")","v":" "},"Not in TDSSA",0,{"$f":"IFERROR(VLOOKUP(C237,PivotGH!A:C,3,FALSE),\" \")","v":" "},0,{"$f":"IFERROR(VLOOKUP(C237,PivotGHRF!A:B,2,FALSE),\" \")","v":" "},"Not in TDSSA",0,{"$f":"IFERROR(VLOOKUP(C237,PivotGHRF!A:C,3,FALSE),\" \")","v":" "},0]
["Broomball","Broomball","Broomball - Broomball",{"$f":"IFERROR(VLOOKUP(C238,PivotGHRF!A:B,2,FALSE),\" \")","v":" "},"Not in TDSSA",0,{"$f":"IFERROR(VLOOKUP(C238,PivotESA!A:C,3,FALSE),\" \")","v":" "},0,{"$f":"IFERROR(VLOOKUP(C238,PivotGHRF!A:B,2,FALSE),\" \")","v":" "},"Not in TDSSA",0,{"$f":"IFERROR(VLOOKUP(C238,PivotGH!A:C,3,FALSE),\" \")","v":" "},0,{"$f":"IFERROR(VLOOKUP(C238,PivotGHRF!A:B,2,FALSE),\" \")","v":" "},"Not in TDSSA",0,{"$f":"IFERROR(VLOOKUP(C238,PivotGHRF!A:C,3,FALSE),\" \")","v":" "},0]
["Budo","Budo","Budo - Budo",{"$f":"IFERROR(VLOOKUP(C239,PivotGHRF!A:B,2,FALSE),\" \")","v":" "},"Not in TDSSA",0,{"$f":"IFERROR(VLOOKUP(C239,PivotESA!A:C,3,FALSE),\" \")","v":" "},0,{"$f":"IFERROR(VLOOKUP(C239,PivotGHRF!A:B,2,FALSE),\" \")","v":" "},"Not in TDSSA",0,{"$f":"IFERROR(VLOOKUP(C239,PivotGH!A:C,3,FALSE),\" \")","v":" "},0,{"$f":"IFERROR(VLOOKUP(C239,PivotGHRF!A:B,2,FALSE),\" \")","v":" "},"Not in TDSSA",0,{"$f":"IFERROR(VLOOKUP(C239,PivotGHRF!A:C,3,FALSE),\" \")","v":" "},0]
["Canoe/Kayak","University ","Canoe/Kayak - University ",{"$f":"IFERROR(VLOOKUP(C240,PivotGHRF!A:B,2,FALSE),\" \")","v":" "},"Not in TDSSA",0,{"$f":"IFERROR(VLOOKUP(C240,PivotESA!A:C,3,FALSE),\" \")","v":" "},0,{"$f":"IFERROR(VLOOKUP(C240,PivotGHRF!A:B,2,FALSE),\" \")","v":" "},"Not in TDSSA",0,{"$f":"IFERROR(VLOOKUP(C240,PivotGH!A:C,3,FALSE),\" \")","v":" "},0,{"$f":"IFERROR(VLOOKUP(C240,PivotGHRF!A:B,2,FALSE),\" \")","v":" "},"Not in TDSSA",0,{"$f":"IFERROR(VLOOKUP(C240,PivotGHRF!A:C,3,FALSE),\" \")","v":" "},0]
["Canoe/Kayak","University Canoe Sprint (R)","Canoe/Kayak - University Canoe Sprint (R)",{"$f":"IFERROR(VLOOKUP(C241,PivotGHRF!A:B,2,FALSE),\" \")","v":" "},"Not in TDSSA",0,{"$f":"IFERROR(VLOOKUP(C241,PivotESA!A:C,3,FALSE),\" \")","v":" "},0,{"$f":"IFERROR(VLOOKUP(C241,PivotGHRF!A:B,2,FALSE),\" \")","v":" "},"Not in TDSSA",0,{"$f":"IFERROR(VLOOKUP(C241,PivotGH!A:C,3,FALSE),\" \")","v":" "},0,{"$f":"IFERROR(VLOOKUP(C241,PivotGHRF!A:B,2,FALSE),\" \")","v":" "},"Not in TDSSA",0,{"$f":"IFERROR(VLOOKUP(C241,PivotGHRF!A:C,3,FALSE),\" \")","v":" "},0]
["Canoe/Kayak","University Wild Water","Canoe/Kayak - University Wild Water",{"$f":"IFERROR(VLOOKUP(C242,PivotGHRF!A:B,2,FALSE),\" \")","v":" "},"Not in TDSSA",0,{"$f":"IFERROR(VLOOKUP(C242,PivotESA!A:C,3,FALSE),\" \")","v":" "},0,{"$f":"IFERROR(VLOOKUP(C242,PivotGHRF!A:B,2,FALSE),\" \")","v":" "},"Not in TDSSA",0,{"$f":"IFERROR(VLOOKUP(C242,PivotGH!A:C,3,FALSE),\" \")","v":" "},0,{"$f":"IFERROR(VLOOKUP(C242,PivotGHRF!A:B,2,FALSE),\" \")","v":" "},"Not in TDSSA",0,{"$f":"IFERROR(VLOOKUP(C242,PivotGHRF!A:C,3,FALSE),\" \")","v":" "},0]
["Canoe/Kayak","Freestyle","Canoe/Kayak - Freestyle",{"$f":"IFERROR(VLOOKUP(C243,PivotGHRF!A:B,2,FALSE),\" \")","v":" "},0.05,0,{"$f":"IFERROR(VLOOKUP(C243,PivotESA!A:C,3,FALSE),\" \")","v":" "},0,{"$f":"IFERROR(VLOOKUP(C243,PivotGHRF!A:B,2,FALSE),\" \")","v":" "},0.1,0,{"$f":"IFERROR(VLOOKUP(C243,PivotGH!A:C,3,FALSE),\" \")","v":" "},0,{"$f":"IFERROR(VLOOKUP(C243,PivotGHRF!A:B,2,FALSE),\" \")","v":" "},0.1,0,{"$f":"IFERROR(VLOOKUP(C243,PivotGHRF!A:C,3,FALSE),\" \")","v":" "},0]
["Canoe/Kayak","Long Distance 1000m","Canoe/Kayak - Long Distance 1000m",{"$f":"IFERROR(VLOOKUP(C244,PivotGHRF!A:B,2,FALSE),\" \")","v":" "},0.3,0,{"$f":"IFERROR(VLOOKUP(C244,PivotESA!A:C,3,FALSE),\" \")","v":" "},0,{"$f":"IFERROR(VLOOKUP(C244,PivotGHRF!A:B,2,FALSE),\" \")","v":" "},0.05,0,{"$f":"IFERROR(VLOOKUP(C244,PivotGH!A:C,3,FALSE),\" \")","v":" "},0,{"$f":"IFERROR(VLOOKUP(C244,PivotGHRF!A:B,2,FALSE),\" \")","v":" "},0.05,0,{"$f":"IFERROR(VLOOKUP(C244,PivotGHRF!A:C,3,FALSE),\" \")","v":" "},0]
["Canoe/Kayak","Middle Distance 500m","Canoe/Kayak - Middle Distance 500m",{"$f":"IFERROR(VLOOKUP(C245,PivotGHRF!A:B,2,FALSE),\" \")","v":" "},0.15,0,{"$f":"IFERROR(VLOOKUP(C245,PivotESA!A:C,3,FALSE),\" \")","v":" "},0,{"$f":"IFERROR(VLOOKUP(C245,PivotGHRF!A:B,2,FALSE),\" \")","v":" "},0.1,0,{"$f":"IFERROR(VLOOKUP(C245,PivotGH!A:C,3,FALSE),\" \")","v":" "},0,{"$f":"IFERROR(VLOOKUP(C245,PivotGHRF!A:B,2,FALSE),\" \")","v":" "},0.1,0,{"$f":"IFERROR(VLOOKUP(C245,PivotGHRF!A:C,3,FALSE),\" \")","v":" "},0]
["Canoe/Kayak","Marathon","Canoe/Kayak - Marathon",{"$f":"IFERROR(VLOOKUP(C246,PivotGHRF!A:B,2,FALSE),\" \")","v":" "},0.3,0,{"$f":"IFERROR(VLOOKUP(C246,PivotESA!A:C,3,FALSE),\" \")","v":" "},0,{"$f":"IFERROR(VLOOKUP(C246,PivotGHRF!A:B,2,FALSE),\" \")","v":" "},0.05,0,{"$f":"IFERROR(VLOOKUP(C246,PivotGH!A:C,3,FALSE),\" \")","v":" "},0,{"$f":"IFERROR(VLOOKUP(C246,PivotGHRF!A:B,2,FALSE),\" \")","v":" "},0.05,0,{"$f":"IFERROR(VLOOKUP(C246,PivotGHRF!A:C,3,FALSE),\" \")","v":" "},0]
["Canoe/Kayak","Canoe Polo","Canoe/Kayak - Canoe Polo",{"$f":"IFERROR(VLOOKUP(C247,PivotGHRF!A:B,2,FALSE),\" \")","v":" "},0.05,0,{"$f":"IFERROR(VLOOKUP(C247,PivotESA!A:C,3,FALSE),\" \")","v":" "},0,{"$f":"IFERROR(VLOOKUP(C247,PivotGHRF!A:B,2,FALSE),\" \")","v":" "},0.1,0,{"$f":"IFERROR(VLOOKUP(C247,PivotGH!A:C,3,FALSE),\" \")","v":" "},0,{"$f":"IFERROR(VLOOKUP(C247,PivotGHRF!A:B,2,FALSE),\" \")","v":" "},0.1,0,{"$f":"IFERROR(VLOOKUP(C247,PivotGHRF!A:C,3,FALSE),\" \")","v":" "},0]
["Canoe/Kayak","Canoe Slalom","Canoe/Kayak - Canoe Slalom",{"$f":"IFERROR(VLOOKUP(C248,PivotGHRF!A:B,2,FALSE),\" \")","v":" "},0.15,0,{"$f":"IFERROR(VLOOKUP(C248,PivotESA!A:C,3,FALSE),\" \")","v":" "},0,{"$f":"IFERROR(VLOOKUP(C248,PivotGHRF!A:B,2,FALSE),\" \")","v":" "},0.1,0,{"$f":"IFERROR(VLOOKUP(C248,PivotGH!A:C,3,FALSE),\" \")","v":" "},0,{"$f":"IFERROR(VLOOKUP(C248,PivotGHRF!A:B,2,FALSE),\" \")","v":" "},0.1,0,{"$f":"IFERROR(VLOOKUP(C248,PivotGHRF!A:C,3,FALSE),\" \")","v":" "},0]
["Canoe/Kayak","Sprint 200m","Canoe/Kayak - Sprint 200m",{"$f":"IFERROR(VLOOKUP(C249,PivotGHRF!A:B,2,FALSE),\" \")","v":" "},0.1,0,{"$f":"IFERROR(VLOOKUP(C249,PivotESA!A:C,3,FALSE),\" \")","v":" "},0,{"$f":"IFERROR(VLOOKUP(C249,PivotGHRF!A:B,2,FALSE),\" \")","v":" "},0.1,0,{"$f":"IFERROR(VLOOKUP(C249,PivotGH!A:C,3,FALSE),\" \")","v":" "},0,{"$f":"IFERROR(VLOOKUP(C249,PivotGHRF!A:B,2,FALSE),\" \")","v":" "},0.1,0,{"$f":"IFERROR(VLOOKUP(C249,PivotGHRF!A:C,3,FALSE),\" \")","v":" "},0]
["Canoe/Kayak","Dragon Boat","Canoe/Kayak - Dragon Boat",{"$f":"IFERROR(VLOOKUP(C250,PivotGHRF!A:B,2,FALSE),\" \")","v":" "},0.1,0,{"$f":"IFERROR(VLOOKUP(C250,PivotESA!A:C,3,FALSE),\" \")","v":" "},0,{"$f":"IFERROR(VLOOKUP(C250,PivotGHRF!A:B,2,FALSE),\" \")","v":" "},0.05,0,{"$f":"IFERROR(VLOOKUP(C250,PivotGH!A:C,3,FALSE),\" \")","v":" "},0,{"$f":"IFERROR(VLOOKUP(C250,PivotGHRF!A:B,2,FALSE),\" \")","v":" "},0.05,0,{"$f":"IFERROR(VLOOKUP(C250,PivotGHRF!A:C,3,FALSE),\" \")","v":" "},0]
["Canoe/Kayak","Ocean Racing","Canoe/Kayak - Ocean Racing",{"$f":"IFERROR(VLOOKUP(C251,PivotGHRF!A:B,2,FALSE),\" \")","v":" "},0.15,0,{"$f":"IFERROR(VLOOKUP(C251,PivotESA!A:C,3,FALSE),\" \")","v":" "},0,{"$f":"IFERROR(VLOOKUP(C251,PivotGHRF!A:B,2,FALSE),\" \")","v":" "},0.05,0,{"$f":"IFERROR(VLOOKUP(C251,PivotGH!A:C,3,FALSE),\" \")","v":" "},0,{"$f":"IFERROR(VLOOKUP(C251,PivotGHRF!A:B,2,FALSE),\" \")","v":" "},0.05,0,{"$f":"IFERROR(VLOOKUP(C251,PivotGHRF!A:C,3,FALSE),\" \")","v":" "},0]
["Canoe/Kayak","Para-Canoe Sprint","Canoe/Kayak - Para-Canoe Sprint",{"$f":"IFERROR(VLOOKUP(C252,PivotGHRF!A:B,2,FALSE),\" \")","v":" "},0.1,0,{"$f":"IFERROR(VLOOKUP(C252,PivotESA!A:C,3,FALSE),\" \")","v":" "},0,{"$f":"IFERROR(VLOOKUP(C252,PivotGHRF!A:B,2,FALSE),\" \")","v":" "},0.1,0,{"$f":"IFERROR(VLOOKUP(C252,PivotGH!A:C,3,FALSE),\" \")","v":" "},0,{"$f":"IFERROR(VLOOKUP(C252,PivotGHRF!A:B,2,FALSE),\" \")","v":" "},0.1,0,{"$f":"IFERROR(VLOOKUP(C252,PivotGHRF!A:C,3,FALSE),\" \")","v":" "},0]
["Canoe/Kayak","University Dragon Boat","Canoe/Kayak - University Dragon Boat",{"$f":"IFERROR(VLOOKUP(C253,PivotGHRF!A:B,2,FALSE),\" \")","v":" "},"Not in TDSSA",0,{"$f":"IFERROR(VLOOKUP(C253,PivotESA!A:C,3,FALSE),\" \")","v":" "},0,{"$f":"IFERROR(VLOOKUP(C253,PivotGHRF!A:B,2,FALSE),\" \")","v":" "},"Not in TDSSA",0,{"$f":"IFERROR(VLOOKUP(C253,PivotGH!A:C,3,FALSE),\" \")","v":" "},0,{"$f":"IFERROR(VLOOKUP(C253,PivotGHRF!A:B,2,FALSE),\" \")","v":" "},"Not in TDSSA",0,{"$f":"IFERROR(VLOOKUP(C253,PivotGHRF!A:C,3,FALSE),\" \")","v":" "},0]
["Canoe/Kayak","University Freestyle","Canoe/Kayak - University Freestyle",{"$f":"IFERROR(VLOOKUP(C254,PivotGHRF!A:B,2,FALSE),\" \")","v":" "},"Not in TDSSA",0,{"$f":"IFERROR(VLOOKUP(C254,PivotESA!A:C,3,FALSE),\" \")","v":" "},0,{"$f":"IFERROR(VLOOKUP(C254,PivotGHRF!A:B,2,FALSE),\" \")","v":" "},"Not in TDSSA",0,{"$f":"IFERROR(VLOOKUP(C254,PivotGH!A:C,3,FALSE),\" \")","v":" "},0,{"$f":"IFERROR(VLOOKUP(C254,PivotGHRF!A:B,2,FALSE),\" \")","v":" "},"Not in TDSSA",0,{"$f":"IFERROR(VLOOKUP(C254,PivotGHRF!A:C,3,FALSE),\" \")","v":" "},0]
["Canoe/Kayak","University Long Distance 1000m","Canoe/Kayak - University Long Distance 1000m",{"$f":"IFERROR(VLOOKUP(C255,PivotGHRF!A:B,2,FALSE),\" \")","v":" "},"Not in TDSSA",0,{"$f":"IFERROR(VLOOKUP(C255,PivotESA!A:C,3,FALSE),\" \")","v":" "},0,{"$f":"IFERROR(VLOOKUP(C255,PivotGHRF!A:B,2,FALSE),\" \")","v":" "},"Not in TDSSA",0,{"$f":"IFERROR(VLOOKUP(C255,PivotGH!A:C,3,FALSE),\" \")","v":" "},0,{"$f":"IFERROR(VLOOKUP(C255,PivotGHRF!A:B,2,FALSE),\" \")","v":" "},"Not in TDSSA",0,{"$f":"IFERROR(VLOOKUP(C255,PivotGHRF!A:C,3,FALSE),\" \")","v":" "},0]
["Canoe/Kayak","University Marathon","Canoe/Kayak - University Marathon",{"$f":"IFERROR(VLOOKUP(C256,PivotGHRF!A:B,2,FALSE),\" \")","v":" "},"Not in TDSSA",0,{"$f":"IFERROR(VLOOKUP(C256,PivotESA!A:C,3,FALSE),\" \")","v":" "},0,{"$f":"IFERROR(VLOOKUP(C256,PivotGHRF!A:B,2,FALSE),\" \")","v":" "},"Not in TDSSA",0,{"$f":"IFERROR(VLOOKUP(C256,PivotGH!A:C,3,FALSE),\" \")","v":" "},0,{"$f":"IFERROR(VLOOKUP(C256,PivotGHRF!A:B,2,FALSE),\" \")","v":" "},"Not in TDSSA",0,{"$f":"IFERROR(VLOOKUP(C256,PivotGHRF!A:C,3,FALSE),\" \")","v":" "},0]
["Canoe/Kayak","University Middle Distance 500m","Canoe/Kayak - University Middle Distance 500m",{"$f":"IFERROR(VLOOKUP(C257,PivotGHRF!A:B,2,FALSE),\" \")","v":" "},"Not in TDSSA",0,{"$f":"IFERROR(VLOOKUP(C257,PivotESA!A:C,3,FALSE),\" \")","v":" "},0,{"$f":"IFERROR(VLOOKUP(C257,PivotGHRF!A:B,2,FALSE),\" \")","v":" "},"Not in TDSSA",0,{"$f":"IFERROR(VLOOKUP(C257,PivotGH!A:C,3,FALSE),\" \")","v":" "},0,{"$f":"IFERROR(VLOOKUP(C257,PivotGHRF!A:B,2,FALSE),\" \")","v":" "},"Not in TDSSA",0,{"$f":"IFERROR(VLOOKUP(C257,PivotGHRF!A:C,3,FALSE),\" \")","v":" "},0]
["Canoe/Kayak","University Canoe Polo","Canoe/Kayak - University Canoe Polo",{"$f":"IFERROR(VLOOKUP(C258,PivotGHRF!A:B,2,FALSE),\" \")","v":" "},"Not in TDSSA",0,{"$f":"IFERROR(VLOOKUP(C258,PivotESA!A:C,3,FALSE),\" \")","v":" "},0,{"$f":"IFERROR(VLOOKUP(C258,PivotGHRF!A:B,2,FALSE),\" \")","v":" "},"Not in TDSSA",0,{"$f":"IFERROR(VLOOKUP(C258,PivotGH!A:C,3,FALSE),\" \")","v":" "},0,{"$f":"IFERROR(VLOOKUP(C258,PivotGHRF!A:B,2,FALSE),\" \")","v":" "},"Not in TDSSA",0,{"$f":"IFERROR(VLOOKUP(C258,PivotGHRF!A:C,3,FALSE),\" \")","v":" "},0]
["Canoe/Kayak","University Ocean Racing","Canoe/Kayak - University Ocean Racing",{"$f":"IFERROR(VLOOKUP(C259,PivotGHRF!A:B,2,FALSE),\" \")","v":" "},"Not in TDSSA",0,{"$f":"IFERROR(VLOOKUP(C259,PivotESA!A:C,3,FALSE),\" \")","v":" "},0,{"$f":"IFERROR(VLOOKUP(C259,PivotGHRF!A:B,2,FALSE),\" \")","v":" "},"Not in TDSSA",0,{"$f":"IFERROR(VLOOKUP(C259,PivotGH!A:C,3,FALSE),\" \")","v":" "},0,{"$f":"IFERROR(VLOOKUP(C259,PivotGHRF!A:B,2,FALSE),\" \")","v":" "},"Not in TDSSA",0,{"$f":"IFERROR(VLOOKUP(C259,PivotGHRF!A:C,3,FALSE),\" \")","v":" "},0]
["Canoe/Kayak","University Canoe Slalom","Canoe/Kayak - University Canoe Slalom",{"$f":"IFERROR(VLOOKUP(C260,PivotGHRF!A:B,2,FALSE),\" \")","v":" "},"Not in TDSSA",0,{"$f":"IFERROR(VLOOKUP(C260,PivotESA!A:C,3,FALSE),\" \")","v":" "},0,{"$f":"IFERROR(VLOOKUP(C260,PivotGHRF!A:B,2,FALSE),\" \")","v":" "},"Not in TDSSA",0,{"$f":"IFERROR(VLOOKUP(C260,PivotGH!A:C,3,FALSE),\" \")","v":" "},0,{"$f":"IFERROR(VLOOKUP(C260,PivotGHRF!A:B,2,FALSE),\" \")","v":" "},"Not in TDSSA",0,{"$f":"IFERROR(VLOOKUP(C260,PivotGHRF!A:C,3,FALSE),\" \")","v":" "},0]
["Canoe/Kayak","University Sprint 200m","Canoe/Kayak - University Sprint 200m",{"$f":"IFERROR(VLOOKUP(C261,PivotGHRF!A:B,2,FALSE),\" \")","v":" "},"Not in TDSSA",0,{"$f":"IFERROR(VLOOKUP(C261,PivotESA!A:C,3,FALSE),\" \")","v":" "},0,{"$f":"IFERROR(VLOOKUP(C261,PivotGHRF!A:B,2,FALSE),\" \")","v":" "},"Not in TDSSA",0,{"$f":"IFERROR(VLOOKUP(C261,PivotGH!A:C,3,FALSE),\" \")","v":" "},0,{"$f":"IFERROR(VLOOKUP(C261,PivotGHRF!A:B,2,FALSE),\" \")","v":" "},"Not in TDSSA",0,{"$f":"IFERROR(VLOOKUP(C261,PivotGHRF!A:C,3,FALSE),\" \")","v":" "},0]
["Canoe/Kayak","Wildwater","Canoe/Kayak - Wildwater",{"$f":"IFERROR(VLOOKUP(C262,PivotGHRF!A:B,2,FALSE),\" \")","v":" "},0.05,0,{"$f":"IFERROR(VLOOKUP(C262,PivotESA!A:C,3,FALSE),\" \")","v":" "},0,{"$f":"IFERROR(VLOOKUP(C262,PivotGHRF!A:B,2,FALSE),\" \")","v":" "},0.1,0,{"$f":"IFERROR(VLOOKUP(C262,PivotGH!A:C,3,FALSE),\" \")","v":" "},0,{"$f":"IFERROR(VLOOKUP(C262,PivotGHRF!A:B,2,FALSE),\" \")","v":" "},0.1,0,{"$f":"IFERROR(VLOOKUP(C262,PivotGHRF!A:C,3,FALSE),\" \")","v":" "},0]
["Casting","Casting","Casting - Casting",{"$f":"IFERROR(VLOOKUP(C263,PivotGHRF!A:B,2,FALSE),\" \")","v":" "},0,0,{"$f":"IFERROR(VLOOKUP(C263,PivotESA!A:C,3,FALSE),\" \")","v":" "},{"$f":"IFERROR(F263-G263,0)","v":0},{"$f":"IFERROR(VLOOKUP(C263,PivotGHRF!A:B,2,FALSE),\" \")","v":" "},0,0,{"$f":"IFERROR(VLOOKUP(C263,PivotGH!A:C,3,FALSE),\" \")","v":" "},{"$f":"IFERROR(K263-L263,0)","v":0},{"$f":"IFERROR(VLOOKUP(C263,PivotGHRF!A:B,2,FALSE),\" \")","v":" "},0,0,{"$f":"IFERROR(VLOOKUP(C263,PivotGHRF!A:C,3,FALSE),\" \")","v":" "},{"$f":"IFERROR(P263-Q263,0)","v":0}]
["Casting","Coarse Fishing","Casting - Coarse Fishing",{"$f":"IFERROR(VLOOKUP(C264,PivotGHRF!A:B,2,FALSE),\" \")","v":" "},0,{"$f":"IFERROR(ROUNDUP(E264*D264,0),0)","v":0},{"$f":"IFERROR(VLOOKUP(C264,PivotESA!A:C,3,FALSE),\" \")","v":" "},0,{"$f":"IFERROR(VLOOKUP(C264,PivotGHRF!A:B,2,FALSE),\" \")","v":" "},0,{"$f":"IFERROR(ROUNDUP(J264*I264,0),0)","v":0},{"$f":"IFERROR(VLOOKUP(C264,PivotGH!A:C,3,FALSE),\" \")","v":" "},0,{"$f":"IFERROR(VLOOKUP(C264,PivotGHRF!A:B,2,FALSE),\" \")","v":" "},0,{"$f":"IFERROR(ROUNDUP(O264*N264,0),0)","v":0},{"$f":"IFERROR(VLOOKUP(C264,PivotGHRF!A:C,3,FALSE),\" \")","v":" "},0]
["Casting","Continental Fishing","Casting - Continental Fishing",{"$f":"IFERROR(VLOOKUP(C265,PivotGHRF!A:B,2,FALSE),\" \")","v":" "},0,0,{"$f":"IFERROR(VLOOKUP(C265,PivotESA!A:C,3,FALSE),\" \")","v":" "},0,{"$f":"IFERROR(VLOOKUP(C265,PivotGHRF!A:B,2,FALSE),\" \")","v":" "},0,0,{"$f":"IFERROR(VLOOKUP(C265,PivotGH!A:C,3,FALSE),\" \")","v":" "},0,{"$f":"IFERROR(VLOOKUP(C265,PivotGHRF!A:B,2,FALSE),\" \")","v":" "},0,0,{"$f":"IFERROR(VLOOKUP(C265,PivotGHRF!A:C,3,FALSE),\" \")","v":" "},0]
["Casting","Sea Angling (R)","Casting - Sea Angling (R)",{"$f":"IFERROR(VLOOKUP(C266,PivotGHRF!A:B,2,FALSE),\" \")","v":" "},0,0,{"$f":"IFERROR(VLOOKUP(C266,PivotESA!A:C,3,FALSE),\" \")","v":" "},0,{"$f":"IFERROR(VLOOKUP(C266,PivotGHRF!A:B,2,FALSE),\" \")","v":" "},0,0,{"$f":"IFERROR(VLOOKUP(C266,PivotGH!A:C,3,FALSE),\" \")","v":" "},0,{"$f":"IFERROR(VLOOKUP(C266,PivotGHRF!A:B,2,FALSE),\" \")","v":" "},0,0,{"$f":"IFERROR(VLOOKUP(C266,PivotGHRF!A:C,3,FALSE),\" \")","v":" "},0]
["Chanbara","Chanbara","Chanbara - Chanbara",{"$f":"IFERROR(VLOOKUP(C267,PivotGHRF!A:B,2,FALSE),\" \")","v":" "},"Not in TDSSA",0,{"$f":"IFERROR(VLOOKUP(C267,PivotESA!A:C,3,FALSE),\" \")","v":" "},0,{"$f":"IFERROR(VLOOKUP(C267,PivotGHRF!A:B,2,FALSE),\" \")","v":" "},"Not in TDSSA",0,{"$f":"IFERROR(VLOOKUP(C267,PivotGH!A:C,3,FALSE),\" \")","v":" "},0,{"$f":"IFERROR(VLOOKUP(C267,PivotGHRF!A:B,2,FALSE),\" \")","v":" "},"Not in TDSSA",0,{"$f":"IFERROR(VLOOKUP(C267,PivotGHRF!A:C,3,FALSE),\" \")","v":" "},0]
["Cheer","Cheer","Cheer - Cheer",{"$f":"IFERROR(VLOOKUP(C268,PivotGHRF!A:B,2,FALSE),\" \")","v":" "},0.05,0,{"$f":"IFERROR(VLOOKUP(C268,PivotESA!A:C,3,FALSE),\" \")","v":" "},0,{"$f":"IFERROR(VLOOKUP(C268,PivotGHRF!A:B,2,FALSE),\" \")","v":" "},0.05,0,{"$f":"IFERROR(VLOOKUP(C268,PivotGH!A:C,3,FALSE),\" \")","v":" "},0,{"$f":"IFERROR(VLOOKUP(C268,PivotGHRF!A:B,2,FALSE),\" \")","v":" "},0.05,0,{"$f":"IFERROR(VLOOKUP(C268,PivotGHRF!A:C,3,FALSE),\" \")","v":" "},0]
["Cheerleading","Cheerleading","Cheerleading - Cheerleading",{"$f":"IFERROR(VLOOKUP(C269,PivotGHRF!A:B,2,FALSE),\" \")","v":" "},"Not in TDSSA",0,{"$f":"IFERROR(VLOOKUP(C269,PivotESA!A:C,3,FALSE),\" \")","v":" "},0,{"$f":"IFERROR(VLOOKUP(C269,PivotGHRF!A:B,2,FALSE),\" \")","v":" "},"Not in TDSSA",0,{"$f":"IFERROR(VLOOKUP(C269,PivotGH!A:C,3,FALSE),\" \")","v":" "},0,{"$f":"IFERROR(VLOOKUP(C269,PivotGHRF!A:B,2,FALSE),\" \")","v":" "},"Not in TDSSA",0,{"$f":"IFERROR(VLOOKUP(C269,PivotGHRF!A:C,3,FALSE),\" \")","v":" "},0]
["Chess","Chess","Chess - Chess",{"$f":"IFERROR(VLOOKUP(C270,PivotGHRF!A:B,2,FALSE),\" \")","v":" "},0,0,{"$f":"IFERROR(VLOOKUP(C270,PivotESA!A:C,3,FALSE),\" \")","v":" "},0,{"$f":"IFERROR(VLOOKUP(C270,PivotGHRF!A:B,2,FALSE),\" \")","v":" "},0,0,{"$f":"IFERROR(VLOOKUP(C270,PivotGH!A:C,3,FALSE),\" \")","v":" "},0,{"$f":"IFERROR(VLOOKUP(C270,PivotGHRF!A:B,2,FALSE),\" \")","v":" "},0,0,{"$f":"IFERROR(VLOOKUP(C270,PivotGHRF!A:C,3,FALSE),\" \")","v":" "},0]
["Chess","University","Chess - University",{"$f":"IFERROR(VLOOKUP(C271,PivotGHRF!A:B,2,FALSE),\" \")","v":" "},"Not in TDSSA",0,{"$f":"IFERROR(VLOOKUP(C271,PivotESA!A:C,3,FALSE),\" \")","v":" "},0,{"$f":"IFERROR(VLOOKUP(C271,PivotGHRF!A:B,2,FALSE),\" \")","v":" "},"Not in TDSSA",0,{"$f":"IFERROR(VLOOKUP(C271,PivotGH!A:C,3,FALSE),\" \")","v":" "},0,{"$f":"IFERROR(VLOOKUP(C271,PivotGHRF!A:B,2,FALSE),\" \")","v":" "},"Not in TDSSA",0,{"$f":"IFERROR(VLOOKUP(C271,PivotGHRF!A:C,3,FALSE),\" \")","v":" "},0]
["Chess","Xiangqi (R)","Chess - Xiangqi (R)",{"$f":"IFERROR(VLOOKUP(C272,PivotGHRF!A:B,2,FALSE),\" \")","v":" "},"Not in TDSSA",0,{"$f":"IFERROR(VLOOKUP(C272,PivotESA!A:C,3,FALSE),\" \")","v":" "},0,{"$f":"IFERROR(VLOOKUP(C272,PivotGHRF!A:B,2,FALSE),\" \")","v":" "},"Not in TDSSA",0,{"$f":"IFERROR(VLOOKUP(C272,PivotGH!A:C,3,FALSE),\" \")","v":" "},0,{"$f":"IFERROR(VLOOKUP(C272,PivotGHRF!A:B,2,FALSE),\" \")","v":" "},"Not in TDSSA",0,{"$f":"IFERROR(VLOOKUP(C272,PivotGHRF!A:C,3,FALSE),\" \")","v":" "},0]
["Chin-up","Chin-up","Chin-up - Chin-up",{"$f":"IFERROR(VLOOKUP(C273,PivotGHRF!A:B,2,FALSE),\" \")","v":" "},"Not in TDSSA",0,{"$f":"IFERROR(VLOOKUP(C273,PivotESA!A:C,3,FALSE),\" \")","v":" "},0,{"$f":"IFERROR(VLOOKUP(C273,PivotGHRF!A:B,2,FALSE),\" \")","v":" "},"Not in TDSSA",0,{"$f":"IFERROR(VLOOKUP(C273,PivotGH!A:C,3,FALSE),\" \")","v":" "},0,{"$f":"IFERROR(VLOOKUP(C273,PivotGHRF!A:B,2,FALSE),\" \")","v":" "},"Not in TDSSA",0,{"$f":"IFERROR(VLOOKUP(C273,PivotGHRF!A:C,3,FALSE),\" \")","v":" "},0]
["Chin-up","Chin-Up Repetitions","Chin-up - Chin-Up Repetitions",{"$f":"IFERROR(VLOOKUP(C274,PivotGHRF!A:B,2,FALSE),\" \")","v":" "},"Not in TDSSA",0,{"$f":"IFERROR(VLOOKUP(C274,PivotESA!A:C,3,FALSE),\" \")","v":" "},0,{"$f":"IFERROR(VLOOKUP(C274,PivotGHRF!A:B,2,FALSE),\" \")","v":" "},"Not in TDSSA",0,{"$f":"IFERROR(VLOOKUP(C274,PivotGH!A:C,3,FALSE),\" \")","v":" "},0,{"$f":"IFERROR(VLOOKUP(C274,PivotGHRF!A:B,2,FALSE),\" \")","v":" "},"Not in TDSSA",0,{"$f":"IFERROR(VLOOKUP(C274,PivotGHRF!A:C,3,FALSE),\" \")","v":" "},0]
["Chin-up","Weighted Chin-Up","Chin-up - Weighted Chin-Up",{"$f":"IFERROR(VLOOKUP(C275,PivotGHRF!A:B,2,FALSE),\" \")","v":" "},"Not in TDSSA",0,{"$f":"IFERROR(VLOOKUP(C275,PivotESA!A:C,3,FALSE),\" \")","v":" "},0,{"$f":"IFERROR(VLOOKUP(C275,PivotGHRF!A:B,2,FALSE),\" \")","v":" "},"Not in TDSSA",0,{"$f":"IFERROR(VLOOKUP(C275,PivotGH!A:C,3,FALSE),\" \")","v":" "},0,{"$f":"IFERROR(VLOOKUP(C275,PivotGHRF!A:B,2,FALSE),\" \")","v":" "},"Not in TDSSA",0,{"$f":"IFERROR(VLOOKUP(C275,PivotGHRF!A:C,3,FALSE),\" \")","v":" "},0]
["Clay Target Shooting","Clay Target Shooting","Clay Target Shooting - Clay Target Shooting",{"$f":"IFERROR(VLOOKUP(C276,PivotGHRF!A:B,2,FALSE),\" \")","v":" "},"Not in TDSSA",0,{"$f":"IFERROR(VLOOKUP(C276,PivotESA!A:C,3,FALSE),\" \")","v":" "},0,{"$f":"IFERROR(VLOOKUP(C276,PivotGHRF!A:B,2,FALSE),\" \")","v":" "},"Not in TDSSA",0,{"$f":"IFERROR(VLOOKUP(C276,PivotGH!A:C,3,FALSE),\" \")","v":" "},0,{"$f":"IFERROR(VLOOKUP(C276,PivotGHRF!A:B,2,FALSE),\" \")","v":" "},"Not in TDSSA",0,{"$f":"IFERROR(VLOOKUP(C276,PivotGHRF!A:C,3,FALSE),\" \")","v":" "},0]
["COLEO","COLEO","COLEO - COLEO",{"$f":"IFERROR(VLOOKUP(C277,PivotGHRF!A:B,2,FALSE),\" \")","v":" "},"Not in TDSSA",0,{"$f":"IFERROR(VLOOKUP(C277,PivotESA!A:C,3,FALSE),\" \")","v":" "},0,{"$f":"IFERROR(VLOOKUP(C277,PivotGHRF!A:B,2,FALSE),\" \")","v":" "},"Not in TDSSA",0,{"$f":"IFERROR(VLOOKUP(C277,PivotGH!A:C,3,FALSE),\" \")","v":" "},0,{"$f":"IFERROR(VLOOKUP(C277,PivotGHRF!A:B,2,FALSE),\" \")","v":" "},"Not in TDSSA",0,{"$f":"IFERROR(VLOOKUP(C277,PivotGHRF!A:C,3,FALSE),\" \")","v":" "},0]
["Combat Sports","Joutes et Sauvetage Nautique ","Combat Sports - Joutes et Sauvetage Nautique ",{"$f":"IFERROR(VLOOKUP(C278,PivotGHRF!A:B,2,FALSE),\" \")","v":" "},"Not in TDSSA",0,{"$f":"IFERROR(VLOOKUP(C278,PivotESA!A:C,3,FALSE),\" \")","v":" "},0,{"$f":"IFERROR(VLOOKUP(C278,PivotGHRF!A:B,2,FALSE),\" \")","v":" "},"Not in TDSSA",0,{"$f":"IFERROR(VLOOKUP(C278,PivotGH!A:C,3,FALSE),\" \")","v":" "},0,{"$f":"IFERROR(VLOOKUP(C278,PivotGHRF!A:B,2,FALSE),\" \")","v":" "},"Not in TDSSA",0,{"$f":"IFERROR(VLOOKUP(C278,PivotGHRF!A:C,3,FALSE),\" \")","v":" "},0]
["Combat Sports","Combat Sports","Combat Sports - Combat Sports",{"$f":"IFERROR(VLOOKUP(C279,PivotGHRF!A:B,2,FALSE),\" \")","v":" "},"Not in TDSSA",0,{"$f":"IFERROR(VLOOKUP(C279,PivotESA!A:C,3,FALSE),\" \")","v":" "},0,{"$f":"IFERROR(VLOOKUP(C279,PivotGHRF!A:B,2,FALSE),\" \")","v":" "},"Not in TDSSA",0,{"$f":"IFERROR(VLOOKUP(C279,PivotGH!A:C,3,FALSE),\" \")","v":" "},0,{"$f":"IFERROR(VLOOKUP(C279,PivotGHRF!A:B,2,FALSE),\" \")","v":" "},"Not in TDSSA",0,{"$f":"IFERROR(VLOOKUP(C279,PivotGHRF!A:C,3,FALSE),\" \")","v":" "},0]
["Company Sports","Company Sports","Company Sports - Company Sports",{"$f":"IFERROR(VLOOKUP(C280,PivotGHRF!A:B,2,FALSE),\" \")","v":" "},"Not in TDSSA",0,{"$f":"IFERROR(VLOOKUP(C280,PivotESA!A:C,3,FALSE),\" \")","v":" "},0,{"$f":"IFERROR(VLOOKUP(C280,PivotGHRF!A:B,2,FALSE),\" \")","v":" "},"Not in TDSSA",0,{"$f":"IFERROR(VLOOKUP(C280,PivotGH!A:C,3,FALSE),\" \")","v":" "},0,{"$f":"IFERROR(VLOOKUP(C280,PivotGHRF!A:B,2,FALSE),\" \")","v":" "},"Not in TDSSA",0,{"$f":"IFERROR(VLOOKUP(C280,PivotGHRF!A:C,3,FALSE),\" \")","v":" "},0]
["Course Camarguaise","Course Camarguaise","Course Camarguaise - Course Camarguaise",{"$f":"IFERROR(VLOOKUP(C281,PivotGHRF!A:B,2,FALSE),\" \")","v":" "},"Not in TDSSA",0,{"$f":"IFERROR(VLOOKUP(C281,PivotESA!A:C,3,FALSE),\" \")","v":" "},0,{"$f":"IFERROR(VLOOKUP(C281,PivotGHRF!A:B,2,FALSE),\" \")","v":" "},"Not in TDSSA",0,{"$f":"IFERROR(VLOOKUP(C281,PivotGH!A:C,3,FALSE),\" \")","v":" "},0,{"$f":"IFERROR(VLOOKUP(C281,PivotGHRF!A:B,2,FALSE),\" \")","v":" "},"Not in TDSSA",0,{"$f":"IFERROR(VLOOKUP(C281,PivotGHRF!A:C,3,FALSE),\" \")","v":" "},0]
["Course Landaise","Course Landaise","Course Landaise - Course Landaise",{"$f":"IFERROR(VLOOKUP(C282,PivotGHRF!A:B,2,FALSE),\" \")","v":" "},"Not in TDSSA",0,{"$f":"IFERROR(VLOOKUP(C282,PivotESA!A:C,3,FALSE),\" \")","v":" "},0,{"$f":"IFERROR(VLOOKUP(C282,PivotGHRF!A:B,2,FALSE),\" \")","v":" "},"Not in TDSSA",0,{"$f":"IFERROR(VLOOKUP(C282,PivotGH!A:C,3,FALSE),\" \")","v":" "},0,{"$f":"IFERROR(VLOOKUP(C282,PivotGHRF!A:B,2,FALSE),\" \")","v":" "},"Not in TDSSA",0,{"$f":"IFERROR(VLOOKUP(C282,PivotGHRF!A:C,3,FALSE),\" \")","v":" "},0]
["CP Football","CP Football","CP Football - CP Football",{"$f":"IFERROR(VLOOKUP(C283,PivotGHRF!A:B,2,FALSE),\" \")","v":" "},"Not in TDSSA",0,{"$f":"IFERROR(VLOOKUP(C283,PivotESA!A:C,3,FALSE),\" \")","v":" "},0,{"$f":"IFERROR(VLOOKUP(C283,PivotGHRF!A:B,2,FALSE),\" \")","v":" "},"Not in TDSSA",0,{"$f":"IFERROR(VLOOKUP(C283,PivotGH!A:C,3,FALSE),\" \")","v":" "},0,{"$f":"IFERROR(VLOOKUP(C283,PivotGHRF!A:B,2,FALSE),\" \")","v":" "},"Not in TDSSA",0,{"$f":"IFERROR(VLOOKUP(C283,PivotGHRF!A:C,3,FALSE),\" \")","v":" "},0]
["Cricket","Cricket","Cricket - Cricket",{"$f":"IFERROR(VLOOKUP(C284,PivotGHRF!A:B,2,FALSE),\" \")","v":" "},0.05,0,{"$f":"IFERROR(VLOOKUP(C284,PivotESA!A:C,3,FALSE),\" \")","v":" "},0,{"$f":"IFERROR(VLOOKUP(C284,PivotGHRF!A:B,2,FALSE),\" \")","v":" "},0.1,0,{"$f":"IFERROR(VLOOKUP(C284,PivotGH!A:C,3,FALSE),\" \")","v":" "},0,{"$f":"IFERROR(VLOOKUP(C284,PivotGHRF!A:B,2,FALSE),\" \")","v":" "},0.1,0,{"$f":"IFERROR(VLOOKUP(C284,PivotGHRF!A:C,3,FALSE),\" \")","v":" "},0]
["Cricket","One Day International","Cricket - One Day International",{"$f":"IFERROR(VLOOKUP(C285,PivotGHRF!A:B,2,FALSE),\" \")","v":" "},0.05,0,{"$f":"IFERROR(VLOOKUP(C285,PivotESA!A:C,3,FALSE),\" \")","v":" "},0,{"$f":"IFERROR(VLOOKUP(C285,PivotGHRF!A:B,2,FALSE),\" \")","v":" "},0.1,0,{"$f":"IFERROR(VLOOKUP(C285,PivotGH!A:C,3,FALSE),\" \")","v":" "},0,{"$f":"IFERROR(VLOOKUP(C285,PivotGHRF!A:B,2,FALSE),\" \")","v":" "},0.1,0,{"$f":"IFERROR(VLOOKUP(C285,PivotGHRF!A:C,3,FALSE),\" \")","v":" "},0]
["Cricket","Twenty20","Cricket - Twenty20",{"$f":"IFERROR(VLOOKUP(C286,PivotGHRF!A:B,2,FALSE),\" \")","v":" "},0.05,0,{"$f":"IFERROR(VLOOKUP(C286,PivotESA!A:C,3,FALSE),\" \")","v":" "},0,{"$f":"IFERROR(VLOOKUP(C286,PivotGHRF!A:B,2,FALSE),\" \")","v":" "},0.1,0,{"$f":"IFERROR(VLOOKUP(C286,PivotGH!A:C,3,FALSE),\" \")","v":" "},0,{"$f":"IFERROR(VLOOKUP(C286,PivotGHRF!A:B,2,FALSE),\" \")","v":" "},0.1,0,{"$f":"IFERROR(VLOOKUP(C286,PivotGHRF!A:C,3,FALSE),\" \")","v":" "},0]
["Cricket","Test","Cricket - Test",{"$f":"IFERROR(VLOOKUP(C287,PivotGHRF!A:B,2,FALSE),\" \")","v":" "},0.05,0,{"$f":"IFERROR(VLOOKUP(C287,PivotESA!A:C,3,FALSE),\" \")","v":" "},0,{"$f":"IFERROR(VLOOKUP(C287,PivotGHRF!A:B,2,FALSE),\" \")","v":" "},0.1,0,{"$f":"IFERROR(VLOOKUP(C287,PivotGH!A:C,3,FALSE),\" \")","v":" "},0,{"$f":"IFERROR(VLOOKUP(C287,PivotGHRF!A:B,2,FALSE),\" \")","v":" "},0.1,0,{"$f":"IFERROR(VLOOKUP(C287,PivotGHRF!A:C,3,FALSE),\" \")","v":" "},0]
["Cricket","INAS Cricket","Cricket - INAS Cricket",{"$f":"IFERROR(VLOOKUP(C288,PivotGHRF!A:B,2,FALSE),\" \")","v":" "},"Not in TDSSA",0,{"$f":"IFERROR(VLOOKUP(C288,PivotESA!A:C,3,FALSE),\" \")","v":" "},0,{"$f":"IFERROR(VLOOKUP(C288,PivotGHRF!A:B,2,FALSE),\" \")","v":" "},"Not in TDSSA",0,{"$f":"IFERROR(VLOOKUP(C288,PivotGH!A:C,3,FALSE),\" \")","v":" "},0,{"$f":"IFERROR(VLOOKUP(C288,PivotGHRF!A:B,2,FALSE),\" \")","v":" "},"Not in TDSSA",0,{"$f":"IFERROR(VLOOKUP(C288,PivotGHRF!A:C,3,FALSE),\" \")","v":" "},0]
["Cricket","Pro Cricket","Cricket - Pro Cricket",{"$f":"IFERROR(VLOOKUP(C289,PivotGHRF!A:B,2,FALSE),\" \")","v":" "},"Not in TDSSA",0,{"$f":"IFERROR(VLOOKUP(C289,PivotESA!A:C,3,FALSE),\" \")","v":" "},0,{"$f":"IFERROR(VLOOKUP(C289,PivotGHRF!A:B,2,FALSE),\" \")","v":" "},"Not in TDSSA",0,{"$f":"IFERROR(VLOOKUP(C289,PivotGH!A:C,3,FALSE),\" \")","v":" "},0,{"$f":"IFERROR(VLOOKUP(C289,PivotGHRF!A:B,2,FALSE),\" \")","v":" "},"Not in TDSSA",0,{"$f":"IFERROR(VLOOKUP(C289,PivotGHRF!A:C,3,FALSE),\" \")","v":" "},0]
["cross training/military cross training","cross training/military cross training","cross training/military cross training - cross training/military cross training",{"$f":"IFERROR(VLOOKUP(C290,PivotGHRF!A:B,2,FALSE),\" \")","v":" "},"Not in TDSSA",0,{"$f":"IFERROR(VLOOKUP(C290,PivotESA!A:C,3,FALSE),\" \")","v":" "},0,{"$f":"IFERROR(VLOOKUP(C290,PivotGHRF!A:B,2,FALSE),\" \")","v":" "},"Not in TDSSA",0,{"$f":"IFERROR(VLOOKUP(C290,PivotGH!A:C,3,FALSE),\" \")","v":" "},0,{"$f":"IFERROR(VLOOKUP(C290,PivotGHRF!A:B,2,FALSE),\" \")","v":" "},"Not in TDSSA",0,{"$f":"IFERROR(VLOOKUP(C290,PivotGHRF!A:C,3,FALSE),\" \")","v":" "},0]
["Crossbow","Crossbow","Crossbow - Crossbow",{"$f":"IFERROR(VLOOKUP(C291,PivotGHRF!A:B,2,FALSE),\" \")","v":" "},"Not in TDSSA",0,{"$f":"IFERROR(VLOOKUP(C291,PivotESA!A:C,3,FALSE),\" \")","v":" "},0,{"$f":"IFERROR(VLOOKUP(C291,PivotGHRF!A:B,2,FALSE),\" \")","v":" "},"Not in TDSSA",0,{"$f":"IFERROR(VLOOKUP(C291,PivotGH!A:C,3,FALSE),\" \")","v":" "},0,{"$f":"IFERROR(VLOOKUP(C291,PivotGHRF!A:B,2,FALSE),\" \")","v":" "},"Not in TDSSA",0,{"$f":"IFERROR(VLOOKUP(C291,PivotGHRF!A:C,3,FALSE),\" \")","v":" "},0]
["Crossword","Crossword","Crossword - Crossword",{"$f":"IFERROR(VLOOKUP(C292,PivotGHRF!A:B,2,FALSE),\" \")","v":" "},"Not in TDSSA",0,{"$f":"IFERROR(VLOOKUP(C292,PivotESA!A:C,3,FALSE),\" \")","v":" "},0,{"$f":"IFERROR(VLOOKUP(C292,PivotGHRF!A:B,2,FALSE),\" \")","v":" "},"Not in TDSSA",0,{"$f":"IFERROR(VLOOKUP(C292,PivotGH!A:C,3,FALSE),\" \")","v":" "},0,{"$f":"IFERROR(VLOOKUP(C292,PivotGHRF!A:B,2,FALSE),\" \")","v":" "},"Not in TDSSA",0,{"$f":"IFERROR(VLOOKUP(C292,PivotGHRF!A:C,3,FALSE),\" \")","v":" "},0]
["Curling","College","Curling - College",{"$f":"IFERROR(VLOOKUP(C293,PivotGHRF!A:B,2,FALSE),\" \")","v":" "},"Not in TDSSA",0,{"$f":"IFERROR(VLOOKUP(C293,PivotESA!A:C,3,FALSE),\" \")","v":" "},0,{"$f":"IFERROR(VLOOKUP(C293,PivotGHRF!A:B,2,FALSE),\" \")","v":" "},"Not in TDSSA",0,{"$f":"IFERROR(VLOOKUP(C293,PivotGH!A:C,3,FALSE),\" \")","v":" "},0,{"$f":"IFERROR(VLOOKUP(C293,PivotGHRF!A:B,2,FALSE),\" \")","v":" "},"Not in TDSSA",0,{"$f":"IFERROR(VLOOKUP(C293,PivotGHRF!A:C,3,FALSE),\" \")","v":" "},0]
["Curling","Curling","Curling - Curling",{"$f":"IFERROR(VLOOKUP(C294,PivotGHRF!A:B,2,FALSE),\" \")","v":" "},0,0,{"$f":"IFERROR(VLOOKUP(C294,PivotESA!A:C,3,FALSE),\" \")","v":" "},0,{"$f":"IFERROR(VLOOKUP(C294,PivotGHRF!A:B,2,FALSE),\" \")","v":" "},0,0,{"$f":"IFERROR(VLOOKUP(C294,PivotGH!A:C,3,FALSE),\" \")","v":" "},0,{"$f":"IFERROR(VLOOKUP(C294,PivotGHRF!A:B,2,FALSE),\" \")","v":" "},0,0,{"$f":"IFERROR(VLOOKUP(C294,PivotGHRF!A:C,3,FALSE),\" \")","v":" "},0]
["Curling","CISS Curling","Curling - CISS Curling",{"$f":"IFERROR(VLOOKUP(C295,PivotGHRF!A:B,2,FALSE),\" \")","v":" "},"Not in TDSSA",0,{"$f":"IFERROR(VLOOKUP(C295,PivotESA!A:C,3,FALSE),\" \")","v":" "},0,{"$f":"IFERROR(VLOOKUP(C295,PivotGHRF!A:B,2,FALSE),\" \")","v":" "},"Not in TDSSA",0,{"$f":"IFERROR(VLOOKUP(C295,PivotGH!A:C,3,FALSE),\" \")","v":" "},0,{"$f":"IFERROR(VLOOKUP(C295,PivotGHRF!A:B,2,FALSE),\" \")","v":" "},"Not in TDSSA",0,{"$f":"IFERROR(VLOOKUP(C295,PivotGHRF!A:C,3,FALSE),\" \")","v":" "},0]
["Curling","University","Curling - University",{"$f":"IFERROR(VLOOKUP(C296,PivotGHRF!A:B,2,FALSE),\" \")","v":" "},"Not in TDSSA",0,{"$f":"IFERROR(VLOOKUP(C296,PivotESA!A:C,3,FALSE),\" \")","v":" "},0,{"$f":"IFERROR(VLOOKUP(C296,PivotGHRF!A:B,2,FALSE),\" \")","v":" "},"Not in TDSSA",0,{"$f":"IFERROR(VLOOKUP(C296,PivotGH!A:C,3,FALSE),\" \")","v":" "},0,{"$f":"IFERROR(VLOOKUP(C296,PivotGHRF!A:B,2,FALSE),\" \")","v":" "},"Not in TDSSA",0,{"$f":"IFERROR(VLOOKUP(C296,PivotGHRF!A:C,3,FALSE),\" \")","v":" "},0]
["Curling","Wheelchair Curling","Curling - Wheelchair Curling",{"$f":"IFERROR(VLOOKUP(C297,PivotGHRF!A:B,2,FALSE),\" \")","v":" "},0,0,{"$f":"IFERROR(VLOOKUP(C297,PivotESA!A:C,3,FALSE),\" \")","v":" "},0,{"$f":"IFERROR(VLOOKUP(C297,PivotGHRF!A:B,2,FALSE),\" \")","v":" "},0,0,{"$f":"IFERROR(VLOOKUP(C297,PivotGH!A:C,3,FALSE),\" \")","v":" "},0,{"$f":"IFERROR(VLOOKUP(C297,PivotGHRF!A:B,2,FALSE),\" \")","v":" "},0,0,{"$f":"IFERROR(VLOOKUP(C297,PivotGHRF!A:C,3,FALSE),\" \")","v":" "},0]
["Cycling","Artistic","Cycling - Artistic",{"$f":"IFERROR(VLOOKUP(C298,PivotGHRF!A:B,2,FALSE),\" \")","v":" "},0.05,0,{"$f":"IFERROR(VLOOKUP(C298,PivotESA!A:C,3,FALSE),\" \")","v":" "},0,{"$f":"IFERROR(VLOOKUP(C298,PivotGHRF!A:B,2,FALSE),\" \")","v":" "},0.05,0,{"$f":"IFERROR(VLOOKUP(C298,PivotGH!A:C,3,FALSE),\" \")","v":" "},0,{"$f":"IFERROR(VLOOKUP(C298,PivotGHRF!A:B,2,FALSE),\" \")","v":" "},0.05,0,{"$f":"IFERROR(VLOOKUP(C298,PivotGHRF!A:C,3,FALSE),\" \")","v":" "},0]
["Cycling","BMX","Cycling - BMX",{"$f":"IFERROR(VLOOKUP(C299,PivotGHRF!A:B,2,FALSE),\" \")","v":" "},0.05,0,{"$f":"IFERROR(VLOOKUP(C299,PivotESA!A:C,3,FALSE),\" \")","v":" "},0,{"$f":"IFERROR(VLOOKUP(C299,PivotGHRF!A:B,2,FALSE),\" \")","v":" "},0.1,0,{"$f":"IFERROR(VLOOKUP(C299,PivotGH!A:C,3,FALSE),\" \")","v":" "},0,{"$f":"IFERROR(VLOOKUP(C299,PivotGHRF!A:B,2,FALSE),\" \")","v":" "},0.1,0,{"$f":"IFERROR(VLOOKUP(C299,PivotGHRF!A:C,3,FALSE),\" \")","v":" "},0]
["Cycling","Biological Passport (R)","Cycling - Biological Passport (R)",{"$f":"IFERROR(VLOOKUP(C300,PivotGHRF!A:B,2,FALSE),\" \")","v":" "},"Not in TDSSA",0,{"$f":"IFERROR(VLOOKUP(C300,PivotESA!A:C,3,FALSE),\" \")","v":" "},0,{"$f":"IFERROR(VLOOKUP(C300,PivotGHRF!A:B,2,FALSE),\" \")","v":" "},"Not in TDSSA",0,{"$f":"IFERROR(VLOOKUP(C300,PivotGH!A:C,3,FALSE),\" \")","v":" "},0,{"$f":"IFERROR(VLOOKUP(C300,PivotGHRF!A:B,2,FALSE),\" \")","v":" "},"Not in TDSSA",0,{"$f":"IFERROR(VLOOKUP(C300,PivotGHRF!A:C,3,FALSE),\" \")","v":" "},0]
["Cycling","CISS Mountain Bike","Cycling - CISS Mountain Bike",{"$f":"IFERROR(VLOOKUP(C301,PivotGHRF!A:B,2,FALSE),\" \")","v":" "},"Not in TDSSA",0,{"$f":"IFERROR(VLOOKUP(C301,PivotESA!A:C,3,FALSE),\" \")","v":" "},0,{"$f":"IFERROR(VLOOKUP(C301,PivotGHRF!A:B,2,FALSE),\" \")","v":" "},"Not in TDSSA",0,{"$f":"IFERROR(VLOOKUP(C301,PivotGH!A:C,3,FALSE),\" \")","v":" "},0,{"$f":"IFERROR(VLOOKUP(C301,PivotGHRF!A:B,2,FALSE),\" \")","v":" "},"Not in TDSSA",0,{"$f":"IFERROR(VLOOKUP(C301,PivotGHRF!A:C,3,FALSE),\" \")","v":" "},0]
["Cycling","CISS Cycling Road","Cycling - CISS Cycling Road",{"$f":"IFERROR(VLOOKUP(C302,PivotGHRF!A:B,2,FALSE),\" \")","v":" "},"Not in TDSSA",0,{"$f":"IFERROR(VLOOKUP(C302,PivotESA!A:C,3,FALSE),\" \")","v":" "},0,{"$f":"IFERROR(VLOOKUP(C302,PivotGHRF!A:B,2,FALSE),\" \")","v":" "},"Not in TDSSA",0,{"$f":"IFERROR(VLOOKUP(C302,PivotGH!A:C,3,FALSE),\" \")","v":" "},0,{"$f":"IFERROR(VLOOKUP(C302,PivotGHRF!A:B,2,FALSE),\" \")","v":" "},"Not in TDSSA",0,{"$f":"IFERROR(VLOOKUP(C302,PivotGHRF!A:C,3,FALSE),\" \")","v":" "},0]
["Cycling","Mountain Bike","Cycling - Mountain Bike",{"$f":"IFERROR(VLOOKUP(C303,PivotGHRF!A:B,2,FALSE),\" \")","v":" "},0.3,0,{"$f":"IFERROR(VLOOKUP(C303,PivotESA!A:C,3,FALSE),\" \")","v":" "},0,{"$f":"IFERROR(VLOOKUP(C303,PivotGHRF!A:B,2,FALSE),\" \")","v":" "},0.1,0,{"$f":"IFERROR(VLOOKUP(C303,PivotGH!A:C,3,FALSE),\" \")","v":" "},0,{"$f":"IFERROR(VLOOKUP(C303,PivotGHRF!A:B,2,FALSE),\" \")","v":" "},0.1,0,{"$f":"IFERROR(VLOOKUP(C303,PivotGHRF!A:C,3,FALSE),\" \")","v":" "},0]
["Cycling","Road","Cycling - Road",{"$f":"IFERROR(VLOOKUP(C304,PivotGHRF!A:B,2,FALSE),\" \")","v":" "},0.6,0,{"$f":"IFERROR(VLOOKUP(C304,PivotESA!A:C,3,FALSE),\" \")","v":" "},0,{"$f":"IFERROR(VLOOKUP(C304,PivotGHRF!A:B,2,FALSE),\" \")","v":" "},0.1,0,{"$f":"IFERROR(VLOOKUP(C304,PivotGH!A:C,3,FALSE),\" \")","v":" "},0,{"$f":"IFERROR(VLOOKUP(C304,PivotGHRF!A:B,2,FALSE),\" \")","v":" "},0.1,0,{"$f":"IFERROR(VLOOKUP(C304,PivotGHRF!A:C,3,FALSE),\" \")","v":" "},0]
["Cycling","Track Endurance","Cycling - Track Endurance",{"$f":"IFERROR(VLOOKUP(C305,PivotGHRF!A:B,2,FALSE),\" \")","v":" "},0.6,0,{"$f":"IFERROR(VLOOKUP(C305,PivotESA!A:C,3,FALSE),\" \")","v":" "},0,{"$f":"IFERROR(VLOOKUP(C305,PivotGHRF!A:B,2,FALSE),\" \")","v":" "},0.1,0,{"$f":"IFERROR(VLOOKUP(C305,PivotGH!A:C,3,FALSE),\" \")","v":" "},0,{"$f":"IFERROR(VLOOKUP(C305,PivotGHRF!A:B,2,FALSE),\" \")","v":" "},0.1,0,{"$f":"IFERROR(VLOOKUP(C305,PivotGHRF!A:C,3,FALSE),\" \")","v":" "},0]
["Cycling","Trials","Cycling - Trials",{"$f":"IFERROR(VLOOKUP(C306,PivotGHRF!A:B,2,FALSE),\" \")","v":" "},0.05,0,{"$f":"IFERROR(VLOOKUP(C306,PivotESA!A:C,3,FALSE),\" \")","v":" "},0,{"$f":"IFERROR(VLOOKUP(C306,PivotGHRF!A:B,2,FALSE),\" \")","v":" "},0.05,0,{"$f":"IFERROR(VLOOKUP(C306,PivotGH!A:C,3,FALSE),\" \")","v":" "},0,{"$f":"IFERROR(VLOOKUP(C306,PivotGHRF!A:B,2,FALSE),\" \")","v":" "},0.05,0,{"$f":"IFERROR(VLOOKUP(C306,PivotGHRF!A:C,3,FALSE),\" \")","v":" "},0]
["Cycling","Track Sprint","Cycling - Track Sprint",{"$f":"IFERROR(VLOOKUP(C307,PivotGHRF!A:B,2,FALSE),\" \")","v":" "},0.1,0,{"$f":"IFERROR(VLOOKUP(C307,PivotESA!A:C,3,FALSE),\" \")","v":" "},0,{"$f":"IFERROR(VLOOKUP(C307,PivotGHRF!A:B,2,FALSE),\" \")","v":" "},0.1,0,{"$f":"IFERROR(VLOOKUP(C307,PivotGH!A:C,3,FALSE),\" \")","v":" "},0,{"$f":"IFERROR(VLOOKUP(C307,PivotGHRF!A:B,2,FALSE),\" \")","v":" "},0.1,0,{"$f":"IFERROR(VLOOKUP(C307,PivotGHRF!A:C,3,FALSE),\" \")","v":" "},0]
["Cycling","Cyclo-Cross","Cycling - Cyclo-Cross",{"$f":"IFERROR(VLOOKUP(C308,PivotGHRF!A:B,2,FALSE),\" \")","v":" "},0.3,0,{"$f":"IFERROR(VLOOKUP(C308,PivotESA!A:C,3,FALSE),\" \")","v":" "},0,{"$f":"IFERROR(VLOOKUP(C308,PivotGHRF!A:B,2,FALSE),\" \")","v":" "},0.1,0,{"$f":"IFERROR(VLOOKUP(C308,PivotGH!A:C,3,FALSE),\" \")","v":" "},0,{"$f":"IFERROR(VLOOKUP(C308,PivotGHRF!A:B,2,FALSE),\" \")","v":" "},0.1,0,{"$f":"IFERROR(VLOOKUP(C308,PivotGHRF!A:C,3,FALSE),\" \")","v":" "},0]
["Cycling","Cycle-Ball","Cycling - Cycle-Ball",{"$f":"IFERROR(VLOOKUP(C309,PivotGHRF!A:B,2,FALSE),\" \")","v":" "},0.05,0,{"$f":"IFERROR(VLOOKUP(C309,PivotESA!A:C,3,FALSE),\" \")","v":" "},0,{"$f":"IFERROR(VLOOKUP(C309,PivotGHRF!A:B,2,FALSE),\" \")","v":" "},0.05,0,{"$f":"IFERROR(VLOOKUP(C309,PivotGH!A:C,3,FALSE),\" \")","v":" "},0,{"$f":"IFERROR(VLOOKUP(C309,PivotGHRF!A:B,2,FALSE),\" \")","v":" "},0.05,0,{"$f":"IFERROR(VLOOKUP(C309,PivotGHRF!A:C,3,FALSE),\" \")","v":" "},0]
["Cycling","Indoor (Artistic, Cycle Ball) (R)","Cycling - Indoor (Artistic, Cycle Ball) (R)",{"$f":"IFERROR(VLOOKUP(C310,PivotGHRF!A:B,2,FALSE),\" \")","v":" "},0.05,0,{"$f":"IFERROR(VLOOKUP(C310,PivotESA!A:C,3,FALSE),\" \")","v":" "},0,{"$f":"IFERROR(VLOOKUP(C310,PivotGHRF!A:B,2,FALSE),\" \")","v":" "},0.05,0,{"$f":"IFERROR(VLOOKUP(C310,PivotGH!A:C,3,FALSE),\" \")","v":" "},0,{"$f":"IFERROR(VLOOKUP(C310,PivotGHRF!A:B,2,FALSE),\" \")","v":" "},0.05,0,{"$f":"IFERROR(VLOOKUP(C310,PivotGHRF!A:C,3,FALSE),\" \")","v":" "},0]
["Cycling","University","Cycling - University",{"$f":"IFERROR(VLOOKUP(C311,PivotGHRF!A:B,2,FALSE),\" \")","v":" "},"Not in TDSSA",0,{"$f":"IFERROR(VLOOKUP(C311,PivotESA!A:C,3,FALSE),\" \")","v":" "},0,{"$f":"IFERROR(VLOOKUP(C311,PivotGHRF!A:B,2,FALSE),\" \")","v":" "},"Not in TDSSA",0,{"$f":"IFERROR(VLOOKUP(C311,PivotGH!A:C,3,FALSE),\" \")","v":" "},0,{"$f":"IFERROR(VLOOKUP(C311,PivotGHRF!A:B,2,FALSE),\" \")","v":" "},"Not in TDSSA",0,{"$f":"IFERROR(VLOOKUP(C311,PivotGHRF!A:C,3,FALSE),\" \")","v":" "},0]
["Cycling","INAS Cycling","Cycling - INAS Cycling",{"$f":"IFERROR(VLOOKUP(C312,PivotGHRF!A:B,2,FALSE),\" \")","v":" "},"Not in TDSSA",0,{"$f":"IFERROR(VLOOKUP(C312,PivotESA!A:C,3,FALSE),\" \")","v":" "},0,{"$f":"IFERROR(VLOOKUP(C312,PivotGHRF!A:B,2,FALSE),\" \")","v":" "},"Not in TDSSA",0,{"$f":"IFERROR(VLOOKUP(C312,PivotGH!A:C,3,FALSE),\" \")","v":" "},0,{"$f":"IFERROR(VLOOKUP(C312,PivotGHRF!A:B,2,FALSE),\" \")","v":" "},"Not in TDSSA",0,{"$f":"IFERROR(VLOOKUP(C312,PivotGHRF!A:C,3,FALSE),\" \")","v":" "},0]
["Cycling","INAS Cycling Road","Cycling - INAS Cycling Road",{"$f":"IFERROR(VLOOKUP(C313,PivotGHRF!A:B,2,FALSE),\" \")","v":" "},"Not in TDSSA",0,{"$f":"IFERROR(VLOOKUP(C313,PivotESA!A:C,3,FALSE),\" \")","v":" "},0,{"$f":"IFERROR(VLOOKUP(C313,PivotGHRF!A:B,2,FALSE),\" \")","v":" "},"Not in TDSSA",0,{"$f":"IFERROR(VLOOKUP(C313,PivotGH!A:C,3,FALSE),\" \")","v":" "},0,{"$f":"IFERROR(VLOOKUP(C313,PivotGHRF!A:B,2,FALSE),\" \")","v":" "},"Not in TDSSA",0,{"$f":"IFERROR(VLOOKUP(C313,PivotGHRF!A:C,3,FALSE),\" \")","v":" "},0]
["Cycling","INAS Cycling Track Endurance","Cycling - INAS Cycling Track Endurance",{"$f":"IFERROR(VLOOKUP(C314,PivotGHRF!A:B,2,FALSE),\" \")","v":" "},"Not in TDSSA",0,{"$f":"IFERROR(VLOOKUP(C314,PivotESA!A:C,3,FALSE),\" \")","v":" "},0,{"$f":"IFERROR(VLOOKUP(C314,PivotGHRF!A:B,2,FALSE),\" \")","v":" "},"Not in TDSSA",0,{"$f":"IFERROR(VLOOKUP(C314,PivotGH!A:C,3,FALSE),\" \")","v":" "},0,{"$f":"IFERROR(VLOOKUP(C314,PivotGHRF!A:B,2,FALSE),\" \")","v":" "},"Not in TDSSA",0,{"$f":"IFERROR(VLOOKUP(C314,PivotGHRF!A:C,3,FALSE),\" \")","v":" "},0]
["Cycling","INAS Cycling Track Sprint","Cycling - INAS Cycling Track Sprint",{"$f":"IFERROR(VLOOKUP(C315,PivotGHRF!A:B,2,FALSE),\" \")","v":" "},"Not in TDSSA",0,{"$f":"IFERROR(VLOOKUP(C315,PivotESA!A:C,3,FALSE),\" \")","v":" "},0,{"$f":"IFERROR(VLOOKUP(C315,PivotGHRF!A:B,2,FALSE),\" \")","v":" "},"Not in TDSSA",0,{"$f":"IFERROR(VLOOKUP(C315,PivotGH!A:C,3,FALSE),\" \")","v":" "},0,{"$f":"IFERROR(VLOOKUP(C315,PivotGHRF!A:B,2,FALSE),\" \")","v":" "},"Not in TDSSA",0,{"$f":"IFERROR(VLOOKUP(C315,PivotGHRF!A:C,3,FALSE),\" \")","v":" "},0]
["Cycling","Military BMX","Cycling - Military BMX",{"$f":"IFERROR(VLOOKUP(C316,PivotGHRF!A:B,2,FALSE),\" \")","v":" "},"Not in TDSSA",0,{"$f":"IFERROR(VLOOKUP(C316,PivotESA!A:C,3,FALSE),\" \")","v":" "},0,{"$f":"IFERROR(VLOOKUP(C316,PivotGHRF!A:B,2,FALSE),\" \")","v":" "},"Not in TDSSA",0,{"$f":"IFERROR(VLOOKUP(C316,PivotGH!A:C,3,FALSE),\" \")","v":" "},0,{"$f":"IFERROR(VLOOKUP(C316,PivotGHRF!A:B,2,FALSE),\" \")","v":" "},"Not in TDSSA",0,{"$f":"IFERROR(VLOOKUP(C316,PivotGHRF!A:C,3,FALSE),\" \")","v":" "},0]
["Cycling","Military Cycling","Cycling - Military Cycling",{"$f":"IFERROR(VLOOKUP(C317,PivotGHRF!A:B,2,FALSE),\" \")","v":" "},"Not in TDSSA",0,{"$f":"IFERROR(VLOOKUP(C317,PivotESA!A:C,3,FALSE),\" \")","v":" "},0,{"$f":"IFERROR(VLOOKUP(C317,PivotGHRF!A:B,2,FALSE),\" \")","v":" "},"Not in TDSSA",0,{"$f":"IFERROR(VLOOKUP(C317,PivotGH!A:C,3,FALSE),\" \")","v":" "},0,{"$f":"IFERROR(VLOOKUP(C317,PivotGHRF!A:B,2,FALSE),\" \")","v":" "},"Not in TDSSA",0,{"$f":"IFERROR(VLOOKUP(C317,PivotGHRF!A:C,3,FALSE),\" \")","v":" "},0]
["Cycling","Military Cyclo-Cross","Cycling - Military Cyclo-Cross",{"$f":"IFERROR(VLOOKUP(C318,PivotGHRF!A:B,2,FALSE),\" \")","v":" "},"Not in TDSSA",0,{"$f":"IFERROR(VLOOKUP(C318,PivotESA!A:C,3,FALSE),\" \")","v":" "},0,{"$f":"IFERROR(VLOOKUP(C318,PivotGHRF!A:B,2,FALSE),\" \")","v":" "},"Not in TDSSA",0,{"$f":"IFERROR(VLOOKUP(C318,PivotGH!A:C,3,FALSE),\" \")","v":" "},0,{"$f":"IFERROR(VLOOKUP(C318,PivotGHRF!A:B,2,FALSE),\" \")","v":" "},"Not in TDSSA",0,{"$f":"IFERROR(VLOOKUP(C318,PivotGHRF!A:C,3,FALSE),\" \")","v":" "},0]
["Cycling","Military Road","Cycling - Military Road",{"$f":"IFERROR(VLOOKUP(C319,PivotGHRF!A:B,2,FALSE),\" \")","v":" "},"Not in TDSSA",0,{"$f":"IFERROR(VLOOKUP(C319,PivotESA!A:C,3,FALSE),\" \")","v":" "},0,{"$f":"IFERROR(VLOOKUP(C319,PivotGHRF!A:B,2,FALSE),\" \")","v":" "},"Not in TDSSA",0,{"$f":"IFERROR(VLOOKUP(C319,PivotGH!A:C,3,FALSE),\" \")","v":" "},0,{"$f":"IFERROR(VLOOKUP(C319,PivotGHRF!A:B,2,FALSE),\" \")","v":" "},"Not in TDSSA",0,{"$f":"IFERROR(VLOOKUP(C319,PivotGHRF!A:C,3,FALSE),\" \")","v":" "},0]
["Cycling","Military Track Endurance","Cycling - Military Track Endurance",{"$f":"IFERROR(VLOOKUP(C320,PivotGHRF!A:B,2,FALSE),\" \")","v":" "},"Not in TDSSA",0,{"$f":"IFERROR(VLOOKUP(C320,PivotESA!A:C,3,FALSE),\" \")","v":" "},0,{"$f":"IFERROR(VLOOKUP(C320,PivotGHRF!A:B,2,FALSE),\" \")","v":" "},"Not in TDSSA",0,{"$f":"IFERROR(VLOOKUP(C320,PivotGH!A:C,3,FALSE),\" \")","v":" "},0,{"$f":"IFERROR(VLOOKUP(C320,PivotGHRF!A:B,2,FALSE),\" \")","v":" "},"Not in TDSSA",0,{"$f":"IFERROR(VLOOKUP(C320,PivotGHRF!A:C,3,FALSE),\" \")","v":" "},0]
["Cycling","Military Track Sprint","Cycling - Military Track Sprint",{"$f":"IFERROR(VLOOKUP(C321,PivotGHRF!A:B,2,FALSE),\" \")","v":" "},"Not in TDSSA",0,{"$f":"IFERROR(VLOOKUP(C321,PivotESA!A:C,3,FALSE),\" \")","v":" "},0,{"$f":"IFERROR(VLOOKUP(C321,PivotGHRF!A:B,2,FALSE),\" \")","v":" "},"Not in TDSSA",0,{"$f":"IFERROR(VLOOKUP(C321,PivotGH!A:C,3,FALSE),\" \")","v":" "},0,{"$f":"IFERROR(VLOOKUP(C321,PivotGHRF!A:B,2,FALSE),\" \")","v":" "},"Not in TDSSA",0,{"$f":"IFERROR(VLOOKUP(C321,PivotGHRF!A:C,3,FALSE),\" \")","v":" "},0]
["Cycling","Military Mountain Bike","Cycling - Military Mountain Bike",{"$f":"IFERROR(VLOOKUP(C322,PivotGHRF!A:B,2,FALSE),\" \")","v":" "},"Not in TDSSA",0,{"$f":"IFERROR(VLOOKUP(C322,PivotESA!A:C,3,FALSE),\" \")","v":" "},0,{"$f":"IFERROR(VLOOKUP(C322,PivotGHRF!A:B,2,FALSE),\" \")","v":" "},"Not in TDSSA",0,{"$f":"IFERROR(VLOOKUP(C322,PivotGH!A:C,3,FALSE),\" \")","v":" "},0,{"$f":"IFERROR(VLOOKUP(C322,PivotGHRF!A:B,2,FALSE),\" \")","v":" "},"Not in TDSSA",0,{"$f":"IFERROR(VLOOKUP(C322,PivotGHRF!A:C,3,FALSE),\" \")","v":" "},0]
["Cycling","Para-Cycling Road","Cycling - Para-Cycling Road",{"$f":"IFERROR(VLOOKUP(C323,PivotGHRF!A:B,2,FALSE),\" \")","v":" "},0.3,0,{"$f":"IFERROR(VLOOKUP(C323,PivotESA!A:C,3,FALSE),\" \")","v":" "},0,{"$f":"IFERROR(VLOOKUP(C323,PivotGHRF!A:B,2,FALSE),\" \")","v":" "},0.05,0,{"$f":"IFERROR(VLOOKUP(C323,PivotGH!A:C,3,FALSE),\" \")","v":" "},0,{"$f":"IFERROR(VLOOKUP(C323,PivotGHRF!A:B,2,FALSE),\" \")","v":" "},0.05,0,{"$f":"IFERROR(VLOOKUP(C323,PivotGHRF!A:C,3,FALSE),\" \")","v":" "},0]
["Cycling","Para-Cycling Track Endurance","Cycling - Para-Cycling Track Endurance",{"$f":"IFERROR(VLOOKUP(C324,PivotGHRF!A:B,2,FALSE),\" \")","v":" "},0.3,0,{"$f":"IFERROR(VLOOKUP(C324,PivotESA!A:C,3,FALSE),\" \")","v":" "},0,{"$f":"IFERROR(VLOOKUP(C324,PivotGHRF!A:B,2,FALSE),\" \")","v":" "},0.05,0,{"$f":"IFERROR(VLOOKUP(C324,PivotGH!A:C,3,FALSE),\" \")","v":" "},0,{"$f":"IFERROR(VLOOKUP(C324,PivotGHRF!A:B,2,FALSE),\" \")","v":" "},0.05,0,{"$f":"IFERROR(VLOOKUP(C324,PivotGHRF!A:C,3,FALSE),\" \")","v":" "},0]
["Cycling","Para-Cycling Track Sprint","Cycling - Para-Cycling Track Sprint",{"$f":"IFERROR(VLOOKUP(C325,PivotGHRF!A:B,2,FALSE),\" \")","v":" "},0.05,0,{"$f":"IFERROR(VLOOKUP(C325,PivotESA!A:C,3,FALSE),\" \")","v":" "},0,{"$f":"IFERROR(VLOOKUP(C325,PivotGHRF!A:B,2,FALSE),\" \")","v":" "},0.05,0,{"$f":"IFERROR(VLOOKUP(C325,PivotGH!A:C,3,FALSE),\" \")","v":" "},0,{"$f":"IFERROR(VLOOKUP(C325,PivotGHRF!A:B,2,FALSE),\" \")","v":" "},0.05,0,{"$f":"IFERROR(VLOOKUP(C325,PivotGHRF!A:C,3,FALSE),\" \")","v":" "},0]
["Cycling","University BMX","Cycling - University BMX",{"$f":"IFERROR(VLOOKUP(C326,PivotGHRF!A:B,2,FALSE),\" \")","v":" "},"Not in TDSSA",0,{"$f":"IFERROR(VLOOKUP(C326,PivotESA!A:C,3,FALSE),\" \")","v":" "},0,{"$f":"IFERROR(VLOOKUP(C326,PivotGHRF!A:B,2,FALSE),\" \")","v":" "},"Not in TDSSA",0,{"$f":"IFERROR(VLOOKUP(C326,PivotGH!A:C,3,FALSE),\" \")","v":" "},0,{"$f":"IFERROR(VLOOKUP(C326,PivotGHRF!A:B,2,FALSE),\" \")","v":" "},"Not in TDSSA",0,{"$f":"IFERROR(VLOOKUP(C326,PivotGHRF!A:C,3,FALSE),\" \")","v":" "},0]
["Cycling","University Track Sprint","Cycling - University Track Sprint",{"$f":"IFERROR(VLOOKUP(C327,PivotGHRF!A:B,2,FALSE),\" \")","v":" "},"Not in TDSSA",0,{"$f":"IFERROR(VLOOKUP(C327,PivotESA!A:C,3,FALSE),\" \")","v":" "},{"$f":"IFERROR(F327-G327,0)","v":0},{"$f":"IFERROR(VLOOKUP(C327,PivotGHRF!A:B,2,FALSE),\" \")","v":" "},"Not in TDSSA",0,{"$f":"IFERROR(VLOOKUP(C327,PivotGH!A:C,3,FALSE),\" \")","v":" "},{"$f":"IFERROR(K327-L327,0)","v":0},{"$f":"IFERROR(VLOOKUP(C327,PivotGHRF!A:B,2,FALSE),\" \")","v":" "},"Not in TDSSA",0,{"$f":"IFERROR(VLOOKUP(C327,PivotGHRF!A:C,3,FALSE),\" \")","v":" "},{"$f":"IFERROR(P327-Q327,0)","v":0}]
["Cycling","University Track Endurance","Cycling - University Track Endurance",{"$f":"IFERROR(VLOOKUP(C328,PivotGHRF!A:B,2,FALSE),\" \")","v":" "},"Not in TDSSA",{"$f":"IFERROR(ROUNDUP(E328*D328,0),0)","v":0},{"$f":"IFERROR(VLOOKUP(C328,PivotESA!A:C,3,FALSE),\" \")","v":" "},0,{"$f":"IFERROR(VLOOKUP(C328,PivotGHRF!A:B,2,FALSE),\" \")","v":" "},"Not in TDSSA",{"$f":"IFERROR(ROUNDUP(J328*I328,0),0)","v":0},{"$f":"IFERROR(VLOOKUP(C328,PivotGH!A:C,3,FALSE),\" \")","v":" "},0,{"$f":"IFERROR(VLOOKUP(C328,PivotGHRF!A:B,2,FALSE),\" \")","v":" "},"Not in TDSSA",{"$f":"IFERROR(ROUNDUP(O328*N328,0),0)","v":0},{"$f":"IFERROR(VLOOKUP(C328,PivotGHRF!A:C,3,FALSE),\" \")","v":" "},0]
["Cycling","University Mountain Bike","Cycling - University Mountain Bike",{"$f":"IFERROR(VLOOKUP(C329,PivotGHRF!A:B,2,FALSE),\" \")","v":" "},"Not in TDSSA",0,{"$f":"IFERROR(VLOOKUP(C329,PivotESA!A:C,3,FALSE),\" \")","v":" "},0,{"$f":"IFERROR(VLOOKUP(C329,PivotGHRF!A:B,2,FALSE),\" \")","v":" "},"Not in TDSSA",0,{"$f":"IFERROR(VLOOKUP(C329,PivotGH!A:C,3,FALSE),\" \")","v":" "},0,{"$f":"IFERROR(VLOOKUP(C329,PivotGHRF!A:B,2,FALSE),\" \")","v":" "},"Not in TDSSA",0,{"$f":"IFERROR(VLOOKUP(C329,PivotGHRF!A:C,3,FALSE),\" \")","v":" "},0]
["Cycling","University Road","Cycling - University Road",{"$f":"IFERROR(VLOOKUP(C330,PivotGHRF!A:B,2,FALSE),\" \")","v":" "},"Not in TDSSA",0,{"$f":"IFERROR(VLOOKUP(C330,PivotESA!A:C,3,FALSE),\" \")","v":" "},0,{"$f":"IFERROR(VLOOKUP(C330,PivotGHRF!A:B,2,FALSE),\" \")","v":" "},"Not in TDSSA",0,{"$f":"IFERROR(VLOOKUP(C330,PivotGH!A:C,3,FALSE),\" \")","v":" "},0,{"$f":"IFERROR(VLOOKUP(C330,PivotGHRF!A:B,2,FALSE),\" \")","v":" "},"Not in TDSSA",0,{"$f":"IFERROR(VLOOKUP(C330,PivotGHRF!A:C,3,FALSE),\" \")","v":" "},0]
["Cycling","University Track","Cycling - University Track",{"$f":"IFERROR(VLOOKUP(C331,PivotGHRF!A:B,2,FALSE),\" \")","v":" "},"Not in TDSSA",0,{"$f":"IFERROR(VLOOKUP(C331,PivotESA!A:C,3,FALSE),\" \")","v":" "},0,{"$f":"IFERROR(VLOOKUP(C331,PivotGHRF!A:B,2,FALSE),\" \")","v":" "},"Not in TDSSA",0,{"$f":"IFERROR(VLOOKUP(C331,PivotGH!A:C,3,FALSE),\" \")","v":" "},0,{"$f":"IFERROR(VLOOKUP(C331,PivotGHRF!A:B,2,FALSE),\" \")","v":" "},"Not in TDSSA",0,{"$f":"IFERROR(VLOOKUP(C331,PivotGHRF!A:C,3,FALSE),\" \")","v":" "},0]
["DanceSport","10-dance","DanceSport - 10-dance",{"$f":"IFERROR(VLOOKUP(C332,PivotGHRF!A:B,2,FALSE),\" \")","v":" "},0.05,0,{"$f":"IFERROR(VLOOKUP(C332,PivotESA!A:C,3,FALSE),\" \")","v":" "},0,{"$f":"IFERROR(VLOOKUP(C332,PivotGHRF!A:B,2,FALSE),\" \")","v":" "},0.05,0,{"$f":"IFERROR(VLOOKUP(C332,PivotGH!A:C,3,FALSE),\" \")","v":" "},0,{"$f":"IFERROR(VLOOKUP(C332,PivotGHRF!A:B,2,FALSE),\" \")","v":" "},0.05,0,{"$f":"IFERROR(VLOOKUP(C332,PivotGHRF!A:C,3,FALSE),\" \")","v":" "},0]
["DanceSport","DanceSport","DanceSport - DanceSport",{"$f":"IFERROR(VLOOKUP(C333,PivotGHRF!A:B,2,FALSE),\" \")","v":" "},0.05,0,{"$f":"IFERROR(VLOOKUP(C333,PivotESA!A:C,3,FALSE),\" \")","v":" "},0,{"$f":"IFERROR(VLOOKUP(C333,PivotGHRF!A:B,2,FALSE),\" \")","v":" "},0.05,0,{"$f":"IFERROR(VLOOKUP(C333,PivotGH!A:C,3,FALSE),\" \")","v":" "},0,{"$f":"IFERROR(VLOOKUP(C333,PivotGHRF!A:B,2,FALSE),\" \")","v":" "},0.05,0,{"$f":"IFERROR(VLOOKUP(C333,PivotGHRF!A:C,3,FALSE),\" \")","v":" "},0]
["DanceSport","Latin","DanceSport - Latin",{"$f":"IFERROR(VLOOKUP(C334,PivotGHRF!A:B,2,FALSE),\" \")","v":" "},0.05,0,{"$f":"IFERROR(VLOOKUP(C334,PivotESA!A:C,3,FALSE),\" \")","v":" "},0,{"$f":"IFERROR(VLOOKUP(C334,PivotGHRF!A:B,2,FALSE),\" \")","v":" "},0.05,0,{"$f":"IFERROR(VLOOKUP(C334,PivotGH!A:C,3,FALSE),\" \")","v":" "},0,{"$f":"IFERROR(VLOOKUP(C334,PivotGHRF!A:B,2,FALSE),\" \")","v":" "},0.05,0,{"$f":"IFERROR(VLOOKUP(C334,PivotGHRF!A:C,3,FALSE),\" \")","v":" "},0]
["DanceSport","Standard","DanceSport - Standard",{"$f":"IFERROR(VLOOKUP(C335,PivotGHRF!A:B,2,FALSE),\" \")","v":" "},0.05,0,{"$f":"IFERROR(VLOOKUP(C335,PivotESA!A:C,3,FALSE),\" \")","v":" "},0,{"$f":"IFERROR(VLOOKUP(C335,PivotGHRF!A:B,2,FALSE),\" \")","v":" "},0.05,0,{"$f":"IFERROR(VLOOKUP(C335,PivotGH!A:C,3,FALSE),\" \")","v":" "},0,{"$f":"IFERROR(VLOOKUP(C335,PivotGHRF!A:B,2,FALSE),\" \")","v":" "},0.05,0,{"$f":"IFERROR(VLOOKUP(C335,PivotGHRF!A:C,3,FALSE),\" \")","v":" "},0]
["DanceSport","Formation","DanceSport - Formation",{"$f":"IFERROR(VLOOKUP(C336,PivotGHRF!A:B,2,FALSE),\" \")","v":" "},0.05,0,{"$f":"IFERROR(VLOOKUP(C336,PivotESA!A:C,3,FALSE),\" \")","v":" "},0,{"$f":"IFERROR(VLOOKUP(C336,PivotGHRF!A:B,2,FALSE),\" \")","v":" "},0.05,0,{"$f":"IFERROR(VLOOKUP(C336,PivotGH!A:C,3,FALSE),\" \")","v":" "},0,{"$f":"IFERROR(VLOOKUP(C336,PivotGHRF!A:B,2,FALSE),\" \")","v":" "},0.05,0,{"$f":"IFERROR(VLOOKUP(C336,PivotGHRF!A:C,3,FALSE),\" \")","v":" "},0]
["DanceSport","Rock'n'Roll","DanceSport - Rock'n'Roll",{"$f":"IFERROR(VLOOKUP(C337,PivotGHRF!A:B,2,FALSE),\" \")","v":" "},0.05,0,{"$f":"IFERROR(VLOOKUP(C337,PivotESA!A:C,3,FALSE),\" \")","v":" "},0,{"$f":"IFERROR(VLOOKUP(C337,PivotGHRF!A:B,2,FALSE),\" \")","v":" "},0.05,0,{"$f":"IFERROR(VLOOKUP(C337,PivotGH!A:C,3,FALSE),\" \")","v":" "},0,{"$f":"IFERROR(VLOOKUP(C337,PivotGHRF!A:B,2,FALSE),\" \")","v":" "},0.05,0,{"$f":"IFERROR(VLOOKUP(C337,PivotGHRF!A:C,3,FALSE),\" \")","v":" "},0]
["DanceSport","Ballroom","DanceSport - Ballroom",{"$f":"IFERROR(VLOOKUP(C338,PivotGHRF!A:B,2,FALSE),\" \")","v":" "},0.05,0,{"$f":"IFERROR(VLOOKUP(C338,PivotESA!A:C,3,FALSE),\" \")","v":" "},0,{"$f":"IFERROR(VLOOKUP(C338,PivotGHRF!A:B,2,FALSE),\" \")","v":" "},0.05,0,{"$f":"IFERROR(VLOOKUP(C338,PivotGH!A:C,3,FALSE),\" \")","v":" "},0,{"$f":"IFERROR(VLOOKUP(C338,PivotGHRF!A:B,2,FALSE),\" \")","v":" "},0.05,0,{"$f":"IFERROR(VLOOKUP(C338,PivotGHRF!A:C,3,FALSE),\" \")","v":" "},0]
["DanceSport","Boogie Woogie","DanceSport - Boogie Woogie",{"$f":"IFERROR(VLOOKUP(C339,PivotGHRF!A:B,2,FALSE),\" \")","v":" "},"Not in TDSSA",0,{"$f":"IFERROR(VLOOKUP(C339,PivotESA!A:C,3,FALSE),\" \")","v":" "},0,{"$f":"IFERROR(VLOOKUP(C339,PivotGHRF!A:B,2,FALSE),\" \")","v":" "},"Not in TDSSA",0,{"$f":"IFERROR(VLOOKUP(C339,PivotGH!A:C,3,FALSE),\" \")","v":" "},0,{"$f":"IFERROR(VLOOKUP(C339,PivotGHRF!A:B,2,FALSE),\" \")","v":" "},"Not in TDSSA",0,{"$f":"IFERROR(VLOOKUP(C339,PivotGHRF!A:C,3,FALSE),\" \")","v":" "},0]
["DanceSport","Hip Hop","DanceSport - Hip Hop",{"$f":"IFERROR(VLOOKUP(C340,PivotGHRF!A:B,2,FALSE),\" \")","v":" "},"Not in TDSSA",0,{"$f":"IFERROR(VLOOKUP(C340,PivotESA!A:C,3,FALSE),\" \")","v":" "},0,{"$f":"IFERROR(VLOOKUP(C340,PivotGHRF!A:B,2,FALSE),\" \")","v":" "},"Not in TDSSA",0,{"$f":"IFERROR(VLOOKUP(C340,PivotGH!A:C,3,FALSE),\" \")","v":" "},0,{"$f":"IFERROR(VLOOKUP(C340,PivotGHRF!A:B,2,FALSE),\" \")","v":" "},"Not in TDSSA",0,{"$f":"IFERROR(VLOOKUP(C340,PivotGHRF!A:C,3,FALSE),\" \")","v":" "},0]
["DanceSport","Line Dance","DanceSport - Line Dance",{"$f":"IFERROR(VLOOKUP(C341,PivotGHRF!A:B,2,FALSE),\" \")","v":" "},0.05,0,{"$f":"IFERROR(VLOOKUP(C341,PivotESA!A:C,3,FALSE),\" \")","v":" "},0,{"$f":"IFERROR(VLOOKUP(C341,PivotGHRF!A:B,2,FALSE),\" \")","v":" "},0.05,0,{"$f":"IFERROR(VLOOKUP(C341,PivotGH!A:C,3,FALSE),\" \")","v":" "},0,{"$f":"IFERROR(VLOOKUP(C341,PivotGHRF!A:B,2,FALSE),\" \")","v":" "},0.05,0,{"$f":"IFERROR(VLOOKUP(C341,PivotGHRF!A:C,3,FALSE),\" \")","v":" "},0]
["DanceSport","Salsa","DanceSport - Salsa",{"$f":"IFERROR(VLOOKUP(C342,PivotGHRF!A:B,2,FALSE),\" \")","v":" "},0.05,0,{"$f":"IFERROR(VLOOKUP(C342,PivotESA!A:C,3,FALSE),\" \")","v":" "},0,{"$f":"IFERROR(VLOOKUP(C342,PivotGHRF!A:B,2,FALSE),\" \")","v":" "},0.05,0,{"$f":"IFERROR(VLOOKUP(C342,PivotGH!A:C,3,FALSE),\" \")","v":" "},0,{"$f":"IFERROR(VLOOKUP(C342,PivotGHRF!A:B,2,FALSE),\" \")","v":" "},0.05,0,{"$f":"IFERROR(VLOOKUP(C342,PivotGHRF!A:C,3,FALSE),\" \")","v":" "},0]
["DanceSport","Prof. div. 10-dance","DanceSport - Prof. div. 10-dance",{"$f":"IFERROR(VLOOKUP(C343,PivotGHRF!A:B,2,FALSE),\" \")","v":" "},0.05,0,{"$f":"IFERROR(VLOOKUP(C343,PivotESA!A:C,3,FALSE),\" \")","v":" "},0,{"$f":"IFERROR(VLOOKUP(C343,PivotGHRF!A:B,2,FALSE),\" \")","v":" "},0.05,0,{"$f":"IFERROR(VLOOKUP(C343,PivotGH!A:C,3,FALSE),\" \")","v":" "},0,{"$f":"IFERROR(VLOOKUP(C343,PivotGHRF!A:B,2,FALSE),\" \")","v":" "},0.05,0,{"$f":"IFERROR(VLOOKUP(C343,PivotGHRF!A:C,3,FALSE),\" \")","v":" "},0]
["DanceSport","Prof. div. Latin","DanceSport - Prof. div. Latin",{"$f":"IFERROR(VLOOKUP(C344,PivotGHRF!A:B,2,FALSE),\" \")","v":" "},0.05,0,{"$f":"IFERROR(VLOOKUP(C344,PivotESA!A:C,3,FALSE),\" \")","v":" "},0,{"$f":"IFERROR(VLOOKUP(C344,PivotGHRF!A:B,2,FALSE),\" \")","v":" "},0.05,0,{"$f":"IFERROR(VLOOKUP(C344,PivotGH!A:C,3,FALSE),\" \")","v":" "},0,{"$f":"IFERROR(VLOOKUP(C344,PivotGHRF!A:B,2,FALSE),\" \")","v":" "},0.05,0,{"$f":"IFERROR(VLOOKUP(C344,PivotGHRF!A:C,3,FALSE),\" \")","v":" "},0]
["DanceSport","Prof. div. Standard","DanceSport - Prof. div. Standard",{"$f":"IFERROR(VLOOKUP(C345,PivotGHRF!A:B,2,FALSE),\" \")","v":" "},0.05,0,{"$f":"IFERROR(VLOOKUP(C345,PivotESA!A:C,3,FALSE),\" \")","v":" "},0,{"$f":"IFERROR(VLOOKUP(C345,PivotGHRF!A:B,2,FALSE),\" \")","v":" "},0.05,0,{"$f":"IFERROR(VLOOKUP(C345,PivotGH!A:C,3,FALSE),\" \")","v":" "},0,{"$f":"IFERROR(VLOOKUP(C345,PivotGHRF!A:B,2,FALSE),\" \")","v":" "},0.05,0,{"$f":"IFERROR(VLOOKUP(C345,PivotGHRF!A:C,3,FALSE),\" \")","v":" "},0]
["DanceSport","Senior","DanceSport - Senior",{"$f":"IFERROR(VLOOKUP(C346,PivotGHRF!A:B,2,FALSE),\" \")","v":" "},0.05,0,{"$f":"IFERROR(VLOOKUP(C346,PivotESA!A:C,3,FALSE),\" \")","v":" "},0,{"$f":"IFERROR(VLOOKUP(C346,PivotGHRF!A:B,2,FALSE),\" \")","v":" "},0.05,0,{"$f":"IFERROR(VLOOKUP(C346,PivotGH!A:C,3,FALSE),\" \")","v":" "},0,{"$f":"IFERROR(VLOOKUP(C346,PivotGHRF!A:B,2,FALSE),\" \")","v":" "},0.05,0,{"$f":"IFERROR(VLOOKUP(C346,PivotGHRF!A:C,3,FALSE),\" \")","v":" "},0]
["DanceSport","IPC Wheelchair DanceSport (R)","DanceSport - IPC Wheelchair DanceSport (R)",{"$f":"IFERROR(VLOOKUP(C347,PivotGHRF!A:B,2,FALSE),\" \")","v":" "},0,0,{"$f":"IFERROR(VLOOKUP(C347,PivotESA!A:C,3,FALSE),\" \")","v":" "},0,{"$f":"IFERROR(VLOOKUP(C347,PivotGHRF!A:B,2,FALSE),\" \")","v":" "},0,0,{"$f":"IFERROR(VLOOKUP(C347,PivotGH!A:C,3,FALSE),\" \")","v":" "},0,{"$f":"IFERROR(VLOOKUP(C347,PivotGHRF!A:B,2,FALSE),\" \")","v":" "},0,0,{"$f":"IFERROR(VLOOKUP(C347,PivotGHRF!A:C,3,FALSE),\" \")","v":" "},0]
["DanceSport","WDC DanceSport","DanceSport - WDC DanceSport",{"$f":"IFERROR(VLOOKUP(C348,PivotGHRF!A:B,2,FALSE),\" \")","v":" "},0.05,0,{"$f":"IFERROR(VLOOKUP(C348,PivotESA!A:C,3,FALSE),\" \")","v":" "},0,{"$f":"IFERROR(VLOOKUP(C348,PivotGHRF!A:B,2,FALSE),\" \")","v":" "},0.05,0,{"$f":"IFERROR(VLOOKUP(C348,PivotGH!A:C,3,FALSE),\" \")","v":" "},0,{"$f":"IFERROR(VLOOKUP(C348,PivotGHRF!A:B,2,FALSE),\" \")","v":" "},0.05,0,{"$f":"IFERROR(VLOOKUP(C348,PivotGHRF!A:C,3,FALSE),\" \")","v":" "},0]
["DanceSport","Youth","DanceSport - Youth",{"$f":"IFERROR(VLOOKUP(C349,PivotGHRF!A:B,2,FALSE),\" \")","v":" "},"Not in TDSSA",0,{"$f":"IFERROR(VLOOKUP(C349,PivotESA!A:C,3,FALSE),\" \")","v":" "},0,{"$f":"IFERROR(VLOOKUP(C349,PivotGHRF!A:B,2,FALSE),\" \")","v":" "},"Not in TDSSA",0,{"$f":"IFERROR(VLOOKUP(C349,PivotGH!A:C,3,FALSE),\" \")","v":" "},0,{"$f":"IFERROR(VLOOKUP(C349,PivotGHRF!A:B,2,FALSE),\" \")","v":" "},"Not in TDSSA",0,{"$f":"IFERROR(VLOOKUP(C349,PivotGHRF!A:C,3,FALSE),\" \")","v":" "},0]
["Darts","Darts","Darts - Darts",{"$f":"IFERROR(VLOOKUP(C350,PivotGHRF!A:B,2,FALSE),\" \")","v":" "},0,0,{"$f":"IFERROR(VLOOKUP(C350,PivotESA!A:C,3,FALSE),\" \")","v":" "},0,{"$f":"IFERROR(VLOOKUP(C350,PivotGHRF!A:B,2,FALSE),\" \")","v":" "},0,0,{"$f":"IFERROR(VLOOKUP(C350,PivotGH!A:C,3,FALSE),\" \")","v":" "},0,{"$f":"IFERROR(VLOOKUP(C350,PivotGHRF!A:B,2,FALSE),\" \")","v":" "},0,0,{"$f":"IFERROR(VLOOKUP(C350,PivotGHRF!A:C,3,FALSE),\" \")","v":" "},0]
["Darts","Professional Darts","Darts - Professional Darts",{"$f":"IFERROR(VLOOKUP(C351,PivotGHRF!A:B,2,FALSE),\" \")","v":" "},"Not in TDSSA",0,{"$f":"IFERROR(VLOOKUP(C351,PivotESA!A:C,3,FALSE),\" \")","v":" "},0,{"$f":"IFERROR(VLOOKUP(C351,PivotGHRF!A:B,2,FALSE),\" \")","v":" "},"Not in TDSSA",0,{"$f":"IFERROR(VLOOKUP(C351,PivotGH!A:C,3,FALSE),\" \")","v":" "},0,{"$f":"IFERROR(VLOOKUP(C351,PivotGHRF!A:B,2,FALSE),\" \")","v":" "},"Not in TDSSA",0,{"$f":"IFERROR(VLOOKUP(C351,PivotGHRF!A:C,3,FALSE),\" \")","v":" "},0]
["Domimó","Domimó","Domimó - Domimó",{"$f":"IFERROR(VLOOKUP(C352,PivotGHRF!A:B,2,FALSE),\" \")","v":" "},"Not in TDSSA",0,{"$f":"IFERROR(VLOOKUP(C352,PivotESA!A:C,3,FALSE),\" \")","v":" "},0,{"$f":"IFERROR(VLOOKUP(C352,PivotGHRF!A:B,2,FALSE),\" \")","v":" "},"Not in TDSSA",0,{"$f":"IFERROR(VLOOKUP(C352,PivotGH!A:C,3,FALSE),\" \")","v":" "},0,{"$f":"IFERROR(VLOOKUP(C352,PivotGHRF!A:B,2,FALSE),\" \")","v":" "},"Not in TDSSA",0,{"$f":"IFERROR(VLOOKUP(C352,PivotGHRF!A:C,3,FALSE),\" \")","v":" "},0]
["Dragon and Lion Dance","Dragon Dance","Dragon and Lion Dance - Dragon Dance",{"$f":"IFERROR(VLOOKUP(C353,PivotGHRF!A:B,2,FALSE),\" \")","v":" "},"Not in TDSSA",0,{"$f":"IFERROR(VLOOKUP(C353,PivotESA!A:C,3,FALSE),\" \")","v":" "},0,{"$f":"IFERROR(VLOOKUP(C353,PivotGHRF!A:B,2,FALSE),\" \")","v":" "},"Not in TDSSA",0,{"$f":"IFERROR(VLOOKUP(C353,PivotGH!A:C,3,FALSE),\" \")","v":" "},0,{"$f":"IFERROR(VLOOKUP(C353,PivotGHRF!A:B,2,FALSE),\" \")","v":" "},"Not in TDSSA",0,{"$f":"IFERROR(VLOOKUP(C353,PivotGHRF!A:C,3,FALSE),\" \")","v":" "},0]
["Dragon and Lion Dance","Dragon and Lion Dance","Dragon and Lion Dance - Dragon and Lion Dance",{"$f":"IFERROR(VLOOKUP(C354,PivotGHRF!A:B,2,FALSE),\" \")","v":" "},"Not in TDSSA",0,{"$f":"IFERROR(VLOOKUP(C354,PivotESA!A:C,3,FALSE),\" \")","v":" "},0,{"$f":"IFERROR(VLOOKUP(C354,PivotGHRF!A:B,2,FALSE),\" \")","v":" "},"Not in TDSSA",0,{"$f":"IFERROR(VLOOKUP(C354,PivotGH!A:C,3,FALSE),\" \")","v":" "},0,{"$f":"IFERROR(VLOOKUP(C354,PivotGHRF!A:B,2,FALSE),\" \")","v":" "},"Not in TDSSA",0,{"$f":"IFERROR(VLOOKUP(C354,PivotGHRF!A:C,3,FALSE),\" \")","v":" "},0]
["Dragon and Lion Dance","Northern Lion","Dragon and Lion Dance - Northern Lion",{"$f":"IFERROR(VLOOKUP(C355,PivotGHRF!A:B,2,FALSE),\" \")","v":" "},"Not in TDSSA",0,{"$f":"IFERROR(VLOOKUP(C355,PivotESA!A:C,3,FALSE),\" \")","v":" "},0,{"$f":"IFERROR(VLOOKUP(C355,PivotGHRF!A:B,2,FALSE),\" \")","v":" "},"Not in TDSSA",0,{"$f":"IFERROR(VLOOKUP(C355,PivotGH!A:C,3,FALSE),\" \")","v":" "},0,{"$f":"IFERROR(VLOOKUP(C355,PivotGHRF!A:B,2,FALSE),\" \")","v":" "},"Not in TDSSA",0,{"$f":"IFERROR(VLOOKUP(C355,PivotGHRF!A:C,3,FALSE),\" \")","v":" "},0]
["Dragon and Lion Dance","Southern Lion","Dragon and Lion Dance - Southern Lion",{"$f":"IFERROR(VLOOKUP(C356,PivotGHRF!A:B,2,FALSE),\" \")","v":" "},"Not in TDSSA",0,{"$f":"IFERROR(VLOOKUP(C356,PivotESA!A:C,3,FALSE),\" \")","v":" "},0,{"$f":"IFERROR(VLOOKUP(C356,PivotGHRF!A:B,2,FALSE),\" \")","v":" "},"Not in TDSSA",0,{"$f":"IFERROR(VLOOKUP(C356,PivotGH!A:C,3,FALSE),\" \")","v":" "},0,{"$f":"IFERROR(VLOOKUP(C356,PivotGHRF!A:B,2,FALSE),\" \")","v":" "},"Not in TDSSA",0,{"$f":"IFERROR(VLOOKUP(C356,PivotGHRF!A:C,3,FALSE),\" \")","v":" "},0]
["Dragon Boat","Dragon Boat","Dragon Boat - Dragon Boat",{"$f":"IFERROR(VLOOKUP(C357,PivotGHRF!A:B,2,FALSE),\" \")","v":" "},0.1,0,{"$f":"IFERROR(VLOOKUP(C357,PivotESA!A:C,3,FALSE),\" \")","v":" "},0,{"$f":"IFERROR(VLOOKUP(C357,PivotGHRF!A:B,2,FALSE),\" \")","v":" "},0.05,0,{"$f":"IFERROR(VLOOKUP(C357,PivotGH!A:C,3,FALSE),\" \")","v":" "},0,{"$f":"IFERROR(VLOOKUP(C357,PivotGHRF!A:B,2,FALSE),\" \")","v":" "},0.05,0,{"$f":"IFERROR(VLOOKUP(C357,PivotGHRF!A:C,3,FALSE),\" \")","v":" "},0]
["Draughts","Draughts","Draughts - Draughts",{"$f":"IFERROR(VLOOKUP(C358,PivotGHRF!A:B,2,FALSE),\" \")","v":" "},0,0,{"$f":"IFERROR(VLOOKUP(C358,PivotESA!A:C,3,FALSE),\" \")","v":" "},0,{"$f":"IFERROR(VLOOKUP(C358,PivotGHRF!A:B,2,FALSE),\" \")","v":" "},0,0,{"$f":"IFERROR(VLOOKUP(C358,PivotGH!A:C,3,FALSE),\" \")","v":" "},0,{"$f":"IFERROR(VLOOKUP(C358,PivotGHRF!A:B,2,FALSE),\" \")","v":" "},0,0,{"$f":"IFERROR(VLOOKUP(C358,PivotGHRF!A:C,3,FALSE),\" \")","v":" "},0]
["Electronic Sports","e-sports","Electronic Sports - e-sports",{"$f":"IFERROR(VLOOKUP(C359,PivotGHRF!A:B,2,FALSE),\" \")","v":" "},"Not in TDSSA",0,{"$f":"IFERROR(VLOOKUP(C359,PivotESA!A:C,3,FALSE),\" \")","v":" "},0,{"$f":"IFERROR(VLOOKUP(C359,PivotGHRF!A:B,2,FALSE),\" \")","v":" "},"Not in TDSSA",0,{"$f":"IFERROR(VLOOKUP(C359,PivotGH!A:C,3,FALSE),\" \")","v":" "},0,{"$f":"IFERROR(VLOOKUP(C359,PivotGHRF!A:B,2,FALSE),\" \")","v":" "},"Not in TDSSA",0,{"$f":"IFERROR(VLOOKUP(C359,PivotGHRF!A:C,3,FALSE),\" \")","v":" "},0]
["Equestrian","Eventing","Equestrian - Eventing",{"$f":"IFERROR(VLOOKUP(C360,PivotGHRF!A:B,2,FALSE),\" \")","v":" "},0.05,0,{"$f":"IFERROR(VLOOKUP(C360,PivotESA!A:C,3,FALSE),\" \")","v":" "},0,{"$f":"IFERROR(VLOOKUP(C360,PivotGHRF!A:B,2,FALSE),\" \")","v":" "},0.05,0,{"$f":"IFERROR(VLOOKUP(C360,PivotGH!A:C,3,FALSE),\" \")","v":" "},0,{"$f":"IFERROR(VLOOKUP(C360,PivotGHRF!A:B,2,FALSE),\" \")","v":" "},0.05,0,{"$f":"IFERROR(VLOOKUP(C360,PivotGHRF!A:C,3,FALSE),\" \")","v":" "},0]
["Equestrian","Dressage","Equestrian - Dressage",{"$f":"IFERROR(VLOOKUP(C361,PivotGHRF!A:B,2,FALSE),\" \")","v":" "},0,0,{"$f":"IFERROR(VLOOKUP(C361,PivotESA!A:C,3,FALSE),\" \")","v":" "},0,{"$f":"IFERROR(VLOOKUP(C361,PivotGHRF!A:B,2,FALSE),\" \")","v":" "},0,0,{"$f":"IFERROR(VLOOKUP(C361,PivotGH!A:C,3,FALSE),\" \")","v":" "},0,{"$f":"IFERROR(VLOOKUP(C361,PivotGHRF!A:B,2,FALSE),\" \")","v":" "},0,0,{"$f":"IFERROR(VLOOKUP(C361,PivotGHRF!A:C,3,FALSE),\" \")","v":" "},0]
["Equestrian","Endurance","Equestrian - Endurance",{"$f":"IFERROR(VLOOKUP(C362,PivotGHRF!A:B,2,FALSE),\" \")","v":" "},0.05,0,{"$f":"IFERROR(VLOOKUP(C362,PivotESA!A:C,3,FALSE),\" \")","v":" "},0,{"$f":"IFERROR(VLOOKUP(C362,PivotGHRF!A:B,2,FALSE),\" \")","v":" "},0.05,0,{"$f":"IFERROR(VLOOKUP(C362,PivotGH!A:C,3,FALSE),\" \")","v":" "},0,{"$f":"IFERROR(VLOOKUP(C362,PivotGHRF!A:B,2,FALSE),\" \")","v":" "},0.05,0,{"$f":"IFERROR(VLOOKUP(C362,PivotGHRF!A:C,3,FALSE),\" \")","v":" "},0]
["Equestrian","Para-Equestrian","Equestrian - Para-Equestrian",{"$f":"IFERROR(VLOOKUP(C363,PivotGHRF!A:B,2,FALSE),\" \")","v":" "},0,0,{"$f":"IFERROR(VLOOKUP(C363,PivotESA!A:C,3,FALSE),\" \")","v":" "},0,{"$f":"IFERROR(VLOOKUP(C363,PivotGHRF!A:B,2,FALSE),\" \")","v":" "},0,0,{"$f":"IFERROR(VLOOKUP(C363,PivotGH!A:C,3,FALSE),\" \")","v":" "},0,{"$f":"IFERROR(VLOOKUP(C363,PivotGHRF!A:B,2,FALSE),\" \")","v":" "},0,0,{"$f":"IFERROR(VLOOKUP(C363,PivotGHRF!A:C,3,FALSE),\" \")","v":" "},0]
["Equestrian","Driving","Equestrian - Driving",{"$f":"IFERROR(VLOOKUP(C364,PivotGHRF!A:B,2,FALSE),\" \")","v":" "},0,0,{"$f":"IFERROR(VLOOKUP(C364,PivotESA!A:C,3,FALSE),\" \")","v":" "},0,{"$f":"IFERROR(VLOOKUP(C364,PivotGHRF!A:B,2,FALSE),\" \")","v":" "},0,0,{"$f":"IFERROR(VLOOKUP(C364,PivotGH!A:C,3,FALSE),\" \")","v":" "},0,{"$f":"IFERROR(VLOOKUP(C364,PivotGHRF!A:B,2,FALSE),\" \")","v":" "},0,0,{"$f":"IFERROR(VLOOKUP(C364,PivotGHRF!A:C,3,FALSE),\" \")","v":" "},0]
["Equestrian","Reining","Equestrian - Reining",{"$f":"IFERROR(VLOOKUP(C365,PivotGHRF!A:B,2,FALSE),\" \")","v":" "},0,0,{"$f":"IFERROR(VLOOKUP(C365,PivotESA!A:C,3,FALSE),\" \")","v":" "},0,{"$f":"IFERROR(VLOOKUP(C365,PivotGHRF!A:B,2,FALSE),\" \")","v":" "},0,0,{"$f":"IFERROR(VLOOKUP(C365,PivotGH!A:C,3,FALSE),\" \")","v":" "},0,{"$f":"IFERROR(VLOOKUP(C365,PivotGHRF!A:B,2,FALSE),\" \")","v":" "},0,0,{"$f":"IFERROR(VLOOKUP(C365,PivotGHRF!A:C,3,FALSE),\" \")","v":" "},0]
["Equestrian","University","Equestrian - University",{"$f":"IFERROR(VLOOKUP(C366,PivotGHRF!A:B,2,FALSE),\" \")","v":" "},"Not in TDSSA",0,{"$f":"IFERROR(VLOOKUP(C366,PivotESA!A:C,3,FALSE),\" \")","v":" "},0,{"$f":"IFERROR(VLOOKUP(C366,PivotGHRF!A:B,2,FALSE),\" \")","v":" "},"Not in TDSSA",0,{"$f":"IFERROR(VLOOKUP(C366,PivotGH!A:C,3,FALSE),\" \")","v":" "},0,{"$f":"IFERROR(VLOOKUP(C366,PivotGHRF!A:B,2,FALSE),\" \")","v":" "},"Not in TDSSA",0,{"$f":"IFERROR(VLOOKUP(C366,PivotGHRF!A:C,3,FALSE),\" \")","v":" "},0]
["Equestrian","Vaulting","Equestrian - Vaulting",{"$f":"IFERROR(VLOOKUP(C367,PivotGHRF!A:B,2,FALSE),\" \")","v":" "},0.05,0,{"$f":"IFERROR(VLOOKUP(C367,PivotESA!A:C,3,FALSE),\" \")","v":" "},0,{"$f":"IFERROR(VLOOKUP(C367,PivotGHRF!A:B,2,FALSE),\" \")","v":" "},0.05,0,{"$f":"IFERROR(VLOOKUP(C367,PivotGH!A:C,3,FALSE),\" \")","v":" "},0,{"$f":"IFERROR(VLOOKUP(C367,PivotGHRF!A:B,2,FALSE),\" \")","v":" "},0.05,0,{"$f":"IFERROR(VLOOKUP(C367,PivotGHRF!A:C,3,FALSE),\" \")","v":" "},0]
["Equestrian","Jumping","Equestrian - Jumping",{"$f":"IFERROR(VLOOKUP(C368,PivotGHRF!A:B,2,FALSE),\" \")","v":" "},0.05,0,{"$f":"IFERROR(VLOOKUP(C368,PivotESA!A:C,3,FALSE),\" \")","v":" "},0,{"$f":"IFERROR(VLOOKUP(C368,PivotGHRF!A:B,2,FALSE),\" \")","v":" "},0.05,0,{"$f":"IFERROR(VLOOKUP(C368,PivotGH!A:C,3,FALSE),\" \")","v":" "},0,{"$f":"IFERROR(VLOOKUP(C368,PivotGHRF!A:B,2,FALSE),\" \")","v":" "},0.05,0,{"$f":"IFERROR(VLOOKUP(C368,PivotGHRF!A:C,3,FALSE),\" \")","v":" "},0]
["Equestrian","Tent-Pegging","Equestrian - Tent-Pegging",{"$f":"IFERROR(VLOOKUP(C369,PivotGHRF!A:B,2,FALSE),\" \")","v":" "},"Not in TDSSA",0,{"$f":"IFERROR(VLOOKUP(C369,PivotESA!A:C,3,FALSE),\" \")","v":" "},0,{"$f":"IFERROR(VLOOKUP(C369,PivotGHRF!A:B,2,FALSE),\" \")","v":" "},"Not in TDSSA",0,{"$f":"IFERROR(VLOOKUP(C369,PivotGH!A:C,3,FALSE),\" \")","v":" "},0,{"$f":"IFERROR(VLOOKUP(C369,PivotGHRF!A:B,2,FALSE),\" \")","v":" "},"Not in TDSSA",0,{"$f":"IFERROR(VLOOKUP(C369,PivotGHRF!A:C,3,FALSE),\" \")","v":" "},0]
["Equestrian","Professional Racing","Equestrian - Professional Racing",{"$f":"IFERROR(VLOOKUP(C370,PivotGHRF!A:B,2,FALSE),\" \")","v":" "},"Not in TDSSA",0,{"$f":"IFERROR(VLOOKUP(C370,PivotESA!A:C,3,FALSE),\" \")","v":" "},0,{"$f":"IFERROR(VLOOKUP(C370,PivotGHRF!A:B,2,FALSE),\" \")","v":" "},"Not in TDSSA",0,{"$f":"IFERROR(VLOOKUP(C370,PivotGH!A:C,3,FALSE),\" \")","v":" "},0,{"$f":"IFERROR(VLOOKUP(C370,PivotGHRF!A:B,2,FALSE),\" \")","v":" "},"Not in TDSSA",0,{"$f":"IFERROR(VLOOKUP(C370,PivotGHRF!A:C,3,FALSE),\" \")","v":" "},0]
["Equestrian","University Eventing","Equestrian - University Eventing",{"$f":"IFERROR(VLOOKUP(C371,PivotGHRF!A:B,2,FALSE),\" \")","v":" "},"Not in TDSSA",0,{"$f":"IFERROR(VLOOKUP(C371,PivotESA!A:C,3,FALSE),\" \")","v":" "},0,{"$f":"IFERROR(VLOOKUP(C371,PivotGHRF!A:B,2,FALSE),\" \")","v":" "},"Not in TDSSA",0,{"$f":"IFERROR(VLOOKUP(C371,PivotGH!A:C,3,FALSE),\" \")","v":" "},0,{"$f":"IFERROR(VLOOKUP(C371,PivotGHRF!A:B,2,FALSE),\" \")","v":" "},"Not in TDSSA",0,{"$f":"IFERROR(VLOOKUP(C371,PivotGHRF!A:C,3,FALSE),\" \")","v":" "},0]
["Equestrian","University Dressage","Equestrian - University Dressage",{"$f":"IFERROR(VLOOKUP(C372,PivotGHRF!A:B,2,FALSE),\" \")","v":" "},"Not in TDSSA",0,{"$f":"IFERROR(VLOOKUP(C372,PivotESA!A:C,3,FALSE),\" \")","v":" "},0,{"$f":"IFERROR(VLOOKUP(C372,PivotGHRF!A:B,2,FALSE),\" \")","v":" "},"Not in TDSSA",0,{"$f":"IFERROR(VLOOKUP(C372,PivotGH!A:C,3,FALSE),\" \")","v":" "},0,{"$f":"IFERROR(VLOOKUP(C372,PivotGHRF!A:B,2,FALSE),\" \")","v":" "},"Not in TDSSA",0,{"$f":"IFERROR(VLOOKUP(C372,PivotGHRF!A:C,3,FALSE),\" \")","v":" "},0]
["Equestrian","University Endurance","Equestrian - University Endurance",{"$f":"IFERROR(VLOOKUP(C373,PivotGHRF!A:B,2,FALSE),\" \")","v":" "},"Not in TDSSA",0,{"$f":"IFERROR(VLOOKUP(C373,PivotESA!A:C,3,FALSE),\" \")","v":" "},0,{"$f":"IFERROR(VLOOKUP(C373,PivotGHRF!A:B,2,FALSE),\" \")","v":" "},"Not in TDSSA",0,{"$f":"IFERROR(VLOOKUP(C373,PivotGH!A:C,3,FALSE),\" \")","v":" "},0,{"$f":"IFERROR(VLOOKUP(C373,PivotGHRF!A:B,2,FALSE),\" \")","v":" "},"Not in TDSSA",0,{"$f":"IFERROR(VLOOKUP(C373,PivotGHRF!A:C,3,FALSE),\" \")","v":" "},0]
["Equestrian","University Reining","Equestrian - University Reining",{"$f":"IFERROR(VLOOKUP(C374,PivotGHRF!A:B,2,FALSE),\" \")","v":" "},"Not in TDSSA",0,{"$f":"IFERROR(VLOOKUP(C374,PivotESA!A:C,3,FALSE),\" \")","v":" "},0,{"$f":"IFERROR(VLOOKUP(C374,PivotGHRF!A:B,2,FALSE),\" \")","v":" "},"Not in TDSSA",0,{"$f":"IFERROR(VLOOKUP(C374,PivotGH!A:C,3,FALSE),\" \")","v":" "},0,{"$f":"IFERROR(VLOOKUP(C374,PivotGHRF!A:B,2,FALSE),\" \")","v":" "},"Not in TDSSA",0,{"$f":"IFERROR(VLOOKUP(C374,PivotGHRF!A:C,3,FALSE),\" \")","v":" "},0]
["Equestrian","University Driving","Equestrian - University Driving",{"$f":"IFERROR(VLOOKUP(C375,PivotGHRF!A:B,2,FALSE),\" \")","v":" "},"Not in TDSSA",0,{"$f":"IFERROR(VLOOKUP(C375,PivotESA!A:C,3,FALSE),\" \")","v":" "},0,{"$f":"IFERROR(VLOOKUP(C375,PivotGHRF!A:B,2,FALSE),\" \")","v":" "},"Not in TDSSA",0,{"$f":"IFERROR(VLOOKUP(C375,PivotGH!A:C,3,FALSE),\" \")","v":" "},0,{"$f":"IFERROR(VLOOKUP(C375,PivotGHRF!A:B,2,FALSE),\" \")","v":" "},"Not in TDSSA",0,{"$f":"IFERROR(VLOOKUP(C375,PivotGHRF!A:C,3,FALSE),\" \")","v":" "},0]
["Equestrian","University Vaulting","Equestrian - University Vaulting",{"$f":"IFERROR(VLOOKUP(C376,PivotGHRF!A:B,2,FALSE),\" \")","v":" "},"Not in TDSSA",0,{"$f":"IFERROR(VLOOKUP(C376,PivotESA!A:C,3,FALSE),\" \")","v":" "},0,{"$f":"IFERROR(VLOOKUP(C376,PivotGHRF!A:B,2,FALSE),\" \")","v":" "},"Not in TDSSA",0,{"$f":"IFERROR(VLOOKUP(C376,PivotGH!A:C,3,FALSE),\" \")","v":" "},0,{"$f":"IFERROR(VLOOKUP(C376,PivotGHRF!A:B,2,FALSE),\" \")","v":" "},"Not in TDSSA",0,{"$f":"IFERROR(VLOOKUP(C376,PivotGHRF!A:C,3,FALSE),\" \")","v":" "},0]
["Equestrian","University Jumping","Equestrian - University Jumping",{"$f":"IFERROR(VLOOKUP(C377,PivotGHRF!A:B,2,FALSE),\" \")","v":" "},"Not in TDSSA",0,{"$f":"IFERROR(VLOOKUP(C377,PivotESA!A:C,3,FALSE),\" \")","v":" "},0,{"$f":"IFERROR(VLOOKUP(C377,PivotGHRF!A:B,2,FALSE),\" \")","v":" "},"Not in TDSSA",0,{"$f":"IFERROR(VLOOKUP(C377,PivotGH!A:C,3,FALSE),\" \")","v":" "},0,{"$f":"IFERROR(VLOOKUP(C377,PivotGHRF!A:B,2,FALSE),\" \")","v":" "},"Not in TDSSA",0,{"$f":"IFERROR(VLOOKUP(C377,PivotGHRF!A:C,3,FALSE),\" \")","v":" "},0]
["Extreme Sports","BMX Freestyle","Extreme Sports - BMX Freestyle",{"$f":"IFERROR(VLOOKUP(C378,PivotGHRF!A:B,2,FALSE),\" \")","v":" "},"Not in TDSSA",0,{"$f":"IFERROR(VLOOKUP(C378,PivotESA!A:C,3,FALSE),\" \")","v":" "},0,{"$f":"IFERROR(VLOOKUP(C378,PivotGHRF!A:B,2,FALSE),\" \")","v":" "},"Not in TDSSA",0,{"$f":"IFERROR(VLOOKUP(C378,PivotGH!A:C,3,FALSE),\" \")","v":" "},0,{"$f":"IFERROR(VLOOKUP(C378,PivotGHRF!A:B,2,FALSE),\" \")","v":" "},"Not in TDSSA",0,{"$f":"IFERROR(VLOOKUP(C378,PivotGHRF!A:C,3,FALSE),\" \")","v":" "},0]
["Extreme Sports","Extreme Inline Stunt","Extreme Sports - Extreme Inline Stunt",{"$f":"IFERROR(VLOOKUP(C379,PivotGHRF!A:B,2,FALSE),\" \")","v":" "},"Not in TDSSA",0,{"$f":"IFERROR(VLOOKUP(C379,PivotESA!A:C,3,FALSE),\" \")","v":" "},0,{"$f":"IFERROR(VLOOKUP(C379,PivotGHRF!A:B,2,FALSE),\" \")","v":" "},"Not in TDSSA",0,{"$f":"IFERROR(VLOOKUP(C379,PivotGH!A:C,3,FALSE),\" \")","v":" "},0,{"$f":"IFERROR(VLOOKUP(C379,PivotGHRF!A:B,2,FALSE),\" \")","v":" "},"Not in TDSSA",0,{"$f":"IFERROR(VLOOKUP(C379,PivotGHRF!A:C,3,FALSE),\" \")","v":" "},0]
["Extreme Sports","Extreme Sports Climbing","Extreme Sports - Extreme Sports Climbing",{"$f":"IFERROR(VLOOKUP(C380,PivotGHRF!A:B,2,FALSE),\" \")","v":" "},"Not in TDSSA",0,{"$f":"IFERROR(VLOOKUP(C380,PivotESA!A:C,3,FALSE),\" \")","v":" "},0,{"$f":"IFERROR(VLOOKUP(C380,PivotGHRF!A:B,2,FALSE),\" \")","v":" "},"Not in TDSSA",0,{"$f":"IFERROR(VLOOKUP(C380,PivotGH!A:C,3,FALSE),\" \")","v":" "},0,{"$f":"IFERROR(VLOOKUP(C380,PivotGHRF!A:B,2,FALSE),\" \")","v":" "},"Not in TDSSA",0,{"$f":"IFERROR(VLOOKUP(C380,PivotGHRF!A:C,3,FALSE),\" \")","v":" "},0]
["Extreme Sports","Extreme Skateboard","Extreme Sports - Extreme Skateboard",{"$f":"IFERROR(VLOOKUP(C381,PivotGHRF!A:B,2,FALSE),\" \")","v":" "},"Not in TDSSA",0,{"$f":"IFERROR(VLOOKUP(C381,PivotESA!A:C,3,FALSE),\" \")","v":" "},0,{"$f":"IFERROR(VLOOKUP(C381,PivotGHRF!A:B,2,FALSE),\" \")","v":" "},"Not in TDSSA",0,{"$f":"IFERROR(VLOOKUP(C381,PivotGH!A:C,3,FALSE),\" \")","v":" "},0,{"$f":"IFERROR(VLOOKUP(C381,PivotGHRF!A:B,2,FALSE),\" \")","v":" "},"Not in TDSSA",0,{"$f":"IFERROR(VLOOKUP(C381,PivotGHRF!A:C,3,FALSE),\" \")","v":" "},0]
["Extreme Sports","Extreme Sports","Extreme Sports - Extreme Sports",{"$f":"IFERROR(VLOOKUP(C382,PivotGHRF!A:B,2,FALSE),\" \")","v":" "},"Not in TDSSA",0,{"$f":"IFERROR(VLOOKUP(C382,PivotESA!A:C,3,FALSE),\" \")","v":" "},0,{"$f":"IFERROR(VLOOKUP(C382,PivotGHRF!A:B,2,FALSE),\" \")","v":" "},"Not in TDSSA",0,{"$f":"IFERROR(VLOOKUP(C382,PivotGH!A:C,3,FALSE),\" \")","v":" "},0,{"$f":"IFERROR(VLOOKUP(C382,PivotGHRF!A:B,2,FALSE),\" \")","v":" "},"Not in TDSSA",0,{"$f":"IFERROR(VLOOKUP(C382,PivotGHRF!A:C,3,FALSE),\" \")","v":" "},0]
["Fencing","Foil","Fencing - Foil",{"$f":"IFERROR(VLOOKUP(C383,PivotGHRF!A:B,2,FALSE),\" \")","v":" "},0.05,0,{"$f":"IFERROR(VLOOKUP(C383,PivotESA!A:C,3,FALSE),\" \")","v":" "},0,{"$f":"IFERROR(VLOOKUP(C383,PivotGHRF!A:B,2,FALSE),\" \")","v":" "},0.05,0,{"$f":"IFERROR(VLOOKUP(C383,PivotGH!A:C,3,FALSE),\" \")","v":" "},0,{"$f":"IFERROR(VLOOKUP(C383,PivotGHRF!A:B,2,FALSE),\" \")","v":" "},0.05,0,{"$f":"IFERROR(VLOOKUP(C383,PivotGHRF!A:C,3,FALSE),\" \")","v":" "},0]
["Fencing","Epee","Fencing - Epee",{"$f":"IFERROR(VLOOKUP(C384,PivotGHRF!A:B,2,FALSE),\" \")","v":" "},0.05,0,{"$f":"IFERROR(VLOOKUP(C384,PivotESA!A:C,3,FALSE),\" \")","v":" "},0,{"$f":"IFERROR(VLOOKUP(C384,PivotGHRF!A:B,2,FALSE),\" \")","v":" "},0.05,0,{"$f":"IFERROR(VLOOKUP(C384,PivotGH!A:C,3,FALSE),\" \")","v":" "},0,{"$f":"IFERROR(VLOOKUP(C384,PivotGHRF!A:B,2,FALSE),\" \")","v":" "},0.05,0,{"$f":"IFERROR(VLOOKUP(C384,PivotGHRF!A:C,3,FALSE),\" \")","v":" "},0]
["Fencing","Sabre","Fencing - Sabre",{"$f":"IFERROR(VLOOKUP(C385,PivotGHRF!A:B,2,FALSE),\" \")","v":" "},0.05,0,{"$f":"IFERROR(VLOOKUP(C385,PivotESA!A:C,3,FALSE),\" \")","v":" "},0,{"$f":"IFERROR(VLOOKUP(C385,PivotGHRF!A:B,2,FALSE),\" \")","v":" "},0.05,0,{"$f":"IFERROR(VLOOKUP(C385,PivotGH!A:C,3,FALSE),\" \")","v":" "},0,{"$f":"IFERROR(VLOOKUP(C385,PivotGHRF!A:B,2,FALSE),\" \")","v":" "},0.05,0,{"$f":"IFERROR(VLOOKUP(C385,PivotGHRF!A:C,3,FALSE),\" \")","v":" "},0]
["Fencing","Wheelchair Fencing","Fencing - Wheelchair Fencing",{"$f":"IFERROR(VLOOKUP(C386,PivotGHRF!A:B,2,FALSE),\" \")","v":" "},0.05,0,{"$f":"IFERROR(VLOOKUP(C386,PivotESA!A:C,3,FALSE),\" \")","v":" "},0,{"$f":"IFERROR(VLOOKUP(C386,PivotGHRF!A:B,2,FALSE),\" \")","v":" "},0.05,0,{"$f":"IFERROR(VLOOKUP(C386,PivotGH!A:C,3,FALSE),\" \")","v":" "},0,{"$f":"IFERROR(VLOOKUP(C386,PivotGHRF!A:B,2,FALSE),\" \")","v":" "},0.05,0,{"$f":"IFERROR(VLOOKUP(C386,PivotGHRF!A:C,3,FALSE),\" \")","v":" "},0]
["Fencing","Military Fencing","Fencing - Military Fencing",{"$f":"IFERROR(VLOOKUP(C387,PivotGHRF!A:B,2,FALSE),\" \")","v":" "},"Not in TDSSA",0,{"$f":"IFERROR(VLOOKUP(C387,PivotESA!A:C,3,FALSE),\" \")","v":" "},0,{"$f":"IFERROR(VLOOKUP(C387,PivotGHRF!A:B,2,FALSE),\" \")","v":" "},"Not in TDSSA",0,{"$f":"IFERROR(VLOOKUP(C387,PivotGH!A:C,3,FALSE),\" \")","v":" "},0,{"$f":"IFERROR(VLOOKUP(C387,PivotGHRF!A:B,2,FALSE),\" \")","v":" "},"Not in TDSSA",0,{"$f":"IFERROR(VLOOKUP(C387,PivotGHRF!A:C,3,FALSE),\" \")","v":" "},0]
["Fencing","University","Fencing - University",{"$f":"IFERROR(VLOOKUP(C388,PivotGHRF!A:B,2,FALSE),\" \")","v":" "},"Not in TDSSA",0,{"$f":"IFERROR(VLOOKUP(C388,PivotESA!A:C,3,FALSE),\" \")","v":" "},0,{"$f":"IFERROR(VLOOKUP(C388,PivotGHRF!A:B,2,FALSE),\" \")","v":" "},"Not in TDSSA",0,{"$f":"IFERROR(VLOOKUP(C388,PivotGH!A:C,3,FALSE),\" \")","v":" "},0,{"$f":"IFERROR(VLOOKUP(C388,PivotGHRF!A:B,2,FALSE),\" \")","v":" "},"Not in TDSSA",0,{"$f":"IFERROR(VLOOKUP(C388,PivotGHRF!A:C,3,FALSE),\" \")","v":" "},0]
["Fencing","University Foil","Fencing - University Foil",{"$f":"IFERROR(VLOOKUP(C389,PivotGHRF!A:B,2,FALSE),\" \")","v":" "},"Not in TDSSA",0,{"$f":"IFERROR(VLOOKUP(C389,PivotESA!A:C,3,FALSE),\" \")","v":" "},0,{"$f":"IFERROR(VLOOKUP(C389,PivotGHRF!A:B,2,FALSE),\" \")","v":" "},"Not in TDSSA",0,{"$f":"IFERROR(VLOOKUP(C389,PivotGH!A:C,3,FALSE),\" \")","v":" "},0,{"$f":"IFERROR(VLOOKUP(C389,PivotGHRF!A:B,2,FALSE),\" \")","v":" "},"Not in TDSSA",0,{"$f":"IFERROR(VLOOKUP(C389,PivotGHRF!A:C,3,FALSE),\" \")","v":" "},0]
["Fencing","University Epee","Fencing - University Epee",{"$f":"IFERROR(VLOOKUP(C390,PivotGHRF!A:B,2,FALSE),\" \")","v":" "},"Not in TDSSA",0,{"$f":"IFERROR(VLOOKUP(C390,PivotESA!A:C,3,FALSE),\" \")","v":" "},0,{"$f":"IFERROR(VLOOKUP(C390,PivotGHRF!A:B,2,FALSE),\" \")","v":" "},"Not in TDSSA",0,{"$f":"IFERROR(VLOOKUP(C390,PivotGH!A:C,3,FALSE),\" \")","v":" "},0,{"$f":"IFERROR(VLOOKUP(C390,PivotGHRF!A:B,2,FALSE),\" \")","v":" "},"Not in TDSSA",0,{"$f":"IFERROR(VLOOKUP(C390,PivotGHRF!A:C,3,FALSE),\" \")","v":" "},0]
["Fencing","University Sabre","Fencing - University Sabre",{"$f":"IFERROR(VLOOKUP(C391,PivotGHRF!A:B,2,FALSE),\" \")","v":" "},"Not in TDSSA",0,{"$f":"IFERROR(VLOOKUP(C391,PivotESA!A:C,3,FALSE),\" \")","v":" "},{"$f":"IFERROR(F391-G391,0)","v":0},{"$f":"IFERROR(VLOOKUP(C391,PivotGHRF!A:B,2,FALSE),\" \")","v":" "},"Not in TDSSA",0,{"$f":"IFERROR(VLOOKUP(C391,PivotGH!A:C,3,FALSE),\" \")","v":" "},{"$f":"IFERROR(K391-L391,0)","v":0},{"$f":"IFERROR(VLOOKUP(C391,PivotGHRF!A:B,2,FALSE),\" \")","v":" "},"Not in TDSSA",0,{"$f":"IFERROR(VLOOKUP(C391,PivotGHRF!A:C,3,FALSE),\" \")","v":" "},{"$f":"IFERROR(P391-Q391,0)","v":0}]
["Field Hockey","IWAS Powerchair Hockey","Field Hockey - IWAS Powerchair Hockey",{"$f":"IFERROR(VLOOKUP(C392,PivotGHRF!A:B,2,FALSE),\" \")","v":" "},"Not in TDSSA",{"$f":"IFERROR(ROUNDUP(E392*D392,0),0)","v":0},{"$f":"IFERROR(VLOOKUP(C392,PivotESA!A:C,3,FALSE),\" \")","v":" "},0,{"$f":"IFERROR(VLOOKUP(C392,PivotGHRF!A:B,2,FALSE),\" \")","v":" "},"Not in TDSSA",{"$f":"IFERROR(ROUNDUP(J392*I392,0),0)","v":0},{"$f":"IFERROR(VLOOKUP(C392,PivotGH!A:C,3,FALSE),\" \")","v":" "},0,{"$f":"IFERROR(VLOOKUP(C392,PivotGHRF!A:B,2,FALSE),\" \")","v":" "},"Not in TDSSA",{"$f":"IFERROR(ROUNDUP(O392*N392,0),0)","v":0},{"$f":"IFERROR(VLOOKUP(C392,PivotGHRF!A:C,3,FALSE),\" \")","v":" "},0]
["Field Hockey","Indoor","Field Hockey - Indoor",{"$f":"IFERROR(VLOOKUP(C393,PivotGHRF!A:B,2,FALSE),\" \")","v":" "},0.05,0,{"$f":"IFERROR(VLOOKUP(C393,PivotESA!A:C,3,FALSE),\" \")","v":" "},0,{"$f":"IFERROR(VLOOKUP(C393,PivotGHRF!A:B,2,FALSE),\" \")","v":" "},0.05,0,{"$f":"IFERROR(VLOOKUP(C393,PivotGH!A:C,3,FALSE),\" \")","v":" "},0,{"$f":"IFERROR(VLOOKUP(C393,PivotGHRF!A:B,2,FALSE),\" \")","v":" "},0.05,0,{"$f":"IFERROR(VLOOKUP(C393,PivotGHRF!A:C,3,FALSE),\" \")","v":" "},0]
["Field Hockey","Field Hockey","Field Hockey - Field Hockey",{"$f":"IFERROR(VLOOKUP(C394,PivotGHRF!A:B,2,FALSE),\" \")","v":" "},0.1,0,{"$f":"IFERROR(VLOOKUP(C394,PivotESA!A:C,3,FALSE),\" \")","v":" "},0,{"$f":"IFERROR(VLOOKUP(C394,PivotGHRF!A:B,2,FALSE),\" \")","v":" "},0.1,0,{"$f":"IFERROR(VLOOKUP(C394,PivotGH!A:C,3,FALSE),\" \")","v":" "},0,{"$f":"IFERROR(VLOOKUP(C394,PivotGHRF!A:B,2,FALSE),\" \")","v":" "},0.1,0,{"$f":"IFERROR(VLOOKUP(C394,PivotGHRF!A:C,3,FALSE),\" \")","v":" "},0]
["Field Hockey","University","Field Hockey - University",{"$f":"IFERROR(VLOOKUP(C395,PivotGHRF!A:B,2,FALSE),\" \")","v":" "},"Not in TDSSA",0,{"$f":"IFERROR(VLOOKUP(C395,PivotESA!A:C,3,FALSE),\" \")","v":" "},0,{"$f":"IFERROR(VLOOKUP(C395,PivotGHRF!A:B,2,FALSE),\" \")","v":" "},"Not in TDSSA",0,{"$f":"IFERROR(VLOOKUP(C395,PivotGH!A:C,3,FALSE),\" \")","v":" "},0,{"$f":"IFERROR(VLOOKUP(C395,PivotGHRF!A:B,2,FALSE),\" \")","v":" "},"Not in TDSSA",0,{"$f":"IFERROR(VLOOKUP(C395,PivotGHRF!A:C,3,FALSE),\" \")","v":" "},0]
["Field Hockey","Ball Hockey (R)","Field Hockey - Ball Hockey (R)",{"$f":"IFERROR(VLOOKUP(C396,PivotGHRF!A:B,2,FALSE),\" \")","v":" "},"Not in TDSSA",0,{"$f":"IFERROR(VLOOKUP(C396,PivotESA!A:C,3,FALSE),\" \")","v":" "},0,{"$f":"IFERROR(VLOOKUP(C396,PivotGHRF!A:B,2,FALSE),\" \")","v":" "},"Not in TDSSA",0,{"$f":"IFERROR(VLOOKUP(C396,PivotGH!A:C,3,FALSE),\" \")","v":" "},0,{"$f":"IFERROR(VLOOKUP(C396,PivotGHRF!A:B,2,FALSE),\" \")","v":" "},"Not in TDSSA",0,{"$f":"IFERROR(VLOOKUP(C396,PivotGHRF!A:C,3,FALSE),\" \")","v":" "},0]
["Field Hockey","Para-Field Hockey","Field Hockey - Para-Field Hockey",{"$f":"IFERROR(VLOOKUP(C397,PivotGHRF!A:B,2,FALSE),\" \")","v":" "},0.05,0,{"$f":"IFERROR(VLOOKUP(C397,PivotESA!A:C,3,FALSE),\" \")","v":" "},0,{"$f":"IFERROR(VLOOKUP(C397,PivotGHRF!A:B,2,FALSE),\" \")","v":" "},0.05,0,{"$f":"IFERROR(VLOOKUP(C397,PivotGH!A:C,3,FALSE),\" \")","v":" "},0,{"$f":"IFERROR(VLOOKUP(C397,PivotGHRF!A:B,2,FALSE),\" \")","v":" "},0.05,0,{"$f":"IFERROR(VLOOKUP(C397,PivotGHRF!A:C,3,FALSE),\" \")","v":" "},0]
["Field Hockey","Street Hockey","Field Hockey - Street Hockey",{"$f":"IFERROR(VLOOKUP(C398,PivotGHRF!A:B,2,FALSE),\" \")","v":" "},"Not in TDSSA",0,{"$f":"IFERROR(VLOOKUP(C398,PivotESA!A:C,3,FALSE),\" \")","v":" "},0,{"$f":"IFERROR(VLOOKUP(C398,PivotGHRF!A:B,2,FALSE),\" \")","v":" "},"Not in TDSSA",0,{"$f":"IFERROR(VLOOKUP(C398,PivotGH!A:C,3,FALSE),\" \")","v":" "},0,{"$f":"IFERROR(VLOOKUP(C398,PivotGHRF!A:B,2,FALSE),\" \")","v":" "},"Not in TDSSA",0,{"$f":"IFERROR(VLOOKUP(C398,PivotGHRF!A:C,3,FALSE),\" \")","v":" "},0]
["FIFA eSports","FIFA eSports","FIFA eSports - FIFA eSports",{"$f":"IFERROR(VLOOKUP(C399,PivotGHRF!A:B,2,FALSE),\" \")","v":" "},"Not in TDSSA",0,{"$f":"IFERROR(VLOOKUP(C399,PivotESA!A:C,3,FALSE),\" \")","v":" "},0,{"$f":"IFERROR(VLOOKUP(C399,PivotGHRF!A:B,2,FALSE),\" \")","v":" "},"Not in TDSSA",0,{"$f":"IFERROR(VLOOKUP(C399,PivotGH!A:C,3,FALSE),\" \")","v":" "},0,{"$f":"IFERROR(VLOOKUP(C399,PivotGHRF!A:B,2,FALSE),\" \")","v":" "},"Not in TDSSA",0,{"$f":"IFERROR(VLOOKUP(C399,PivotGHRF!A:C,3,FALSE),\" \")","v":" "},0]
["Firefighting and Rescuing","Firefighting and Rescuing","Firefighting and Rescuing - Firefighting and Rescuing",{"$f":"IFERROR(VLOOKUP(C400,PivotGHRF!A:B,2,FALSE),\" \")","v":" "},"Not in TDSSA",0,{"$f":"IFERROR(VLOOKUP(C400,PivotESA!A:C,3,FALSE),\" \")","v":" "},0,{"$f":"IFERROR(VLOOKUP(C400,PivotGHRF!A:B,2,FALSE),\" \")","v":" "},"Not in TDSSA",0,{"$f":"IFERROR(VLOOKUP(C400,PivotGH!A:C,3,FALSE),\" \")","v":" "},0,{"$f":"IFERROR(VLOOKUP(C400,PivotGHRF!A:B,2,FALSE),\" \")","v":" "},"Not in TDSSA",0,{"$f":"IFERROR(VLOOKUP(C400,PivotGHRF!A:C,3,FALSE),\" \")","v":" "},0]
["Fistball","FICEP Fistball","Fistball - FICEP Fistball",{"$f":"IFERROR(VLOOKUP(C401,PivotGHRF!A:B,2,FALSE),\" \")","v":" "},"Not in TDSSA",0,{"$f":"IFERROR(VLOOKUP(C401,PivotESA!A:C,3,FALSE),\" \")","v":" "},0,{"$f":"IFERROR(VLOOKUP(C401,PivotGHRF!A:B,2,FALSE),\" \")","v":" "},"Not in TDSSA",0,{"$f":"IFERROR(VLOOKUP(C401,PivotGH!A:C,3,FALSE),\" \")","v":" "},0,{"$f":"IFERROR(VLOOKUP(C401,PivotGHRF!A:B,2,FALSE),\" \")","v":" "},"Not in TDSSA",0,{"$f":"IFERROR(VLOOKUP(C401,PivotGHRF!A:C,3,FALSE),\" \")","v":" "},0]
["Fistball","Fistball","Fistball - Fistball",{"$f":"IFERROR(VLOOKUP(C402,PivotGHRF!A:B,2,FALSE),\" \")","v":" "},0.05,0,{"$f":"IFERROR(VLOOKUP(C402,PivotESA!A:C,3,FALSE),\" \")","v":" "},0,{"$f":"IFERROR(VLOOKUP(C402,PivotGHRF!A:B,2,FALSE),\" \")","v":" "},0.05,0,{"$f":"IFERROR(VLOOKUP(C402,PivotGH!A:C,3,FALSE),\" \")","v":" "},0,{"$f":"IFERROR(VLOOKUP(C402,PivotGHRF!A:B,2,FALSE),\" \")","v":" "},0.05,0,{"$f":"IFERROR(VLOOKUP(C402,PivotGHRF!A:C,3,FALSE),\" \")","v":" "},0]
["Floorball","Floorball","Floorball - Floorball",{"$f":"IFERROR(VLOOKUP(C403,PivotGHRF!A:B,2,FALSE),\" \")","v":" "},0.05,0,{"$f":"IFERROR(VLOOKUP(C403,PivotESA!A:C,3,FALSE),\" \")","v":" "},0,{"$f":"IFERROR(VLOOKUP(C403,PivotGHRF!A:B,2,FALSE),\" \")","v":" "},0.05,0,{"$f":"IFERROR(VLOOKUP(C403,PivotGH!A:C,3,FALSE),\" \")","v":" "},0,{"$f":"IFERROR(VLOOKUP(C403,PivotGHRF!A:B,2,FALSE),\" \")","v":" "},0.05,0,{"$f":"IFERROR(VLOOKUP(C403,PivotGHRF!A:C,3,FALSE),\" \")","v":" "},0]
["Floorball","University","Floorball - University",{"$f":"IFERROR(VLOOKUP(C404,PivotGHRF!A:B,2,FALSE),\" \")","v":" "},"Not in TDSSA",0,{"$f":"IFERROR(VLOOKUP(C404,PivotESA!A:C,3,FALSE),\" \")","v":" "},0,{"$f":"IFERROR(VLOOKUP(C404,PivotGHRF!A:B,2,FALSE),\" \")","v":" "},"Not in TDSSA",0,{"$f":"IFERROR(VLOOKUP(C404,PivotGH!A:C,3,FALSE),\" \")","v":" "},0,{"$f":"IFERROR(VLOOKUP(C404,PivotGHRF!A:B,2,FALSE),\" \")","v":" "},"Not in TDSSA",0,{"$f":"IFERROR(VLOOKUP(C404,PivotGHRF!A:C,3,FALSE),\" \")","v":" "},0]
["Flying Disc","Ultimate","Flying Disc - Ultimate",{"$f":"IFERROR(VLOOKUP(C405,PivotGHRF!A:B,2,FALSE),\" \")","v":" "},0.05,0,{"$f":"IFERROR(VLOOKUP(C405,PivotESA!A:C,3,FALSE),\" \")","v":" "},0,{"$f":"IFERROR(VLOOKUP(C405,PivotGHRF!A:B,2,FALSE),\" \")","v":" "},0.05,0,{"$f":"IFERROR(VLOOKUP(C405,PivotGH!A:C,3,FALSE),\" \")","v":" "},0,{"$f":"IFERROR(VLOOKUP(C405,PivotGHRF!A:B,2,FALSE),\" \")","v":" "},0.05,0,{"$f":"IFERROR(VLOOKUP(C405,PivotGHRF!A:C,3,FALSE),\" \")","v":" "},0]
["Foot Volley","Foot Volley","Foot Volley - Foot Volley",{"$f":"IFERROR(VLOOKUP(C406,PivotGHRF!A:B,2,FALSE),\" \")","v":" "},"Not in TDSSA",0,{"$f":"IFERROR(VLOOKUP(C406,PivotESA!A:C,3,FALSE),\" \")","v":" "},0,{"$f":"IFERROR(VLOOKUP(C406,PivotGHRF!A:B,2,FALSE),\" \")","v":" "},"Not in TDSSA",0,{"$f":"IFERROR(VLOOKUP(C406,PivotGH!A:C,3,FALSE),\" \")","v":" "},0,{"$f":"IFERROR(VLOOKUP(C406,PivotGHRF!A:B,2,FALSE),\" \")","v":" "},"Not in TDSSA",0,{"$f":"IFERROR(VLOOKUP(C406,PivotGHRF!A:C,3,FALSE),\" \")","v":" "},0]
["Football","AMF Futsal","Football - AMF Futsal",{"$f":"IFERROR(VLOOKUP(C407,PivotGHRF!A:B,2,FALSE),\" \")","v":" "},"Not in TDSSA",0,{"$f":"IFERROR(VLOOKUP(C407,PivotESA!A:C,3,FALSE),\" \")","v":" "},0,{"$f":"IFERROR(VLOOKUP(C407,PivotGHRF!A:B,2,FALSE),\" \")","v":" "},"Not in TDSSA",0,{"$f":"IFERROR(VLOOKUP(C407,PivotGH!A:C,3,FALSE),\" \")","v":" "},0,{"$f":"IFERROR(VLOOKUP(C407,PivotGHRF!A:B,2,FALSE),\" \")","v":" "},"Not in TDSSA",0,{"$f":"IFERROR(VLOOKUP(C407,PivotGHRF!A:C,3,FALSE),\" \")","v":" "},0]
["Football","Beach Football","Football - Beach Football",{"$f":"IFERROR(VLOOKUP(C408,PivotGHRF!A:B,2,FALSE),\" \")","v":" "},0.05,0,{"$f":"IFERROR(VLOOKUP(C408,PivotESA!A:C,3,FALSE),\" \")","v":" "},0,{"$f":"IFERROR(VLOOKUP(C408,PivotGHRF!A:B,2,FALSE),\" \")","v":" "},0.05,0,{"$f":"IFERROR(VLOOKUP(C408,PivotGH!A:C,3,FALSE),\" \")","v":" "},0,{"$f":"IFERROR(VLOOKUP(C408,PivotGHRF!A:B,2,FALSE),\" \")","v":" "},0.05,0,{"$f":"IFERROR(VLOOKUP(C408,PivotGHRF!A:C,3,FALSE),\" \")","v":" "},0]
["Football","CISS Football","Football - CISS Football",{"$f":"IFERROR(VLOOKUP(C409,PivotGHRF!A:B,2,FALSE),\" \")","v":" "},"Not in TDSSA",0,{"$f":"IFERROR(VLOOKUP(C409,PivotESA!A:C,3,FALSE),\" \")","v":" "},0,{"$f":"IFERROR(VLOOKUP(C409,PivotGHRF!A:B,2,FALSE),\" \")","v":" "},"Not in TDSSA",0,{"$f":"IFERROR(VLOOKUP(C409,PivotGH!A:C,3,FALSE),\" \")","v":" "},0,{"$f":"IFERROR(VLOOKUP(C409,PivotGHRF!A:B,2,FALSE),\" \")","v":" "},"Not in TDSSA",0,{"$f":"IFERROR(VLOOKUP(C409,PivotGHRF!A:C,3,FALSE),\" \")","v":" "},0]
["Football","Football","Football - Football",{"$f":"IFERROR(VLOOKUP(C410,PivotGHRF!A:B,2,FALSE),\" \")","v":" "},0.1,0,{"$f":"IFERROR(VLOOKUP(C410,PivotESA!A:C,3,FALSE),\" \")","v":" "},0,{"$f":"IFERROR(VLOOKUP(C410,PivotGHRF!A:B,2,FALSE),\" \")","v":" "},0.1,0,{"$f":"IFERROR(VLOOKUP(C410,PivotGH!A:C,3,FALSE),\" \")","v":" "},0,{"$f":"IFERROR(VLOOKUP(C410,PivotGHRF!A:B,2,FALSE),\" \")","v":" "},0.1,0,{"$f":"IFERROR(VLOOKUP(C410,PivotGHRF!A:C,3,FALSE),\" \")","v":" "},0]
["Football","Futsal","Football - Futsal",{"$f":"IFERROR(VLOOKUP(C411,PivotGHRF!A:B,2,FALSE),\" \")","v":" "},0.05,0,{"$f":"IFERROR(VLOOKUP(C411,PivotESA!A:C,3,FALSE),\" \")","v":" "},0,{"$f":"IFERROR(VLOOKUP(C411,PivotGHRF!A:B,2,FALSE),\" \")","v":" "},0.05,0,{"$f":"IFERROR(VLOOKUP(C411,PivotGH!A:C,3,FALSE),\" \")","v":" "},0,{"$f":"IFERROR(VLOOKUP(C411,PivotGHRF!A:B,2,FALSE),\" \")","v":" "},0.05,0,{"$f":"IFERROR(VLOOKUP(C411,PivotGHRF!A:C,3,FALSE),\" \")","v":" "},0]
["Football","University Futsal","Football - University Futsal",{"$f":"IFERROR(VLOOKUP(C412,PivotGHRF!A:B,2,FALSE),\" \")","v":" "},"Not in TDSSA",0,{"$f":"IFERROR(VLOOKUP(C412,PivotESA!A:C,3,FALSE),\" \")","v":" "},0,{"$f":"IFERROR(VLOOKUP(C412,PivotGHRF!A:B,2,FALSE),\" \")","v":" "},"Not in TDSSA",0,{"$f":"IFERROR(VLOOKUP(C412,PivotGH!A:C,3,FALSE),\" \")","v":" "},0,{"$f":"IFERROR(VLOOKUP(C412,PivotGHRF!A:B,2,FALSE),\" \")","v":" "},"Not in TDSSA",0,{"$f":"IFERROR(VLOOKUP(C412,PivotGHRF!A:C,3,FALSE),\" \")","v":" "},0]
["Football","College","Football - College",{"$f":"IFERROR(VLOOKUP(C413,PivotGHRF!A:B,2,FALSE),\" \")","v":" "},"Not in TDSSA",0,{"$f":"IFERROR(VLOOKUP(C413,PivotESA!A:C,3,FALSE),\" \")","v":" "},0,{"$f":"IFERROR(VLOOKUP(C413,PivotGHRF!A:B,2,FALSE),\" \")","v":" "},"Not in TDSSA",0,{"$f":"IFERROR(VLOOKUP(C413,PivotGH!A:C,3,FALSE),\" \")","v":" "},0,{"$f":"IFERROR(VLOOKUP(C413,PivotGHRF!A:B,2,FALSE),\" \")","v":" "},"Not in TDSSA",0,{"$f":"IFERROR(VLOOKUP(C413,PivotGHRF!A:C,3,FALSE),\" \")","v":" "},0]
["Football","University","Football - University",{"$f":"IFERROR(VLOOKUP(C414,PivotGHRF!A:B,2,FALSE),\" \")","v":" "},"Not in TDSSA",0,{"$f":"IFERROR(VLOOKUP(C414,PivotESA!A:C,3,FALSE),\" \")","v":" "},0,{"$f":"IFERROR(VLOOKUP(C414,PivotGHRF!A:B,2,FALSE),\" \")","v":" "},"Not in TDSSA",0,{"$f":"IFERROR(VLOOKUP(C414,PivotGH!A:C,3,FALSE),\" \")","v":" "},0,{"$f":"IFERROR(VLOOKUP(C414,PivotGHRF!A:B,2,FALSE),\" \")","v":" "},"Not in TDSSA",0,{"$f":"IFERROR(VLOOKUP(C414,PivotGHRF!A:C,3,FALSE),\" \")","v":" "},0]
["Football","Indoor Football (R)","Football - Indoor Football (R)",{"$f":"IFERROR(VLOOKUP(C415,PivotGHRF!A:B,2,FALSE),\" \")","v":" "},0.1,0,{"$f":"IFERROR(VLOOKUP(C415,PivotESA!A:C,3,FALSE),\" \")","v":" "},0,{"$f":"IFERROR(VLOOKUP(C415,PivotGHRF!A:B,2,FALSE),\" \")","v":" "},0.1,0,{"$f":"IFERROR(VLOOKUP(C415,PivotGH!A:C,3,FALSE),\" \")","v":" "},0,{"$f":"IFERROR(VLOOKUP(C415,PivotGHRF!A:B,2,FALSE),\" \")","v":" "},0.1,0,{"$f":"IFERROR(VLOOKUP(C415,PivotGHRF!A:C,3,FALSE),\" \")","v":" "},0]
["Football","INAS Football","Football - INAS Football",{"$f":"IFERROR(VLOOKUP(C416,PivotGHRF!A:B,2,FALSE),\" \")","v":" "},"Not in TDSSA",0,{"$f":"IFERROR(VLOOKUP(C416,PivotESA!A:C,3,FALSE),\" \")","v":" "},0,{"$f":"IFERROR(VLOOKUP(C416,PivotGHRF!A:B,2,FALSE),\" \")","v":" "},"Not in TDSSA",0,{"$f":"IFERROR(VLOOKUP(C416,PivotGH!A:C,3,FALSE),\" \")","v":" "},0,{"$f":"IFERROR(VLOOKUP(C416,PivotGHRF!A:B,2,FALSE),\" \")","v":" "},"Not in TDSSA",0,{"$f":"IFERROR(VLOOKUP(C416,PivotGHRF!A:C,3,FALSE),\" \")","v":" "},0]
["Football","INAS Futsal","Football - INAS Futsal",{"$f":"IFERROR(VLOOKUP(C417,PivotGHRF!A:B,2,FALSE),\" \")","v":" "},"Not in TDSSA",0,{"$f":"IFERROR(VLOOKUP(C417,PivotESA!A:C,3,FALSE),\" \")","v":" "},0,{"$f":"IFERROR(VLOOKUP(C417,PivotGHRF!A:B,2,FALSE),\" \")","v":" "},"Not in TDSSA",0,{"$f":"IFERROR(VLOOKUP(C417,PivotGH!A:C,3,FALSE),\" \")","v":" "},0,{"$f":"IFERROR(VLOOKUP(C417,PivotGHRF!A:B,2,FALSE),\" \")","v":" "},"Not in TDSSA",0,{"$f":"IFERROR(VLOOKUP(C417,PivotGHRF!A:C,3,FALSE),\" \")","v":" "},0]
["Football","Mini Football","Football - Mini Football",{"$f":"IFERROR(VLOOKUP(C418,PivotGHRF!A:B,2,FALSE),\" \")","v":" "},"Not in TDSSA",0,{"$f":"IFERROR(VLOOKUP(C418,PivotESA!A:C,3,FALSE),\" \")","v":" "},0,{"$f":"IFERROR(VLOOKUP(C418,PivotGHRF!A:B,2,FALSE),\" \")","v":" "},"Not in TDSSA",0,{"$f":"IFERROR(VLOOKUP(C418,PivotGH!A:C,3,FALSE),\" \")","v":" "},0,{"$f":"IFERROR(VLOOKUP(C418,PivotGHRF!A:B,2,FALSE),\" \")","v":" "},"Not in TDSSA",0,{"$f":"IFERROR(VLOOKUP(C418,PivotGHRF!A:C,3,FALSE),\" \")","v":" "},0]
["Football","Military Football","Football - Military Football",{"$f":"IFERROR(VLOOKUP(C419,PivotGHRF!A:B,2,FALSE),\" \")","v":" "},"Not in TDSSA",0,{"$f":"IFERROR(VLOOKUP(C419,PivotESA!A:C,3,FALSE),\" \")","v":" "},0,{"$f":"IFERROR(VLOOKUP(C419,PivotGHRF!A:B,2,FALSE),\" \")","v":" "},"Not in TDSSA",0,{"$f":"IFERROR(VLOOKUP(C419,PivotGH!A:C,3,FALSE),\" \")","v":" "},0,{"$f":"IFERROR(VLOOKUP(C419,PivotGHRF!A:B,2,FALSE),\" \")","v":" "},"Not in TDSSA",0,{"$f":"IFERROR(VLOOKUP(C419,PivotGHRF!A:C,3,FALSE),\" \")","v":" "},0]
["Football 5-a-Side","Para-Football 5-a-side","Football 5-a-Side - Para-Football 5-a-side",{"$f":"IFERROR(VLOOKUP(C420,PivotGHRF!A:B,2,FALSE),\" \")","v":" "},0.05,0,{"$f":"IFERROR(VLOOKUP(C420,PivotESA!A:C,3,FALSE),\" \")","v":" "},0,{"$f":"IFERROR(VLOOKUP(C420,PivotGHRF!A:B,2,FALSE),\" \")","v":" "},0.05,0,{"$f":"IFERROR(VLOOKUP(C420,PivotGH!A:C,3,FALSE),\" \")","v":" "},0,{"$f":"IFERROR(VLOOKUP(C420,PivotGHRF!A:B,2,FALSE),\" \")","v":" "},0.05,0,{"$f":"IFERROR(VLOOKUP(C420,PivotGHRF!A:C,3,FALSE),\" \")","v":" "},0]
["Football 7-a-Side","Para-Football 7-a-side","Football 7-a-Side - Para-Football 7-a-side",{"$f":"IFERROR(VLOOKUP(C421,PivotGHRF!A:B,2,FALSE),\" \")","v":" "},0.05,0,{"$f":"IFERROR(VLOOKUP(C421,PivotESA!A:C,3,FALSE),\" \")","v":" "},0,{"$f":"IFERROR(VLOOKUP(C421,PivotGHRF!A:B,2,FALSE),\" \")","v":" "},0.05,0,{"$f":"IFERROR(VLOOKUP(C421,PivotGH!A:C,3,FALSE),\" \")","v":" "},0,{"$f":"IFERROR(VLOOKUP(C421,PivotGHRF!A:B,2,FALSE),\" \")","v":" "},0.05,0,{"$f":"IFERROR(VLOOKUP(C421,PivotGHRF!A:C,3,FALSE),\" \")","v":" "},0]
["French Boxing","French Boxing","French Boxing - French Boxing",{"$f":"IFERROR(VLOOKUP(C422,PivotGHRF!A:B,2,FALSE),\" \")","v":" "},"Not in TDSSA",0,{"$f":"IFERROR(VLOOKUP(C422,PivotESA!A:C,3,FALSE),\" \")","v":" "},0,{"$f":"IFERROR(VLOOKUP(C422,PivotGHRF!A:B,2,FALSE),\" \")","v":" "},"Not in TDSSA",0,{"$f":"IFERROR(VLOOKUP(C422,PivotGH!A:C,3,FALSE),\" \")","v":" "},0,{"$f":"IFERROR(VLOOKUP(C422,PivotGHRF!A:B,2,FALSE),\" \")","v":" "},"Not in TDSSA",0,{"$f":"IFERROR(VLOOKUP(C422,PivotGHRF!A:C,3,FALSE),\" \")","v":" "},0]
["Friskis & Svettis","Friskis & Svettis","Friskis & Svettis - Friskis & Svettis",{"$f":"IFERROR(VLOOKUP(C423,PivotGHRF!A:B,2,FALSE),\" \")","v":" "},"Not in TDSSA",0,{"$f":"IFERROR(VLOOKUP(C423,PivotESA!A:C,3,FALSE),\" \")","v":" "},0,{"$f":"IFERROR(VLOOKUP(C423,PivotGHRF!A:B,2,FALSE),\" \")","v":" "},"Not in TDSSA",0,{"$f":"IFERROR(VLOOKUP(C423,PivotGH!A:C,3,FALSE),\" \")","v":" "},0,{"$f":"IFERROR(VLOOKUP(C423,PivotGHRF!A:B,2,FALSE),\" \")","v":" "},"Not in TDSSA",0,{"$f":"IFERROR(VLOOKUP(C423,PivotGHRF!A:C,3,FALSE),\" \")","v":" "},0]
["Full contact","Full Contact","Full contact - Full Contact",{"$f":"IFERROR(VLOOKUP(C424,PivotGHRF!A:B,2,FALSE),\" \")","v":" "},"Not in TDSSA",0,{"$f":"IFERROR(VLOOKUP(C424,PivotESA!A:C,3,FALSE),\" \")","v":" "},0,{"$f":"IFERROR(VLOOKUP(C424,PivotGHRF!A:B,2,FALSE),\" \")","v":" "},"Not in TDSSA",0,{"$f":"IFERROR(VLOOKUP(C424,PivotGH!A:C,3,FALSE),\" \")","v":" "},0,{"$f":"IFERROR(VLOOKUP(C424,PivotGHRF!A:B,2,FALSE),\" \")","v":" "},"Not in TDSSA",0,{"$f":"IFERROR(VLOOKUP(C424,PivotGHRF!A:C,3,FALSE),\" \")","v":" "},0]
["Gaelic Games","Football","Gaelic Games - Football",{"$f":"IFERROR(VLOOKUP(C425,PivotGHRF!A:B,2,FALSE),\" \")","v":" "},"Not in TDSSA",0,{"$f":"IFERROR(VLOOKUP(C425,PivotESA!A:C,3,FALSE),\" \")","v":" "},0,{"$f":"IFERROR(VLOOKUP(C425,PivotGHRF!A:B,2,FALSE),\" \")","v":" "},"Not in TDSSA",0,{"$f":"IFERROR(VLOOKUP(C425,PivotGH!A:C,3,FALSE),\" \")","v":" "},0,{"$f":"IFERROR(VLOOKUP(C425,PivotGHRF!A:B,2,FALSE),\" \")","v":" "},"Not in TDSSA",0,{"$f":"IFERROR(VLOOKUP(C425,PivotGHRF!A:C,3,FALSE),\" \")","v":" "},0]
["Gaelic Games","Gaelic Games","Gaelic Games - Gaelic Games",{"$f":"IFERROR(VLOOKUP(C426,PivotGHRF!A:B,2,FALSE),\" \")","v":" "},"Not in TDSSA",0,{"$f":"IFERROR(VLOOKUP(C426,PivotESA!A:C,3,FALSE),\" \")","v":" "},0,{"$f":"IFERROR(VLOOKUP(C426,PivotGHRF!A:B,2,FALSE),\" \")","v":" "},"Not in TDSSA",0,{"$f":"IFERROR(VLOOKUP(C426,PivotGH!A:C,3,FALSE),\" \")","v":" "},0,{"$f":"IFERROR(VLOOKUP(C426,PivotGHRF!A:B,2,FALSE),\" \")","v":" "},"Not in TDSSA",0,{"$f":"IFERROR(VLOOKUP(C426,PivotGHRF!A:C,3,FALSE),\" \")","v":" "},0]
["Gaelic Games","Hurling","Gaelic Games - Hurling",{"$f":"IFERROR(VLOOKUP(C427,PivotGHRF!A:B,2,FALSE),\" \")","v":" "},"Not in TDSSA",0,{"$f":"IFERROR(VLOOKUP(C427,PivotESA!A:C,3,FALSE),\" \")","v":" "},0,{"$f":"IFERROR(VLOOKUP(C427,PivotGHRF!A:B,2,FALSE),\" \")","v":" "},"Not in TDSSA",0,{"$f":"IFERROR(VLOOKUP(C427,PivotGH!A:C,3,FALSE),\" \")","v":" "},0,{"$f":"IFERROR(VLOOKUP(C427,PivotGHRF!A:B,2,FALSE),\" \")","v":" "},"Not in TDSSA",0,{"$f":"IFERROR(VLOOKUP(C427,PivotGHRF!A:C,3,FALSE),\" \")","v":" "},0]
["Gaelic Games","Camogie","Gaelic Games - Camogie",{"$f":"IFERROR(VLOOKUP(C428,PivotGHRF!A:B,2,FALSE),\" \")","v":" "},"Not in TDSSA",0,{"$f":"IFERROR(VLOOKUP(C428,PivotESA!A:C,3,FALSE),\" \")","v":" "},0,{"$f":"IFERROR(VLOOKUP(C428,PivotGHRF!A:B,2,FALSE),\" \")","v":" "},"Not in TDSSA",0,{"$f":"IFERROR(VLOOKUP(C428,PivotGH!A:C,3,FALSE),\" \")","v":" "},0,{"$f":"IFERROR(VLOOKUP(C428,PivotGHRF!A:B,2,FALSE),\" \")","v":" "},"Not in TDSSA",0,{"$f":"IFERROR(VLOOKUP(C428,PivotGHRF!A:C,3,FALSE),\" \")","v":" "},0]
["Gaelic Games","Ladies Gaelic Football","Gaelic Games - Ladies Gaelic Football",{"$f":"IFERROR(VLOOKUP(C429,PivotGHRF!A:B,2,FALSE),\" \")","v":" "},"Not in TDSSA",0,{"$f":"IFERROR(VLOOKUP(C429,PivotESA!A:C,3,FALSE),\" \")","v":" "},0,{"$f":"IFERROR(VLOOKUP(C429,PivotGHRF!A:B,2,FALSE),\" \")","v":" "},"Not in TDSSA",0,{"$f":"IFERROR(VLOOKUP(C429,PivotGH!A:C,3,FALSE),\" \")","v":" "},0,{"$f":"IFERROR(VLOOKUP(C429,PivotGHRF!A:B,2,FALSE),\" \")","v":" "},"Not in TDSSA",0,{"$f":"IFERROR(VLOOKUP(C429,PivotGHRF!A:C,3,FALSE),\" \")","v":" "},0]
["Gigathlon","Gigathlon","Gigathlon - Gigathlon",{"$f":"IFERROR(VLOOKUP(C430,PivotGHRF!A:B,2,FALSE),\" \")","v":" "},"Not in TDSSA",0,{"$f":"IFERROR(VLOOKUP(C430,PivotESA!A:C,3,FALSE),\" \")","v":" "},0,{"$f":"IFERROR(VLOOKUP(C430,PivotGHRF!A:B,2,FALSE),\" \")","v":" "},"Not in TDSSA",0,{"$f":"IFERROR(VLOOKUP(C430,PivotGH!A:C,3,FALSE),\" \")","v":" "},0,{"$f":"IFERROR(VLOOKUP(C430,PivotGHRF!A:B,2,FALSE),\" \")","v":" "},"Not in TDSSA",0,{"$f":"IFERROR(VLOOKUP(C430,PivotGHRF!A:C,3,FALSE),\" \")","v":" "},0]
["Gira","Gira","Gira - Gira",{"$f":"IFERROR(VLOOKUP(C431,PivotGHRF!A:B,2,FALSE),\" \")","v":" "},"Not in TDSSA",0,{"$f":"IFERROR(VLOOKUP(C431,PivotESA!A:C,3,FALSE),\" \")","v":" "},0,{"$f":"IFERROR(VLOOKUP(C431,PivotGHRF!A:B,2,FALSE),\" \")","v":" "},"Not in TDSSA",0,{"$f":"IFERROR(VLOOKUP(C431,PivotGH!A:C,3,FALSE),\" \")","v":" "},0,{"$f":"IFERROR(VLOOKUP(C431,PivotGHRF!A:B,2,FALSE),\" \")","v":" "},"Not in TDSSA",0,{"$f":"IFERROR(VLOOKUP(C431,PivotGHRF!A:C,3,FALSE),\" \")","v":" "},0]
["Go","Go","Go - Go",{"$f":"IFERROR(VLOOKUP(C432,PivotGHRF!A:B,2,FALSE),\" \")","v":" "},0,0,{"$f":"IFERROR(VLOOKUP(C432,PivotESA!A:C,3,FALSE),\" \")","v":" "},0,{"$f":"IFERROR(VLOOKUP(C432,PivotGHRF!A:B,2,FALSE),\" \")","v":" "},0,0,{"$f":"IFERROR(VLOOKUP(C432,PivotGH!A:C,3,FALSE),\" \")","v":" "},0,{"$f":"IFERROR(VLOOKUP(C432,PivotGHRF!A:B,2,FALSE),\" \")","v":" "},0,0,{"$f":"IFERROR(VLOOKUP(C432,PivotGHRF!A:C,3,FALSE),\" \")","v":" "},0]
["Goalball","Goalball","Goalball - Goalball",{"$f":"IFERROR(VLOOKUP(C433,PivotGHRF!A:B,2,FALSE),\" \")","v":" "},0.05,0,{"$f":"IFERROR(VLOOKUP(C433,PivotESA!A:C,3,FALSE),\" \")","v":" "},0,{"$f":"IFERROR(VLOOKUP(C433,PivotGHRF!A:B,2,FALSE),\" \")","v":" "},0.05,0,{"$f":"IFERROR(VLOOKUP(C433,PivotGH!A:C,3,FALSE),\" \")","v":" "},0,{"$f":"IFERROR(VLOOKUP(C433,PivotGHRF!A:B,2,FALSE),\" \")","v":" "},0.05,0,{"$f":"IFERROR(VLOOKUP(C433,PivotGHRF!A:C,3,FALSE),\" \")","v":" "},0]
["Golf","College","Golf - College",{"$f":"IFERROR(VLOOKUP(C434,PivotGHRF!A:B,2,FALSE),\" \")","v":" "},"Not in TDSSA",0,{"$f":"IFERROR(VLOOKUP(C434,PivotESA!A:C,3,FALSE),\" \")","v":" "},0,{"$f":"IFERROR(VLOOKUP(C434,PivotGHRF!A:B,2,FALSE),\" \")","v":" "},"Not in TDSSA",0,{"$f":"IFERROR(VLOOKUP(C434,PivotGH!A:C,3,FALSE),\" \")","v":" "},0,{"$f":"IFERROR(VLOOKUP(C434,PivotGHRF!A:B,2,FALSE),\" \")","v":" "},"Not in TDSSA",0,{"$f":"IFERROR(VLOOKUP(C434,PivotGHRF!A:C,3,FALSE),\" \")","v":" "},0]
["Golf","Golf","Golf - Golf",{"$f":"IFERROR(VLOOKUP(C435,PivotGHRF!A:B,2,FALSE),\" \")","v":" "},0.05,0,{"$f":"IFERROR(VLOOKUP(C435,PivotESA!A:C,3,FALSE),\" \")","v":" "},0,{"$f":"IFERROR(VLOOKUP(C435,PivotGHRF!A:B,2,FALSE),\" \")","v":" "},0.05,0,{"$f":"IFERROR(VLOOKUP(C435,PivotGH!A:C,3,FALSE),\" \")","v":" "},0,{"$f":"IFERROR(VLOOKUP(C435,PivotGHRF!A:B,2,FALSE),\" \")","v":" "},0.05,0,{"$f":"IFERROR(VLOOKUP(C435,PivotGHRF!A:C,3,FALSE),\" \")","v":" "},0]
["Golf","University","Golf - University",{"$f":"IFERROR(VLOOKUP(C436,PivotGHRF!A:B,2,FALSE),\" \")","v":" "},"Not in TDSSA",0,{"$f":"IFERROR(VLOOKUP(C436,PivotESA!A:C,3,FALSE),\" \")","v":" "},0,{"$f":"IFERROR(VLOOKUP(C436,PivotGHRF!A:B,2,FALSE),\" \")","v":" "},"Not in TDSSA",0,{"$f":"IFERROR(VLOOKUP(C436,PivotGH!A:C,3,FALSE),\" \")","v":" "},0,{"$f":"IFERROR(VLOOKUP(C436,PivotGHRF!A:B,2,FALSE),\" \")","v":" "},"Not in TDSSA",0,{"$f":"IFERROR(VLOOKUP(C436,PivotGHRF!A:C,3,FALSE),\" \")","v":" "},0]
["Golf","Military Golf","Golf - Military Golf",{"$f":"IFERROR(VLOOKUP(C437,PivotGHRF!A:B,2,FALSE),\" \")","v":" "},"Not in TDSSA",0,{"$f":"IFERROR(VLOOKUP(C437,PivotESA!A:C,3,FALSE),\" \")","v":" "},0,{"$f":"IFERROR(VLOOKUP(C437,PivotGHRF!A:B,2,FALSE),\" \")","v":" "},"Not in TDSSA",0,{"$f":"IFERROR(VLOOKUP(C437,PivotGH!A:C,3,FALSE),\" \")","v":" "},0,{"$f":"IFERROR(VLOOKUP(C437,PivotGHRF!A:B,2,FALSE),\" \")","v":" "},"Not in TDSSA",0,{"$f":"IFERROR(VLOOKUP(C437,PivotGHRF!A:C,3,FALSE),\" \")","v":" "},0]
["Golf","Professional Golf","Golf - Professional Golf",{"$f":"IFERROR(VLOOKUP(C438,PivotGHRF!A:B,2,FALSE),\" \")","v":" "},"Not in TDSSA",0,{"$f":"IFERROR(VLOOKUP(C438,PivotESA!A:C,3,FALSE),\" \")","v":" "},0,{"$f":"IFERROR(VLOOKUP(C438,PivotGHRF!A:B,2,FALSE),\" \")","v":" "},"Not in TDSSA",0,{"$f":"IFERROR(VLOOKUP(C438,PivotGH!A:C,3,FALSE),\" \")","v":" "},0,{"$f":"IFERROR(VLOOKUP(C438,PivotGHRF!A:B,2,FALSE),\" \")","v":" "},"Not in TDSSA",0,{"$f":"IFERROR(VLOOKUP(C438,PivotGHRF!A:C,3,FALSE),\" \")","v":" "},0]
["Gymnastics","Artistic","Gymnastics - Artistic",{"$f":"IFERROR(VLOOKUP(C439,PivotGHRF!A:B,2,FALSE),\" \")","v":" "},0.1,0,{"$f":"IFERROR(VLOOKUP(C439,PivotESA!A:C,3,FALSE),\" \")","v":" "},0,{"$f":"IFERROR(VLOOKUP(C439,PivotGHRF!A:B,2,FALSE),\" \")","v":" "},0.1,0,{"$f":"IFERROR(VLOOKUP(C439,PivotGH!A:C,3,FALSE),\" \")","v":" "},0,{"$f":"IFERROR(VLOOKUP(C439,PivotGHRF!A:B,2,FALSE),\" \")","v":" "},0.1,0,{"$f":"IFERROR(VLOOKUP(C439,PivotGHRF!A:C,3,FALSE),\" \")","v":" "},0]
["Gymnastics","Acrobatic","Gymnastics - Acrobatic",{"$f":"IFERROR(VLOOKUP(C440,PivotGHRF!A:B,2,FALSE),\" \")","v":" "},0.05,0,{"$f":"IFERROR(VLOOKUP(C440,PivotESA!A:C,3,FALSE),\" \")","v":" "},0,{"$f":"IFERROR(VLOOKUP(C440,PivotGHRF!A:B,2,FALSE),\" \")","v":" "},0.1,0,{"$f":"IFERROR(VLOOKUP(C440,PivotGH!A:C,3,FALSE),\" \")","v":" "},0,{"$f":"IFERROR(VLOOKUP(C440,PivotGHRF!A:B,2,FALSE),\" \")","v":" "},0.1,0,{"$f":"IFERROR(VLOOKUP(C440,PivotGHRF!A:C,3,FALSE),\" \")","v":" "},0]
["Gymnastics","Aerobic","Gymnastics - Aerobic",{"$f":"IFERROR(VLOOKUP(C441,PivotGHRF!A:B,2,FALSE),\" \")","v":" "},0.1,0,{"$f":"IFERROR(VLOOKUP(C441,PivotESA!A:C,3,FALSE),\" \")","v":" "},0,{"$f":"IFERROR(VLOOKUP(C441,PivotGHRF!A:B,2,FALSE),\" \")","v":" "},0.05,0,{"$f":"IFERROR(VLOOKUP(C441,PivotGH!A:C,3,FALSE),\" \")","v":" "},0,{"$f":"IFERROR(VLOOKUP(C441,PivotGHRF!A:B,2,FALSE),\" \")","v":" "},0.05,0,{"$f":"IFERROR(VLOOKUP(C441,PivotGHRF!A:C,3,FALSE),\" \")","v":" "},0]
["Gymnastics","Rhythmic","Gymnastics - Rhythmic",{"$f":"IFERROR(VLOOKUP(C442,PivotGHRF!A:B,2,FALSE),\" \")","v":" "},0.05,0,{"$f":"IFERROR(VLOOKUP(C442,PivotESA!A:C,3,FALSE),\" \")","v":" "},0,{"$f":"IFERROR(VLOOKUP(C442,PivotGHRF!A:B,2,FALSE),\" \")","v":" "},0.05,0,{"$f":"IFERROR(VLOOKUP(C442,PivotGH!A:C,3,FALSE),\" \")","v":" "},0,{"$f":"IFERROR(VLOOKUP(C442,PivotGHRF!A:B,2,FALSE),\" \")","v":" "},0.05,0,{"$f":"IFERROR(VLOOKUP(C442,PivotGHRF!A:C,3,FALSE),\" \")","v":" "},0]
["Gymnastics","Trampoline","Gymnastics - Trampoline",{"$f":"IFERROR(VLOOKUP(C443,PivotGHRF!A:B,2,FALSE),\" \")","v":" "},0.05,0,{"$f":"IFERROR(VLOOKUP(C443,PivotESA!A:C,3,FALSE),\" \")","v":" "},0,{"$f":"IFERROR(VLOOKUP(C443,PivotGHRF!A:B,2,FALSE),\" \")","v":" "},0.05,0,{"$f":"IFERROR(VLOOKUP(C443,PivotGH!A:C,3,FALSE),\" \")","v":" "},0,{"$f":"IFERROR(VLOOKUP(C443,PivotGHRF!A:B,2,FALSE),\" \")","v":" "},0.05,0,{"$f":"IFERROR(VLOOKUP(C443,PivotGHRF!A:C,3,FALSE),\" \")","v":" "},0]
["Gymnastics","Tumbling","Gymnastics - Tumbling",{"$f":"IFERROR(VLOOKUP(C444,PivotGHRF!A:B,2,FALSE),\" \")","v":" "},0.05,0,{"$f":"IFERROR(VLOOKUP(C444,PivotESA!A:C,3,FALSE),\" \")","v":" "},0,{"$f":"IFERROR(VLOOKUP(C444,PivotGHRF!A:B,2,FALSE),\" \")","v":" "},0.05,0,{"$f":"IFERROR(VLOOKUP(C444,PivotGH!A:C,3,FALSE),\" \")","v":" "},0,{"$f":"IFERROR(VLOOKUP(C444,PivotGHRF!A:B,2,FALSE),\" \")","v":" "},0.05,0,{"$f":"IFERROR(VLOOKUP(C444,PivotGHRF!A:C,3,FALSE),\" \")","v":" "},0]
["Gymnastics","University Aerobic","Gymnastics - University Aerobic",{"$f":"IFERROR(VLOOKUP(C445,PivotGHRF!A:B,2,FALSE),\" \")","v":" "},"Not in TDSSA",0,{"$f":"IFERROR(VLOOKUP(C445,PivotESA!A:C,3,FALSE),\" \")","v":" "},0,{"$f":"IFERROR(VLOOKUP(C445,PivotGHRF!A:B,2,FALSE),\" \")","v":" "},"Not in TDSSA",0,{"$f":"IFERROR(VLOOKUP(C445,PivotGH!A:C,3,FALSE),\" \")","v":" "},0,{"$f":"IFERROR(VLOOKUP(C445,PivotGHRF!A:B,2,FALSE),\" \")","v":" "},"Not in TDSSA",0,{"$f":"IFERROR(VLOOKUP(C445,PivotGHRF!A:C,3,FALSE),\" \")","v":" "},0]
["Gymnastics","University Artistic","Gymnastics - University Artistic",{"$f":"IFERROR(VLOOKUP(C446,PivotGHRF!A:B,2,FALSE),\" \")","v":" "},"Not in TDSSA",0,{"$f":"IFERROR(VLOOKUP(C446,PivotESA!A:C,3,FALSE),\" \")","v":" "},0,{"$f":"IFERROR(VLOOKUP(C446,PivotGHRF!A:B,2,FALSE),\" \")","v":" "},"Not in TDSSA",0,{"$f":"IFERROR(VLOOKUP(C446,PivotGH!A:C,3,FALSE),\" \")","v":" "},0,{"$f":"IFERROR(VLOOKUP(C446,PivotGHRF!A:B,2,FALSE),\" \")","v":" "},"Not in TDSSA",0,{"$f":"IFERROR(VLOOKUP(C446,PivotGHRF!A:C,3,FALSE),\" \")","v":" "},0]
["Gymnastics","University Rhythmic","Gymnastics - University Rhythmic",{"$f":"IFERROR(VLOOKUP(C447,PivotGHRF!A:B,2,FALSE),\" \")","v":" "},"Not in TDSSA",0,{"$f":"IFERROR(VLOOKUP(C447,PivotESA!A:C,3,FALSE),\" \")","v":" "},0,{"$f":"IFERROR(VLOOKUP(C447,PivotGHRF!A:B,2,FALSE),\" \")","v":" "},"Not in TDSSA",0,{"$f":"IFERROR(VLOOKUP(C447,PivotGH!A:C,3,FALSE),\" \")","v":" "},0,{"$f":"IFERROR(VLOOKUP(C447,PivotGHRF!A:B,2,FALSE),\" \")","v":" "},"Not in TDSSA",0,{"$f":"IFERROR(VLOOKUP(C447,PivotGHRF!A:C,3,FALSE),\" \")","v":" "},0]
["Handball","Indoor","Handball - Indoor",{"$f":"IFERROR(VLOOKUP(C448,PivotGHRF!A:B,2,FALSE),\" \")","v":" "},0.1,0,{"$f":"IFERROR(VLOOKUP(C448,PivotESA!A:C,3,FALSE),\" \")","v":" "},0,{"$f":"IFERROR(VLOOKUP(C448,PivotGHRF!A:B,2,FALSE),\" \")","v":" "},0.1,0,{"$f":"IFERROR(VLOOKUP(C448,PivotGH!A:C,3,FALSE),\" \")","v":" "},0,{"$f":"IFERROR(VLOOKUP(C448,PivotGHRF!A:B,2,FALSE),\" \")","v":" "},0.1,0,{"$f":"IFERROR(VLOOKUP(C448,PivotGHRF!A:C,3,FALSE),\" \")","v":" "},0]
["Handball","CISS Handball","Handball - CISS Handball",{"$f":"IFERROR(VLOOKUP(C449,PivotGHRF!A:B,2,FALSE),\" \")","v":" "},"Not in TDSSA",0,{"$f":"IFERROR(VLOOKUP(C449,PivotESA!A:C,3,FALSE),\" \")","v":" "},0,{"$f":"IFERROR(VLOOKUP(C449,PivotGHRF!A:B,2,FALSE),\" \")","v":" "},"Not in TDSSA",0,{"$f":"IFERROR(VLOOKUP(C449,PivotGH!A:C,3,FALSE),\" \")","v":" "},0,{"$f":"IFERROR(VLOOKUP(C449,PivotGHRF!A:B,2,FALSE),\" \")","v":" "},"Not in TDSSA",0,{"$f":"IFERROR(VLOOKUP(C449,PivotGHRF!A:C,3,FALSE),\" \")","v":" "},0]
["Handball","University","Handball - University",{"$f":"IFERROR(VLOOKUP(C450,PivotGHRF!A:B,2,FALSE),\" \")","v":" "},"Not in TDSSA",0,{"$f":"IFERROR(VLOOKUP(C450,PivotESA!A:C,3,FALSE),\" \")","v":" "},0,{"$f":"IFERROR(VLOOKUP(C450,PivotGHRF!A:B,2,FALSE),\" \")","v":" "},"Not in TDSSA",0,{"$f":"IFERROR(VLOOKUP(C450,PivotGH!A:C,3,FALSE),\" \")","v":" "},0,{"$f":"IFERROR(VLOOKUP(C450,PivotGHRF!A:B,2,FALSE),\" \")","v":" "},"Not in TDSSA",0,{"$f":"IFERROR(VLOOKUP(C450,PivotGHRF!A:C,3,FALSE),\" \")","v":" "},0]
["Handball","Beach","Handball - Beach",{"$f":"IFERROR(VLOOKUP(C451,PivotGHRF!A:B,2,FALSE),\" \")","v":" "},0.05,0,{"$f":"IFERROR(VLOOKUP(C451,PivotESA!A:C,3,FALSE),\" \")","v":" "},0,{"$f":"IFERROR(VLOOKUP(C451,PivotGHRF!A:B,2,FALSE),\" \")","v":" "},0.05,0,{"$f":"IFERROR(VLOOKUP(C451,PivotGH!A:C,3,FALSE),\" \")","v":" "},0,{"$f":"IFERROR(VLOOKUP(C451,PivotGHRF!A:B,2,FALSE),\" \")","v":" "},0.05,0,{"$f":"IFERROR(VLOOKUP(C451,PivotGHRF!A:C,3,FALSE),\" \")","v":" "},0]
["Handball","Military Handball","Handball - Military Handball",{"$f":"IFERROR(VLOOKUP(C452,PivotGHRF!A:B,2,FALSE),\" \")","v":" "},"Not in TDSSA",0,{"$f":"IFERROR(VLOOKUP(C452,PivotESA!A:C,3,FALSE),\" \")","v":" "},0,{"$f":"IFERROR(VLOOKUP(C452,PivotGHRF!A:B,2,FALSE),\" \")","v":" "},"Not in TDSSA",0,{"$f":"IFERROR(VLOOKUP(C452,PivotGH!A:C,3,FALSE),\" \")","v":" "},0,{"$f":"IFERROR(VLOOKUP(C452,PivotGHRF!A:B,2,FALSE),\" \")","v":" "},"Not in TDSSA",0,{"$f":"IFERROR(VLOOKUP(C452,PivotGHRF!A:C,3,FALSE),\" \")","v":" "},0]
["Handball","Military Indoor","Handball - Military Indoor",{"$f":"IFERROR(VLOOKUP(C453,PivotGHRF!A:B,2,FALSE),\" \")","v":" "},"Not in TDSSA",0,{"$f":"IFERROR(VLOOKUP(C453,PivotESA!A:C,3,FALSE),\" \")","v":" "},0,{"$f":"IFERROR(VLOOKUP(C453,PivotGHRF!A:B,2,FALSE),\" \")","v":" "},"Not in TDSSA",0,{"$f":"IFERROR(VLOOKUP(C453,PivotGH!A:C,3,FALSE),\" \")","v":" "},0,{"$f":"IFERROR(VLOOKUP(C453,PivotGHRF!A:B,2,FALSE),\" \")","v":" "},"Not in TDSSA",0,{"$f":"IFERROR(VLOOKUP(C453,PivotGHRF!A:C,3,FALSE),\" \")","v":" "},0]
["Handball","Para-Handball","Handball - Para-Handball",{"$f":"IFERROR(VLOOKUP(C454,PivotGHRF!A:B,2,FALSE),\" \")","v":" "},0.05,0,{"$f":"IFERROR(VLOOKUP(C454,PivotESA!A:C,3,FALSE),\" \")","v":" "},0,{"$f":"IFERROR(VLOOKUP(C454,PivotGHRF!A:B,2,FALSE),\" \")","v":" "},0.05,0,{"$f":"IFERROR(VLOOKUP(C454,PivotGH!A:C,3,FALSE),\" \")","v":" "},0,{"$f":"IFERROR(VLOOKUP(C454,PivotGHRF!A:B,2,FALSE),\" \")","v":" "},0.05,0,{"$f":"IFERROR(VLOOKUP(C454,PivotGHRF!A:C,3,FALSE),\" \")","v":" "},0]
["Heavy Athletics","Heavy Athletics","Heavy Athletics - Heavy Athletics",{"$f":"IFERROR(VLOOKUP(C455,PivotGHRF!A:B,2,FALSE),\" \")","v":" "},"Not in TDSSA",0,{"$f":"IFERROR(VLOOKUP(C455,PivotESA!A:C,3,FALSE),\" \")","v":" "},{"$f":"IFERROR(F455-G455,0)","v":0},{"$f":"IFERROR(VLOOKUP(C455,PivotGHRF!A:B,2,FALSE),\" \")","v":" "},"Not in TDSSA",0,{"$f":"IFERROR(VLOOKUP(C455,PivotGH!A:C,3,FALSE),\" \")","v":" "},{"$f":"IFERROR(K455-L455,0)","v":0},{"$f":"IFERROR(VLOOKUP(C455,PivotGHRF!A:B,2,FALSE),\" \")","v":" "},"Not in TDSSA",0,{"$f":"IFERROR(VLOOKUP(C455,PivotGHRF!A:C,3,FALSE),\" \")","v":" "},{"$f":"IFERROR(P455-Q455,0)","v":0}]
["Heavy Events","Diamondgirl","Heavy Events - Diamondgirl",{"$f":"IFERROR(VLOOKUP(C456,PivotGHRF!A:B,2,FALSE),\" \")","v":" "},"Not in TDSSA",{"$f":"IFERROR(ROUNDUP(E456*D456,0),0)","v":0},{"$f":"IFERROR(VLOOKUP(C456,PivotESA!A:C,3,FALSE),\" \")","v":" "},0,{"$f":"IFERROR(VLOOKUP(C456,PivotGHRF!A:B,2,FALSE),\" \")","v":" "},"Not in TDSSA",{"$f":"IFERROR(ROUNDUP(J456*I456,0),0)","v":0},{"$f":"IFERROR(VLOOKUP(C456,PivotGH!A:C,3,FALSE),\" \")","v":" "},0,{"$f":"IFERROR(VLOOKUP(C456,PivotGHRF!A:B,2,FALSE),\" \")","v":" "},"Not in TDSSA",{"$f":"IFERROR(ROUNDUP(O456*N456,0),0)","v":0},{"$f":"IFERROR(VLOOKUP(C456,PivotGHRF!A:C,3,FALSE),\" \")","v":" "},0]
["Heavy Events","Gripevents","Heavy Events - Gripevents",{"$f":"IFERROR(VLOOKUP(C457,PivotGHRF!A:B,2,FALSE),\" \")","v":" "},"Not in TDSSA",0,{"$f":"IFERROR(VLOOKUP(C457,PivotESA!A:C,3,FALSE),\" \")","v":" "},0,{"$f":"IFERROR(VLOOKUP(C457,PivotGHRF!A:B,2,FALSE),\" \")","v":" "},"Not in TDSSA",0,{"$f":"IFERROR(VLOOKUP(C457,PivotGH!A:C,3,FALSE),\" \")","v":" "},0,{"$f":"IFERROR(VLOOKUP(C457,PivotGHRF!A:B,2,FALSE),\" \")","v":" "},"Not in TDSSA",0,{"$f":"IFERROR(VLOOKUP(C457,PivotGHRF!A:C,3,FALSE),\" \")","v":" "},0]
["Heavy Events","Heavy Events","Heavy Events - Heavy Events",{"$f":"IFERROR(VLOOKUP(C458,PivotGHRF!A:B,2,FALSE),\" \")","v":" "},"Not in TDSSA",0,{"$f":"IFERROR(VLOOKUP(C458,PivotESA!A:C,3,FALSE),\" \")","v":" "},0,{"$f":"IFERROR(VLOOKUP(C458,PivotGHRF!A:B,2,FALSE),\" \")","v":" "},"Not in TDSSA",0,{"$f":"IFERROR(VLOOKUP(C458,PivotGH!A:C,3,FALSE),\" \")","v":" "},0,{"$f":"IFERROR(VLOOKUP(C458,PivotGHRF!A:B,2,FALSE),\" \")","v":" "},"Not in TDSSA",0,{"$f":"IFERROR(VLOOKUP(C458,PivotGHRF!A:C,3,FALSE),\" \")","v":" "},0]
["Heavy Events","Highland Games","Heavy Events - Highland Games",{"$f":"IFERROR(VLOOKUP(C459,PivotGHRF!A:B,2,FALSE),\" \")","v":" "},"Not in TDSSA",0,{"$f":"IFERROR(VLOOKUP(C459,PivotESA!A:C,3,FALSE),\" \")","v":" "},0,{"$f":"IFERROR(VLOOKUP(C459,PivotGHRF!A:B,2,FALSE),\" \")","v":" "},"Not in TDSSA",0,{"$f":"IFERROR(VLOOKUP(C459,PivotGH!A:C,3,FALSE),\" \")","v":" "},0,{"$f":"IFERROR(VLOOKUP(C459,PivotGHRF!A:B,2,FALSE),\" \")","v":" "},"Not in TDSSA",0,{"$f":"IFERROR(VLOOKUP(C459,PivotGHRF!A:C,3,FALSE),\" \")","v":" "},0]
["Heavy Events","MAS-Wrestling","Heavy Events - MAS-Wrestling",{"$f":"IFERROR(VLOOKUP(C460,PivotGHRF!A:B,2,FALSE),\" \")","v":" "},"Not in TDSSA",0,{"$f":"IFERROR(VLOOKUP(C460,PivotESA!A:C,3,FALSE),\" \")","v":" "},0,{"$f":"IFERROR(VLOOKUP(C460,PivotGHRF!A:B,2,FALSE),\" \")","v":" "},"Not in TDSSA",0,{"$f":"IFERROR(VLOOKUP(C460,PivotGH!A:C,3,FALSE),\" \")","v":" "},0,{"$f":"IFERROR(VLOOKUP(C460,PivotGHRF!A:B,2,FALSE),\" \")","v":" "},"Not in TDSSA",0,{"$f":"IFERROR(VLOOKUP(C460,PivotGHRF!A:C,3,FALSE),\" \")","v":" "},0]
["Heavy Events","Pole dance","Heavy Events - Pole dance",{"$f":"IFERROR(VLOOKUP(C461,PivotGHRF!A:B,2,FALSE),\" \")","v":" "},"Not in TDSSA",0,{"$f":"IFERROR(VLOOKUP(C461,PivotESA!A:C,3,FALSE),\" \")","v":" "},0,{"$f":"IFERROR(VLOOKUP(C461,PivotGHRF!A:B,2,FALSE),\" \")","v":" "},"Not in TDSSA",0,{"$f":"IFERROR(VLOOKUP(C461,PivotGH!A:C,3,FALSE),\" \")","v":" "},0,{"$f":"IFERROR(VLOOKUP(C461,PivotGHRF!A:B,2,FALSE),\" \")","v":" "},"Not in TDSSA",0,{"$f":"IFERROR(VLOOKUP(C461,PivotGHRF!A:C,3,FALSE),\" \")","v":" "},0]
["Heavy Events","Strongest man","Heavy Events - Strongest man",{"$f":"IFERROR(VLOOKUP(C462,PivotGHRF!A:B,2,FALSE),\" \")","v":" "},"Not in TDSSA",0,{"$f":"IFERROR(VLOOKUP(C462,PivotESA!A:C,3,FALSE),\" \")","v":" "},0,{"$f":"IFERROR(VLOOKUP(C462,PivotGHRF!A:B,2,FALSE),\" \")","v":" "},"Not in TDSSA",0,{"$f":"IFERROR(VLOOKUP(C462,PivotGH!A:C,3,FALSE),\" \")","v":" "},0,{"$f":"IFERROR(VLOOKUP(C462,PivotGHRF!A:B,2,FALSE),\" \")","v":" "},"Not in TDSSA",0,{"$f":"IFERROR(VLOOKUP(C462,PivotGHRF!A:C,3,FALSE),\" \")","v":" "},0]
["Heavy Events","Strongest Women","Heavy Events - Strongest Women",{"$f":"IFERROR(VLOOKUP(C463,PivotGHRF!A:B,2,FALSE),\" \")","v":" "},"Not in TDSSA",0,{"$f":"IFERROR(VLOOKUP(C463,PivotESA!A:C,3,FALSE),\" \")","v":" "},0,{"$f":"IFERROR(VLOOKUP(C463,PivotGHRF!A:B,2,FALSE),\" \")","v":" "},"Not in TDSSA",0,{"$f":"IFERROR(VLOOKUP(C463,PivotGH!A:C,3,FALSE),\" \")","v":" "},0,{"$f":"IFERROR(VLOOKUP(C463,PivotGHRF!A:B,2,FALSE),\" \")","v":" "},"Not in TDSSA",0,{"$f":"IFERROR(VLOOKUP(C463,PivotGHRF!A:C,3,FALSE),\" \")","v":" "},0]
["Highland Games","Highland Games","Highland Games - Highland Games",{"$f":"IFERROR(VLOOKUP(C464,PivotGHRF!A:B,2,FALSE),\" \")","v":" "},"Not in TDSSA",0,{"$f":"IFERROR(VLOOKUP(C464,PivotESA!A:C,3,FALSE),\" \")","v":" "},0,{"$f":"IFERROR(VLOOKUP(C464,PivotGHRF!A:B,2,FALSE),\" \")","v":" "},"Not in TDSSA",0,{"$f":"IFERROR(VLOOKUP(C464,PivotGH!A:C,3,FALSE),\" \")","v":" "},0,{"$f":"IFERROR(VLOOKUP(C464,PivotGHRF!A:B,2,FALSE),\" \")","v":" "},"Not in TDSSA",0,{"$f":"IFERROR(VLOOKUP(C464,PivotGHRF!A:C,3,FALSE),\" \")","v":" "},0]
["Highland Games","Weight for height","Highland Games - Weight for height",{"$f":"IFERROR(VLOOKUP(C465,PivotGHRF!A:B,2,FALSE),\" \")","v":" "},"Not in TDSSA",0,{"$f":"IFERROR(VLOOKUP(C465,PivotESA!A:C,3,FALSE),\" \")","v":" "},0,{"$f":"IFERROR(VLOOKUP(C465,PivotGHRF!A:B,2,FALSE),\" \")","v":" "},"Not in TDSSA",0,{"$f":"IFERROR(VLOOKUP(C465,PivotGH!A:C,3,FALSE),\" \")","v":" "},0,{"$f":"IFERROR(VLOOKUP(C465,PivotGHRF!A:B,2,FALSE),\" \")","v":" "},"Not in TDSSA",0,{"$f":"IFERROR(VLOOKUP(C465,PivotGHRF!A:C,3,FALSE),\" \")","v":" "},0]
["Hornuss","Hornuss","Hornuss - Hornuss",{"$f":"IFERROR(VLOOKUP(C466,PivotGHRF!A:B,2,FALSE),\" \")","v":" "},"Not in TDSSA",0,{"$f":"IFERROR(VLOOKUP(C466,PivotESA!A:C,3,FALSE),\" \")","v":" "},0,{"$f":"IFERROR(VLOOKUP(C466,PivotGHRF!A:B,2,FALSE),\" \")","v":" "},"Not in TDSSA",0,{"$f":"IFERROR(VLOOKUP(C466,PivotGH!A:C,3,FALSE),\" \")","v":" "},0,{"$f":"IFERROR(VLOOKUP(C466,PivotGHRF!A:B,2,FALSE),\" \")","v":" "},"Not in TDSSA",0,{"$f":"IFERROR(VLOOKUP(C466,PivotGHRF!A:C,3,FALSE),\" \")","v":" "},0]
["Horse Racing","Horse Racing","Horse Racing - Horse Racing",{"$f":"IFERROR(VLOOKUP(C467,PivotGHRF!A:B,2,FALSE),\" \")","v":" "},"Not in TDSSA",0,{"$f":"IFERROR(VLOOKUP(C467,PivotESA!A:C,3,FALSE),\" \")","v":" "},0,{"$f":"IFERROR(VLOOKUP(C467,PivotGHRF!A:B,2,FALSE),\" \")","v":" "},"Not in TDSSA",0,{"$f":"IFERROR(VLOOKUP(C467,PivotGH!A:C,3,FALSE),\" \")","v":" "},0,{"$f":"IFERROR(VLOOKUP(C467,PivotGHRF!A:B,2,FALSE),\" \")","v":" "},"Not in TDSSA",0,{"$f":"IFERROR(VLOOKUP(C467,PivotGHRF!A:C,3,FALSE),\" \")","v":" "},0]
["Hunting sports","Hunting sports","Hunting sports - Hunting sports",{"$f":"IFERROR(VLOOKUP(C468,PivotGHRF!A:B,2,FALSE),\" \")","v":" "},"Not in TDSSA",0,{"$f":"IFERROR(VLOOKUP(C468,PivotESA!A:C,3,FALSE),\" \")","v":" "},0,{"$f":"IFERROR(VLOOKUP(C468,PivotGHRF!A:B,2,FALSE),\" \")","v":" "},"Not in TDSSA",0,{"$f":"IFERROR(VLOOKUP(C468,PivotGH!A:C,3,FALSE),\" \")","v":" "},0,{"$f":"IFERROR(VLOOKUP(C468,PivotGHRF!A:B,2,FALSE),\" \")","v":" "},"Not in TDSSA",0,{"$f":"IFERROR(VLOOKUP(C468,PivotGHRF!A:C,3,FALSE),\" \")","v":" "},0]
["Ice Hockey","Standing Amputee Ice Hockey","Ice Hockey - Standing Amputee Ice Hockey",{"$f":"IFERROR(VLOOKUP(C469,PivotGHRF!A:B,2,FALSE),\" \")","v":" "},"Not in TDSSA",0,{"$f":"IFERROR(VLOOKUP(C469,PivotESA!A:C,3,FALSE),\" \")","v":" "},0,{"$f":"IFERROR(VLOOKUP(C469,PivotGHRF!A:B,2,FALSE),\" \")","v":" "},"Not in TDSSA",0,{"$f":"IFERROR(VLOOKUP(C469,PivotGH!A:C,3,FALSE),\" \")","v":" "},0,{"$f":"IFERROR(VLOOKUP(C469,PivotGHRF!A:B,2,FALSE),\" \")","v":" "},"Not in TDSSA",0,{"$f":"IFERROR(VLOOKUP(C469,PivotGHRF!A:C,3,FALSE),\" \")","v":" "},0]
["Ice Hockey","CISS Ice Hockey","Ice Hockey - CISS Ice Hockey",{"$f":"IFERROR(VLOOKUP(C470,PivotGHRF!A:B,2,FALSE),\" \")","v":" "},"Not in TDSSA",0,{"$f":"IFERROR(VLOOKUP(C470,PivotESA!A:C,3,FALSE),\" \")","v":" "},0,{"$f":"IFERROR(VLOOKUP(C470,PivotGHRF!A:B,2,FALSE),\" \")","v":" "},"Not in TDSSA",0,{"$f":"IFERROR(VLOOKUP(C470,PivotGH!A:C,3,FALSE),\" \")","v":" "},0,{"$f":"IFERROR(VLOOKUP(C470,PivotGHRF!A:B,2,FALSE),\" \")","v":" "},"Not in TDSSA",0,{"$f":"IFERROR(VLOOKUP(C470,PivotGHRF!A:C,3,FALSE),\" \")","v":" "},0]
["Ice Hockey","Ice Hockey","Ice Hockey - Ice Hockey",{"$f":"IFERROR(VLOOKUP(C471,PivotGHRF!A:B,2,FALSE),\" \")","v":" "},0.05,0,{"$f":"IFERROR(VLOOKUP(C471,PivotESA!A:C,3,FALSE),\" \")","v":" "},0,{"$f":"IFERROR(VLOOKUP(C471,PivotGHRF!A:B,2,FALSE),\" \")","v":" "},0.1,0,{"$f":"IFERROR(VLOOKUP(C471,PivotGH!A:C,3,FALSE),\" \")","v":" "},0,{"$f":"IFERROR(VLOOKUP(C471,PivotGHRF!A:B,2,FALSE),\" \")","v":" "},0.1,0,{"$f":"IFERROR(VLOOKUP(C471,PivotGHRF!A:C,3,FALSE),\" \")","v":" "},0]
["Ice Hockey","University","Ice Hockey - University",{"$f":"IFERROR(VLOOKUP(C472,PivotGHRF!A:B,2,FALSE),\" \")","v":" "},"Not in TDSSA",0,{"$f":"IFERROR(VLOOKUP(C472,PivotESA!A:C,3,FALSE),\" \")","v":" "},0,{"$f":"IFERROR(VLOOKUP(C472,PivotGHRF!A:B,2,FALSE),\" \")","v":" "},"Not in TDSSA",0,{"$f":"IFERROR(VLOOKUP(C472,PivotGH!A:C,3,FALSE),\" \")","v":" "},0,{"$f":"IFERROR(VLOOKUP(C472,PivotGHRF!A:B,2,FALSE),\" \")","v":" "},"Not in TDSSA",0,{"$f":"IFERROR(VLOOKUP(C472,PivotGHRF!A:C,3,FALSE),\" \")","v":" "},0]
["Ice Hockey","Junior Ice Hockey","Ice Hockey - Junior Ice Hockey",{"$f":"IFERROR(VLOOKUP(C473,PivotGHRF!A:B,2,FALSE),\" \")","v":" "},"Not in TDSSA",0,{"$f":"IFERROR(VLOOKUP(C473,PivotESA!A:C,3,FALSE),\" \")","v":" "},0,{"$f":"IFERROR(VLOOKUP(C473,PivotGHRF!A:B,2,FALSE),\" \")","v":" "},"Not in TDSSA",0,{"$f":"IFERROR(VLOOKUP(C473,PivotGH!A:C,3,FALSE),\" \")","v":" "},0,{"$f":"IFERROR(VLOOKUP(C473,PivotGHRF!A:B,2,FALSE),\" \")","v":" "},"Not in TDSSA",0,{"$f":"IFERROR(VLOOKUP(C473,PivotGHRF!A:C,3,FALSE),\" \")","v":" "},0]
["Ice Hockey","National Icehockey League","Ice Hockey - National Icehockey League",{"$f":"IFERROR(VLOOKUP(C474,PivotGHRF!A:B,2,FALSE),\" \")","v":" "},"Not in TDSSA",0,{"$f":"IFERROR(VLOOKUP(C474,PivotESA!A:C,3,FALSE),\" \")","v":" "},0,{"$f":"IFERROR(VLOOKUP(C474,PivotGHRF!A:B,2,FALSE),\" \")","v":" "},"Not in TDSSA",0,{"$f":"IFERROR(VLOOKUP(C474,PivotGH!A:C,3,FALSE),\" \")","v":" "},0,{"$f":"IFERROR(VLOOKUP(C474,PivotGHRF!A:B,2,FALSE),\" \")","v":" "},"Not in TDSSA",0,{"$f":"IFERROR(VLOOKUP(C474,PivotGHRF!A:C,3,FALSE),\" \")","v":" "},0]
["Icestocksport","Icestocksport Distance","Icestocksport - Icestocksport Distance",{"$f":"IFERROR(VLOOKUP(C475,PivotGHRF!A:B,2,FALSE),\" \")","v":" "},0,0,{"$f":"IFERROR(VLOOKUP(C475,PivotESA!A:C,3,FALSE),\" \")","v":" "},0,{"$f":"IFERROR(VLOOKUP(C475,PivotGHRF!A:B,2,FALSE),\" \")","v":" "},0.05,0,{"$f":"IFERROR(VLOOKUP(C475,PivotGH!A:C,3,FALSE),\" \")","v":" "},0,{"$f":"IFERROR(VLOOKUP(C475,PivotGHRF!A:B,2,FALSE),\" \")","v":" "},0.05,0,{"$f":"IFERROR(VLOOKUP(C475,PivotGHRF!A:C,3,FALSE),\" \")","v":" "},0]
["Icestocksport","Icestocksport Target","Icestocksport - Icestocksport Target",{"$f":"IFERROR(VLOOKUP(C476,PivotGHRF!A:B,2,FALSE),\" \")","v":" "},0,0,{"$f":"IFERROR(VLOOKUP(C476,PivotESA!A:C,3,FALSE),\" \")","v":" "},0,{"$f":"IFERROR(VLOOKUP(C476,PivotGHRF!A:B,2,FALSE),\" \")","v":" "},0,0,{"$f":"IFERROR(VLOOKUP(C476,PivotGH!A:C,3,FALSE),\" \")","v":" "},0,{"$f":"IFERROR(VLOOKUP(C476,PivotGHRF!A:B,2,FALSE),\" \")","v":" "},0,0,{"$f":"IFERROR(VLOOKUP(C476,PivotGHRF!A:C,3,FALSE),\" \")","v":" "},0]
["Jet-Ski","Jet-Ski","Jet-Ski - Jet-Ski",{"$f":"IFERROR(VLOOKUP(C477,PivotGHRF!A:B,2,FALSE),\" \")","v":" "},"Not in TDSSA",0,{"$f":"IFERROR(VLOOKUP(C477,PivotESA!A:C,3,FALSE),\" \")","v":" "},0,{"$f":"IFERROR(VLOOKUP(C477,PivotGHRF!A:B,2,FALSE),\" \")","v":" "},"Not in TDSSA",0,{"$f":"IFERROR(VLOOKUP(C477,PivotGH!A:C,3,FALSE),\" \")","v":" "},0,{"$f":"IFERROR(VLOOKUP(C477,PivotGHRF!A:B,2,FALSE),\" \")","v":" "},"Not in TDSSA",0,{"$f":"IFERROR(VLOOKUP(C477,PivotGHRF!A:C,3,FALSE),\" \")","v":" "},0]
["Jiu-Jitsu","Jiu-Jitsu","Jiu-Jitsu - Jiu-Jitsu",{"$f":"IFERROR(VLOOKUP(C478,PivotGHRF!A:B,2,FALSE),\" \")","v":" "},"Not in TDSSA",0,{"$f":"IFERROR(VLOOKUP(C478,PivotESA!A:C,3,FALSE),\" \")","v":" "},0,{"$f":"IFERROR(VLOOKUP(C478,PivotGHRF!A:B,2,FALSE),\" \")","v":" "},"Not in TDSSA",0,{"$f":"IFERROR(VLOOKUP(C478,PivotGH!A:C,3,FALSE),\" \")","v":" "},0,{"$f":"IFERROR(VLOOKUP(C478,PivotGHRF!A:B,2,FALSE),\" \")","v":" "},"Not in TDSSA",0,{"$f":"IFERROR(VLOOKUP(C478,PivotGHRF!A:C,3,FALSE),\" \")","v":" "},0]
["Judo","CISS Judo","Judo - CISS Judo",{"$f":"IFERROR(VLOOKUP(C479,PivotGHRF!A:B,2,FALSE),\" \")","v":" "},"Not in TDSSA",0,{"$f":"IFERROR(VLOOKUP(C479,PivotESA!A:C,3,FALSE),\" \")","v":" "},0,{"$f":"IFERROR(VLOOKUP(C479,PivotGHRF!A:B,2,FALSE),\" \")","v":" "},"Not in TDSSA",0,{"$f":"IFERROR(VLOOKUP(C479,PivotGH!A:C,3,FALSE),\" \")","v":" "},0,{"$f":"IFERROR(VLOOKUP(C479,PivotGHRF!A:B,2,FALSE),\" \")","v":" "},"Not in TDSSA",0,{"$f":"IFERROR(VLOOKUP(C479,PivotGHRF!A:C,3,FALSE),\" \")","v":" "},0]
["Judo","FICEP Judo","Judo - FICEP Judo",{"$f":"IFERROR(VLOOKUP(C480,PivotGHRF!A:B,2,FALSE),\" \")","v":" "},"Not in TDSSA",0,{"$f":"IFERROR(VLOOKUP(C480,PivotESA!A:C,3,FALSE),\" \")","v":" "},0,{"$f":"IFERROR(VLOOKUP(C480,PivotGHRF!A:B,2,FALSE),\" \")","v":" "},"Not in TDSSA",0,{"$f":"IFERROR(VLOOKUP(C480,PivotGH!A:C,3,FALSE),\" \")","v":" "},0,{"$f":"IFERROR(VLOOKUP(C480,PivotGHRF!A:B,2,FALSE),\" \")","v":" "},"Not in TDSSA",0,{"$f":"IFERROR(VLOOKUP(C480,PivotGHRF!A:C,3,FALSE),\" \")","v":" "},0]
["Judo","INAS Judo","Judo - INAS Judo",{"$f":"IFERROR(VLOOKUP(C481,PivotGHRF!A:B,2,FALSE),\" \")","v":" "},"Not in TDSSA",0,{"$f":"IFERROR(VLOOKUP(C481,PivotESA!A:C,3,FALSE),\" \")","v":" "},0,{"$f":"IFERROR(VLOOKUP(C481,PivotGHRF!A:B,2,FALSE),\" \")","v":" "},"Not in TDSSA",0,{"$f":"IFERROR(VLOOKUP(C481,PivotGH!A:C,3,FALSE),\" \")","v":" "},0,{"$f":"IFERROR(VLOOKUP(C481,PivotGHRF!A:B,2,FALSE),\" \")","v":" "},"Not in TDSSA",0,{"$f":"IFERROR(VLOOKUP(C481,PivotGHRF!A:C,3,FALSE),\" \")","v":" "},0]
["Judo","Para-Judo","Judo - Para-Judo",{"$f":"IFERROR(VLOOKUP(C482,PivotGHRF!A:B,2,FALSE),\" \")","v":" "},0.1,0,{"$f":"IFERROR(VLOOKUP(C482,PivotESA!A:C,3,FALSE),\" \")","v":" "},0,{"$f":"IFERROR(VLOOKUP(C482,PivotGHRF!A:B,2,FALSE),\" \")","v":" "},0.1,0,{"$f":"IFERROR(VLOOKUP(C482,PivotGH!A:C,3,FALSE),\" \")","v":" "},0,{"$f":"IFERROR(VLOOKUP(C482,PivotGHRF!A:B,2,FALSE),\" \")","v":" "},0.1,0,{"$f":"IFERROR(VLOOKUP(C482,PivotGHRF!A:C,3,FALSE),\" \")","v":" "},0]
["Judo","Judo","Judo - Judo",{"$f":"IFERROR(VLOOKUP(C483,PivotGHRF!A:B,2,FALSE),\" \")","v":" "},0.1,0,{"$f":"IFERROR(VLOOKUP(C483,PivotESA!A:C,3,FALSE),\" \")","v":" "},0,{"$f":"IFERROR(VLOOKUP(C483,PivotGHRF!A:B,2,FALSE),\" \")","v":" "},0.1,0,{"$f":"IFERROR(VLOOKUP(C483,PivotGH!A:C,3,FALSE),\" \")","v":" "},0,{"$f":"IFERROR(VLOOKUP(C483,PivotGHRF!A:B,2,FALSE),\" \")","v":" "},0.1,0,{"$f":"IFERROR(VLOOKUP(C483,PivotGHRF!A:C,3,FALSE),\" \")","v":" "},0]
["Judo","Military Judo","Judo - Military Judo",{"$f":"IFERROR(VLOOKUP(C484,PivotGHRF!A:B,2,FALSE),\" \")","v":" "},"Not in TDSSA",0,{"$f":"IFERROR(VLOOKUP(C484,PivotESA!A:C,3,FALSE),\" \")","v":" "},0,{"$f":"IFERROR(VLOOKUP(C484,PivotGHRF!A:B,2,FALSE),\" \")","v":" "},"Not in TDSSA",0,{"$f":"IFERROR(VLOOKUP(C484,PivotGH!A:C,3,FALSE),\" \")","v":" "},0,{"$f":"IFERROR(VLOOKUP(C484,PivotGHRF!A:B,2,FALSE),\" \")","v":" "},"Not in TDSSA",0,{"$f":"IFERROR(VLOOKUP(C484,PivotGHRF!A:C,3,FALSE),\" \")","v":" "},0]
["Judo","USIP Judo","Judo - USIP Judo",{"$f":"IFERROR(VLOOKUP(C485,PivotGHRF!A:B,2,FALSE),\" \")","v":" "},"Not in TDSSA",0,{"$f":"IFERROR(VLOOKUP(C485,PivotESA!A:C,3,FALSE),\" \")","v":" "},0,{"$f":"IFERROR(VLOOKUP(C485,PivotGHRF!A:B,2,FALSE),\" \")","v":" "},"Not in TDSSA",0,{"$f":"IFERROR(VLOOKUP(C485,PivotGH!A:C,3,FALSE),\" \")","v":" "},0,{"$f":"IFERROR(VLOOKUP(C485,PivotGHRF!A:B,2,FALSE),\" \")","v":" "},"Not in TDSSA",0,{"$f":"IFERROR(VLOOKUP(C485,PivotGHRF!A:C,3,FALSE),\" \")","v":" "},0]
["Judo","University","Judo - University",{"$f":"IFERROR(VLOOKUP(C486,PivotGHRF!A:B,2,FALSE),\" \")","v":" "},"Not in TDSSA",0,{"$f":"IFERROR(VLOOKUP(C486,PivotESA!A:C,3,FALSE),\" \")","v":" "},0,{"$f":"IFERROR(VLOOKUP(C486,PivotGHRF!A:B,2,FALSE),\" \")","v":" "},"Not in TDSSA",0,{"$f":"IFERROR(VLOOKUP(C486,PivotGH!A:C,3,FALSE),\" \")","v":" "},0,{"$f":"IFERROR(VLOOKUP(C486,PivotGHRF!A:B,2,FALSE),\" \")","v":" "},"Not in TDSSA",0,{"$f":"IFERROR(VLOOKUP(C486,PivotGHRF!A:C,3,FALSE),\" \")","v":" "},0]
["Ju-Jitsu","Beltwrestling","Ju-Jitsu - Beltwrestling",{"$f":"IFERROR(VLOOKUP(C487,PivotGHRF!A:B,2,FALSE),\" \")","v":" "},0.1,0,{"$f":"IFERROR(VLOOKUP(C487,PivotESA!A:C,3,FALSE),\" \")","v":" "},0,{"$f":"IFERROR(VLOOKUP(C487,PivotGHRF!A:B,2,FALSE),\" \")","v":" "},0.1,0,{"$f":"IFERROR(VLOOKUP(C487,PivotGH!A:C,3,FALSE),\" \")","v":" "},0,{"$f":"IFERROR(VLOOKUP(C487,PivotGHRF!A:B,2,FALSE),\" \")","v":" "},0.1,0,{"$f":"IFERROR(VLOOKUP(C487,PivotGHRF!A:C,3,FALSE),\" \")","v":" "},0]
["Ju-Jitsu","Ju-Jitsu","Ju-Jitsu - Ju-Jitsu",{"$f":"IFERROR(VLOOKUP(C488,PivotGHRF!A:B,2,FALSE),\" \")","v":" "},0.1,0,{"$f":"IFERROR(VLOOKUP(C488,PivotESA!A:C,3,FALSE),\" \")","v":" "},0,{"$f":"IFERROR(VLOOKUP(C488,PivotGHRF!A:B,2,FALSE),\" \")","v":" "},0.1,0,{"$f":"IFERROR(VLOOKUP(C488,PivotGH!A:C,3,FALSE),\" \")","v":" "},0,{"$f":"IFERROR(VLOOKUP(C488,PivotGHRF!A:B,2,FALSE),\" \")","v":" "},0.1,0,{"$f":"IFERROR(VLOOKUP(C488,PivotGHRF!A:C,3,FALSE),\" \")","v":" "},0]
["Kaatsen","Kaatsen","Kaatsen - Kaatsen",{"$f":"IFERROR(VLOOKUP(C489,PivotGHRF!A:B,2,FALSE),\" \")","v":" "},"Not in TDSSA",0,{"$f":"IFERROR(VLOOKUP(C489,PivotESA!A:C,3,FALSE),\" \")","v":" "},0,{"$f":"IFERROR(VLOOKUP(C489,PivotGHRF!A:B,2,FALSE),\" \")","v":" "},"Not in TDSSA",0,{"$f":"IFERROR(VLOOKUP(C489,PivotGH!A:C,3,FALSE),\" \")","v":" "},0,{"$f":"IFERROR(VLOOKUP(C489,PivotGHRF!A:B,2,FALSE),\" \")","v":" "},"Not in TDSSA",0,{"$f":"IFERROR(VLOOKUP(C489,PivotGHRF!A:C,3,FALSE),\" \")","v":" "},0]
["Kabaddi","Beach","Kabaddi - Beach",{"$f":"IFERROR(VLOOKUP(C490,PivotGHRF!A:B,2,FALSE),\" \")","v":" "},"Not in TDSSA",0,{"$f":"IFERROR(VLOOKUP(C490,PivotESA!A:C,3,FALSE),\" \")","v":" "},0,{"$f":"IFERROR(VLOOKUP(C490,PivotGHRF!A:B,2,FALSE),\" \")","v":" "},"Not in TDSSA",0,{"$f":"IFERROR(VLOOKUP(C490,PivotGH!A:C,3,FALSE),\" \")","v":" "},0,{"$f":"IFERROR(VLOOKUP(C490,PivotGHRF!A:B,2,FALSE),\" \")","v":" "},"Not in TDSSA",0,{"$f":"IFERROR(VLOOKUP(C490,PivotGHRF!A:C,3,FALSE),\" \")","v":" "},0]
["Kabaddi","Indoor","Kabaddi - Indoor",{"$f":"IFERROR(VLOOKUP(C491,PivotGHRF!A:B,2,FALSE),\" \")","v":" "},"Not in TDSSA",0,{"$f":"IFERROR(VLOOKUP(C491,PivotESA!A:C,3,FALSE),\" \")","v":" "},0,{"$f":"IFERROR(VLOOKUP(C491,PivotGHRF!A:B,2,FALSE),\" \")","v":" "},"Not in TDSSA",0,{"$f":"IFERROR(VLOOKUP(C491,PivotGH!A:C,3,FALSE),\" \")","v":" "},0,{"$f":"IFERROR(VLOOKUP(C491,PivotGHRF!A:B,2,FALSE),\" \")","v":" "},"Not in TDSSA",0,{"$f":"IFERROR(VLOOKUP(C491,PivotGHRF!A:C,3,FALSE),\" \")","v":" "},0]
["Kabaddi","Kabaddi","Kabaddi - Kabaddi",{"$f":"IFERROR(VLOOKUP(C492,PivotGHRF!A:B,2,FALSE),\" \")","v":" "},"Not in TDSSA",0,{"$f":"IFERROR(VLOOKUP(C492,PivotESA!A:C,3,FALSE),\" \")","v":" "},0,{"$f":"IFERROR(VLOOKUP(C492,PivotGHRF!A:B,2,FALSE),\" \")","v":" "},"Not in TDSSA",0,{"$f":"IFERROR(VLOOKUP(C492,PivotGH!A:C,3,FALSE),\" \")","v":" "},0,{"$f":"IFERROR(VLOOKUP(C492,PivotGHRF!A:B,2,FALSE),\" \")","v":" "},"Not in TDSSA",0,{"$f":"IFERROR(VLOOKUP(C492,PivotGHRF!A:C,3,FALSE),\" \")","v":" "},0]
["Kabaddi","WKL Kabaddi ","Kabaddi - WKL Kabaddi ",{"$f":"IFERROR(VLOOKUP(C493,PivotGHRF!A:B,2,FALSE),\" \")","v":" "},"Not in TDSSA",0,{"$f":"IFERROR(VLOOKUP(C493,PivotESA!A:C,3,FALSE),\" \")","v":" "},0,{"$f":"IFERROR(VLOOKUP(C493,PivotGHRF!A:B,2,FALSE),\" \")","v":" "},"Not in TDSSA",0,{"$f":"IFERROR(VLOOKUP(C493,PivotGH!A:C,3,FALSE),\" \")","v":" "},0,{"$f":"IFERROR(VLOOKUP(C493,PivotGHRF!A:B,2,FALSE),\" \")","v":" "},"Not in TDSSA",0,{"$f":"IFERROR(VLOOKUP(C493,PivotGHRF!A:C,3,FALSE),\" \")","v":" "},0]
["Karate","CISS Karate","Karate - CISS Karate",{"$f":"IFERROR(VLOOKUP(C494,PivotGHRF!A:B,2,FALSE),\" \")","v":" "},"Not in TDSSA",0,{"$f":"IFERROR(VLOOKUP(C494,PivotESA!A:C,3,FALSE),\" \")","v":" "},0,{"$f":"IFERROR(VLOOKUP(C494,PivotGHRF!A:B,2,FALSE),\" \")","v":" "},"Not in TDSSA",0,{"$f":"IFERROR(VLOOKUP(C494,PivotGH!A:C,3,FALSE),\" \")","v":" "},0,{"$f":"IFERROR(VLOOKUP(C494,PivotGHRF!A:B,2,FALSE),\" \")","v":" "},"Not in TDSSA",0,{"$f":"IFERROR(VLOOKUP(C494,PivotGHRF!A:C,3,FALSE),\" \")","v":" "},0]
["Karate","Goju-ryu WGKF","Karate - Goju-ryu WGKF",{"$f":"IFERROR(VLOOKUP(C495,PivotGHRF!A:B,2,FALSE),\" \")","v":" "},"Not in TDSSA",0,{"$f":"IFERROR(VLOOKUP(C495,PivotESA!A:C,3,FALSE),\" \")","v":" "},0,{"$f":"IFERROR(VLOOKUP(C495,PivotGHRF!A:B,2,FALSE),\" \")","v":" "},"Not in TDSSA",0,{"$f":"IFERROR(VLOOKUP(C495,PivotGH!A:C,3,FALSE),\" \")","v":" "},0,{"$f":"IFERROR(VLOOKUP(C495,PivotGHRF!A:B,2,FALSE),\" \")","v":" "},"Not in TDSSA",0,{"$f":"IFERROR(VLOOKUP(C495,PivotGHRF!A:C,3,FALSE),\" \")","v":" "},0]
["Karate","Karate","Karate - Karate",{"$f":"IFERROR(VLOOKUP(C496,PivotGHRF!A:B,2,FALSE),\" \")","v":" "},0.1,0,{"$f":"IFERROR(VLOOKUP(C496,PivotESA!A:C,3,FALSE),\" \")","v":" "},0,{"$f":"IFERROR(VLOOKUP(C496,PivotGHRF!A:B,2,FALSE),\" \")","v":" "},0.1,0,{"$f":"IFERROR(VLOOKUP(C496,PivotGH!A:C,3,FALSE),\" \")","v":" "},0,{"$f":"IFERROR(VLOOKUP(C496,PivotGHRF!A:B,2,FALSE),\" \")","v":" "},0.1,0,{"$f":"IFERROR(VLOOKUP(C496,PivotGHRF!A:C,3,FALSE),\" \")","v":" "},0]
["Karate","University","Karate - University",{"$f":"IFERROR(VLOOKUP(C497,PivotGHRF!A:B,2,FALSE),\" \")","v":" "},"Not in TDSSA",0,{"$f":"IFERROR(VLOOKUP(C497,PivotESA!A:C,3,FALSE),\" \")","v":" "},0,{"$f":"IFERROR(VLOOKUP(C497,PivotGHRF!A:B,2,FALSE),\" \")","v":" "},"Not in TDSSA",0,{"$f":"IFERROR(VLOOKUP(C497,PivotGH!A:C,3,FALSE),\" \")","v":" "},0,{"$f":"IFERROR(VLOOKUP(C497,PivotGHRF!A:B,2,FALSE),\" \")","v":" "},"Not in TDSSA",0,{"$f":"IFERROR(VLOOKUP(C497,PivotGHRF!A:C,3,FALSE),\" \")","v":" "},0]
["Karate","Kyokushin KWU","Karate - Kyokushin KWU",{"$f":"IFERROR(VLOOKUP(C498,PivotGHRF!A:B,2,FALSE),\" \")","v":" "},"Not in TDSSA",0,{"$f":"IFERROR(VLOOKUP(C498,PivotESA!A:C,3,FALSE),\" \")","v":" "},0,{"$f":"IFERROR(VLOOKUP(C498,PivotGHRF!A:B,2,FALSE),\" \")","v":" "},"Not in TDSSA",0,{"$f":"IFERROR(VLOOKUP(C498,PivotGH!A:C,3,FALSE),\" \")","v":" "},0,{"$f":"IFERROR(VLOOKUP(C498,PivotGHRF!A:B,2,FALSE),\" \")","v":" "},"Not in TDSSA",0,{"$f":"IFERROR(VLOOKUP(C498,PivotGHRF!A:C,3,FALSE),\" \")","v":" "},0]
["Karate","Shinkyokushin WKO","Karate - Shinkyokushin WKO",{"$f":"IFERROR(VLOOKUP(C499,PivotGHRF!A:B,2,FALSE),\" \")","v":" "},"Not in TDSSA",0,{"$f":"IFERROR(VLOOKUP(C499,PivotESA!A:C,3,FALSE),\" \")","v":" "},0,{"$f":"IFERROR(VLOOKUP(C499,PivotGHRF!A:B,2,FALSE),\" \")","v":" "},"Not in TDSSA",0,{"$f":"IFERROR(VLOOKUP(C499,PivotGH!A:C,3,FALSE),\" \")","v":" "},0,{"$f":"IFERROR(VLOOKUP(C499,PivotGHRF!A:B,2,FALSE),\" \")","v":" "},"Not in TDSSA",0,{"$f":"IFERROR(VLOOKUP(C499,PivotGHRF!A:C,3,FALSE),\" \")","v":" "},0]
["Karate","Kyokushin","Karate - Kyokushin",{"$f":"IFERROR(VLOOKUP(C500,PivotGHRF!A:B,2,FALSE),\" \")","v":" "},"Not in TDSSA",0,{"$f":"IFERROR(VLOOKUP(C500,PivotESA!A:C,3,FALSE),\" \")","v":" "},0,{"$f":"IFERROR(VLOOKUP(C500,PivotGHRF!A:B,2,FALSE),\" \")","v":" "},"Not in TDSSA",0,{"$f":"IFERROR(VLOOKUP(C500,PivotGH!A:C,3,FALSE),\" \")","v":" "},0,{"$f":"IFERROR(VLOOKUP(C500,PivotGHRF!A:B,2,FALSE),\" \")","v":" "},"Not in TDSSA",0,{"$f":"IFERROR(VLOOKUP(C500,PivotGHRF!A:C,3,FALSE),\" \")","v":" "},0]
["Kempo","Kempo","Kempo - Kempo",{"$f":"IFERROR(VLOOKUP(C501,PivotGHRF!A:B,2,FALSE),\" \")","v":" "},"Not in TDSSA",0,{"$f":"IFERROR(VLOOKUP(C501,PivotESA!A:C,3,FALSE),\" \")","v":" "},0,{"$f":"IFERROR(VLOOKUP(C501,PivotGHRF!A:B,2,FALSE),\" \")","v":" "},"Not in TDSSA",0,{"$f":"IFERROR(VLOOKUP(C501,PivotGH!A:C,3,FALSE),\" \")","v":" "},0,{"$f":"IFERROR(VLOOKUP(C501,PivotGHRF!A:B,2,FALSE),\" \")","v":" "},"Not in TDSSA",0,{"$f":"IFERROR(VLOOKUP(C501,PivotGHRF!A:C,3,FALSE),\" \")","v":" "},0]
["Kempo","Shorinji","Kempo - Shorinji",{"$f":"IFERROR(VLOOKUP(C502,PivotGHRF!A:B,2,FALSE),\" \")","v":" "},"Not in TDSSA",0,{"$f":"IFERROR(VLOOKUP(C502,PivotESA!A:C,3,FALSE),\" \")","v":" "},0,{"$f":"IFERROR(VLOOKUP(C502,PivotGHRF!A:B,2,FALSE),\" \")","v":" "},"Not in TDSSA",0,{"$f":"IFERROR(VLOOKUP(C502,PivotGH!A:C,3,FALSE),\" \")","v":" "},0,{"$f":"IFERROR(VLOOKUP(C502,PivotGHRF!A:B,2,FALSE),\" \")","v":" "},"Not in TDSSA",0,{"$f":"IFERROR(VLOOKUP(C502,PivotGHRF!A:C,3,FALSE),\" \")","v":" "},0]
["Kendo","Kendo","Kendo - Kendo",{"$f":"IFERROR(VLOOKUP(C503,PivotGHRF!A:B,2,FALSE),\" \")","v":" "},0.05,0,{"$f":"IFERROR(VLOOKUP(C503,PivotESA!A:C,3,FALSE),\" \")","v":" "},0,{"$f":"IFERROR(VLOOKUP(C503,PivotGHRF!A:B,2,FALSE),\" \")","v":" "},0.05,0,{"$f":"IFERROR(VLOOKUP(C503,PivotGH!A:C,3,FALSE),\" \")","v":" "},0,{"$f":"IFERROR(VLOOKUP(C503,PivotGHRF!A:B,2,FALSE),\" \")","v":" "},0.05,0,{"$f":"IFERROR(VLOOKUP(C503,PivotGHRF!A:C,3,FALSE),\" \")","v":" "},0]
["Kettlebell Lifting","Kettlebell Lifting","Kettlebell Lifting - Kettlebell Lifting",{"$f":"IFERROR(VLOOKUP(C504,PivotGHRF!A:B,2,FALSE),\" \")","v":" "},"Not in TDSSA",0,{"$f":"IFERROR(VLOOKUP(C504,PivotESA!A:C,3,FALSE),\" \")","v":" "},0,{"$f":"IFERROR(VLOOKUP(C504,PivotGHRF!A:B,2,FALSE),\" \")","v":" "},"Not in TDSSA",0,{"$f":"IFERROR(VLOOKUP(C504,PivotGH!A:C,3,FALSE),\" \")","v":" "},0,{"$f":"IFERROR(VLOOKUP(C504,PivotGHRF!A:B,2,FALSE),\" \")","v":" "},"Not in TDSSA",0,{"$f":"IFERROR(VLOOKUP(C504,PivotGHRF!A:C,3,FALSE),\" \")","v":" "},0]
["Kho Kho","Kho Kho","Kho Kho - Kho Kho",{"$f":"IFERROR(VLOOKUP(C505,PivotGHRF!A:B,2,FALSE),\" \")","v":" "},"Not in TDSSA",0,{"$f":"IFERROR(VLOOKUP(C505,PivotESA!A:C,3,FALSE),\" \")","v":" "},0,{"$f":"IFERROR(VLOOKUP(C505,PivotGHRF!A:B,2,FALSE),\" \")","v":" "},"Not in TDSSA",0,{"$f":"IFERROR(VLOOKUP(C505,PivotGH!A:C,3,FALSE),\" \")","v":" "},0,{"$f":"IFERROR(VLOOKUP(C505,PivotGHRF!A:B,2,FALSE),\" \")","v":" "},"Not in TDSSA",0,{"$f":"IFERROR(VLOOKUP(C505,PivotGHRF!A:C,3,FALSE),\" \")","v":" "},0]
["Kickboxing","Full Contact","Kickboxing - Full Contact",{"$f":"IFERROR(VLOOKUP(C506,PivotGHRF!A:B,2,FALSE),\" \")","v":" "},0.15,0,{"$f":"IFERROR(VLOOKUP(C506,PivotESA!A:C,3,FALSE),\" \")","v":" "},0,{"$f":"IFERROR(VLOOKUP(C506,PivotGHRF!A:B,2,FALSE),\" \")","v":" "},0.1,0,{"$f":"IFERROR(VLOOKUP(C506,PivotGH!A:C,3,FALSE),\" \")","v":" "},0,{"$f":"IFERROR(VLOOKUP(C506,PivotGHRF!A:B,2,FALSE),\" \")","v":" "},0.1,0,{"$f":"IFERROR(VLOOKUP(C506,PivotGHRF!A:C,3,FALSE),\" \")","v":" "},0]
["Kickboxing","IKF-Kickboxing","Kickboxing - IKF-Kickboxing",{"$f":"IFERROR(VLOOKUP(C507,PivotGHRF!A:B,2,FALSE),\" \")","v":" "},"Not in TDSSA",0,{"$f":"IFERROR(VLOOKUP(C507,PivotESA!A:C,3,FALSE),\" \")","v":" "},0,{"$f":"IFERROR(VLOOKUP(C507,PivotGHRF!A:B,2,FALSE),\" \")","v":" "},"Not in TDSSA",0,{"$f":"IFERROR(VLOOKUP(C507,PivotGH!A:C,3,FALSE),\" \")","v":" "},0,{"$f":"IFERROR(VLOOKUP(C507,PivotGHRF!A:B,2,FALSE),\" \")","v":" "},"Not in TDSSA",0,{"$f":"IFERROR(VLOOKUP(C507,PivotGHRF!A:C,3,FALSE),\" \")","v":" "},0]
["Kickboxing","K1 Rules","Kickboxing - K1 Rules",{"$f":"IFERROR(VLOOKUP(C508,PivotGHRF!A:B,2,FALSE),\" \")","v":" "},0.15,0,{"$f":"IFERROR(VLOOKUP(C508,PivotESA!A:C,3,FALSE),\" \")","v":" "},0,{"$f":"IFERROR(VLOOKUP(C508,PivotGHRF!A:B,2,FALSE),\" \")","v":" "},0.1,0,{"$f":"IFERROR(VLOOKUP(C508,PivotGH!A:C,3,FALSE),\" \")","v":" "},0,{"$f":"IFERROR(VLOOKUP(C508,PivotGHRF!A:B,2,FALSE),\" \")","v":" "},0.1,0,{"$f":"IFERROR(VLOOKUP(C508,PivotGHRF!A:C,3,FALSE),\" \")","v":" "},0]
["Kickboxing","Kick Light","Kickboxing - Kick Light",{"$f":"IFERROR(VLOOKUP(C509,PivotGHRF!A:B,2,FALSE),\" \")","v":" "},0.15,0,{"$f":"IFERROR(VLOOKUP(C509,PivotESA!A:C,3,FALSE),\" \")","v":" "},0,{"$f":"IFERROR(VLOOKUP(C509,PivotGHRF!A:B,2,FALSE),\" \")","v":" "},0.1,0,{"$f":"IFERROR(VLOOKUP(C509,PivotGH!A:C,3,FALSE),\" \")","v":" "},0,{"$f":"IFERROR(VLOOKUP(C509,PivotGHRF!A:B,2,FALSE),\" \")","v":" "},0.1,0,{"$f":"IFERROR(VLOOKUP(C509,PivotGHRF!A:C,3,FALSE),\" \")","v":" "},0]
["Kickboxing","Point Fighting","Kickboxing - Point Fighting",{"$f":"IFERROR(VLOOKUP(C510,PivotGHRF!A:B,2,FALSE),\" \")","v":" "},0.15,0,{"$f":"IFERROR(VLOOKUP(C510,PivotESA!A:C,3,FALSE),\" \")","v":" "},0,{"$f":"IFERROR(VLOOKUP(C510,PivotGHRF!A:B,2,FALSE),\" \")","v":" "},0.1,0,{"$f":"IFERROR(VLOOKUP(C510,PivotGH!A:C,3,FALSE),\" \")","v":" "},0,{"$f":"IFERROR(VLOOKUP(C510,PivotGHRF!A:B,2,FALSE),\" \")","v":" "},0.1,0,{"$f":"IFERROR(VLOOKUP(C510,PivotGHRF!A:C,3,FALSE),\" \")","v":" "},0]
["Kickboxing","Kickboxing","Kickboxing - Kickboxing",{"$f":"IFERROR(VLOOKUP(C511,PivotGHRF!A:B,2,FALSE),\" \")","v":" "},0.15,0,{"$f":"IFERROR(VLOOKUP(C511,PivotESA!A:C,3,FALSE),\" \")","v":" "},0,{"$f":"IFERROR(VLOOKUP(C511,PivotGHRF!A:B,2,FALSE),\" \")","v":" "},0.1,0,{"$f":"IFERROR(VLOOKUP(C511,PivotGH!A:C,3,FALSE),\" \")","v":" "},0,{"$f":"IFERROR(VLOOKUP(C511,PivotGHRF!A:B,2,FALSE),\" \")","v":" "},0.1,0,{"$f":"IFERROR(VLOOKUP(C511,PivotGHRF!A:C,3,FALSE),\" \")","v":" "},0]
["Kickboxing","Light Contact","Kickboxing - Light Contact",{"$f":"IFERROR(VLOOKUP(C512,PivotGHRF!A:B,2,FALSE),\" \")","v":" "},0.15,0,{"$f":"IFERROR(VLOOKUP(C512,PivotESA!A:C,3,FALSE),\" \")","v":" "},0,{"$f":"IFERROR(VLOOKUP(C512,PivotGHRF!A:B,2,FALSE),\" \")","v":" "},0.1,0,{"$f":"IFERROR(VLOOKUP(C512,PivotGH!A:C,3,FALSE),\" \")","v":" "},0,{"$f":"IFERROR(VLOOKUP(C512,PivotGHRF!A:B,2,FALSE),\" \")","v":" "},0.1,0,{"$f":"IFERROR(VLOOKUP(C512,PivotGHRF!A:C,3,FALSE),\" \")","v":" "},0]
["Kickboxing","Low Kick","Kickboxing - Low Kick",{"$f":"IFERROR(VLOOKUP(C513,PivotGHRF!A:B,2,FALSE),\" \")","v":" "},0.15,0,{"$f":"IFERROR(VLOOKUP(C513,PivotESA!A:C,3,FALSE),\" \")","v":" "},0,{"$f":"IFERROR(VLOOKUP(C513,PivotGHRF!A:B,2,FALSE),\" \")","v":" "},0.1,0,{"$f":"IFERROR(VLOOKUP(C513,PivotGH!A:C,3,FALSE),\" \")","v":" "},0,{"$f":"IFERROR(VLOOKUP(C513,PivotGHRF!A:B,2,FALSE),\" \")","v":" "},0.1,0,{"$f":"IFERROR(VLOOKUP(C513,PivotGHRF!A:C,3,FALSE),\" \")","v":" "},0]
["Kickboxing","Pancrace","Kickboxing - Pancrace",{"$f":"IFERROR(VLOOKUP(C514,PivotGHRF!A:B,2,FALSE),\" \")","v":" "},0.15,0,{"$f":"IFERROR(VLOOKUP(C514,PivotESA!A:C,3,FALSE),\" \")","v":" "},0,{"$f":"IFERROR(VLOOKUP(C514,PivotGHRF!A:B,2,FALSE),\" \")","v":" "},0.1,0,{"$f":"IFERROR(VLOOKUP(C514,PivotGH!A:C,3,FALSE),\" \")","v":" "},0,{"$f":"IFERROR(VLOOKUP(C514,PivotGHRF!A:B,2,FALSE),\" \")","v":" "},0.1,0,{"$f":"IFERROR(VLOOKUP(C514,PivotGHRF!A:C,3,FALSE),\" \")","v":" "},0]
["Kickboxing","Semi Contact","Kickboxing - Semi Contact",{"$f":"IFERROR(VLOOKUP(C515,PivotGHRF!A:B,2,FALSE),\" \")","v":" "},0.15,0,{"$f":"IFERROR(VLOOKUP(C515,PivotESA!A:C,3,FALSE),\" \")","v":" "},0,{"$f":"IFERROR(VLOOKUP(C515,PivotGHRF!A:B,2,FALSE),\" \")","v":" "},0.1,0,{"$f":"IFERROR(VLOOKUP(C515,PivotGH!A:C,3,FALSE),\" \")","v":" "},0,{"$f":"IFERROR(VLOOKUP(C515,PivotGHRF!A:B,2,FALSE),\" \")","v":" "},0.1,0,{"$f":"IFERROR(VLOOKUP(C515,PivotGHRF!A:C,3,FALSE),\" \")","v":" "},0]
["Kickboxing","WKA Kickboxing","Kickboxing - WKA Kickboxing",{"$f":"IFERROR(VLOOKUP(C516,PivotGHRF!A:B,2,FALSE),\" \")","v":" "},"Not in TDSSA",0,{"$f":"IFERROR(VLOOKUP(C516,PivotESA!A:C,3,FALSE),\" \")","v":" "},0,{"$f":"IFERROR(VLOOKUP(C516,PivotGHRF!A:B,2,FALSE),\" \")","v":" "},"Not in TDSSA",0,{"$f":"IFERROR(VLOOKUP(C516,PivotGH!A:C,3,FALSE),\" \")","v":" "},0,{"$f":"IFERROR(VLOOKUP(C516,PivotGHRF!A:B,2,FALSE),\" \")","v":" "},"Not in TDSSA",0,{"$f":"IFERROR(VLOOKUP(C516,PivotGHRF!A:C,3,FALSE),\" \")","v":" "},0]
["Korfball","Korfball","Korfball - Korfball",{"$f":"IFERROR(VLOOKUP(C517,PivotGHRF!A:B,2,FALSE),\" \")","v":" "},0.1,0,{"$f":"IFERROR(VLOOKUP(C517,PivotESA!A:C,3,FALSE),\" \")","v":" "},0,{"$f":"IFERROR(VLOOKUP(C517,PivotGHRF!A:B,2,FALSE),\" \")","v":" "},0.05,0,{"$f":"IFERROR(VLOOKUP(C517,PivotGH!A:C,3,FALSE),\" \")","v":" "},0,{"$f":"IFERROR(VLOOKUP(C517,PivotGHRF!A:B,2,FALSE),\" \")","v":" "},0.05,0,{"$f":"IFERROR(VLOOKUP(C517,PivotGHRF!A:C,3,FALSE),\" \")","v":" "},0]
["Krachtbal","Krachtbal","Krachtbal - Krachtbal",{"$f":"IFERROR(VLOOKUP(C518,PivotGHRF!A:B,2,FALSE),\" \")","v":" "},"Not in TDSSA",0,{"$f":"IFERROR(VLOOKUP(C518,PivotESA!A:C,3,FALSE),\" \")","v":" "},0,{"$f":"IFERROR(VLOOKUP(C518,PivotGHRF!A:B,2,FALSE),\" \")","v":" "},"Not in TDSSA",0,{"$f":"IFERROR(VLOOKUP(C518,PivotGH!A:C,3,FALSE),\" \")","v":" "},0,{"$f":"IFERROR(VLOOKUP(C518,PivotGHRF!A:B,2,FALSE),\" \")","v":" "},"Not in TDSSA",0,{"$f":"IFERROR(VLOOKUP(C518,PivotGHRF!A:C,3,FALSE),\" \")","v":" "},0]
["Kudo","Kudo","Kudo - Kudo",{"$f":"IFERROR(VLOOKUP(C519,PivotGHRF!A:B,2,FALSE),\" \")","v":" "},"Not in TDSSA",0,{"$f":"IFERROR(VLOOKUP(C519,PivotESA!A:C,3,FALSE),\" \")","v":" "},{"$f":"IFERROR(F519-G519,0)","v":0},{"$f":"IFERROR(VLOOKUP(C519,PivotGHRF!A:B,2,FALSE),\" \")","v":" "},"Not in TDSSA",0,{"$f":"IFERROR(VLOOKUP(C519,PivotGH!A:C,3,FALSE),\" \")","v":" "},{"$f":"IFERROR(K519-L519,0)","v":0},{"$f":"IFERROR(VLOOKUP(C519,PivotGHRF!A:B,2,FALSE),\" \")","v":" "},"Not in TDSSA",0,{"$f":"IFERROR(VLOOKUP(C519,PivotGHRF!A:C,3,FALSE),\" \")","v":" "},{"$f":"IFERROR(P519-Q519,0)","v":0}]
["Kung Fu","Kung Fu","Kung Fu - Kung Fu",{"$f":"IFERROR(VLOOKUP(C520,PivotGHRF!A:B,2,FALSE),\" \")","v":" "},"Not in TDSSA",{"$f":"IFERROR(ROUNDUP(E520*D520,0),0)","v":0},{"$f":"IFERROR(VLOOKUP(C520,PivotESA!A:C,3,FALSE),\" \")","v":" "},0,{"$f":"IFERROR(VLOOKUP(C520,PivotGHRF!A:B,2,FALSE),\" \")","v":" "},"Not in TDSSA",{"$f":"IFERROR(ROUNDUP(J520*I520,0),0)","v":0},{"$f":"IFERROR(VLOOKUP(C520,PivotGH!A:C,3,FALSE),\" \")","v":" "},0,{"$f":"IFERROR(VLOOKUP(C520,PivotGHRF!A:B,2,FALSE),\" \")","v":" "},"Not in TDSSA",{"$f":"IFERROR(ROUNDUP(O520*N520,0),0)","v":0},{"$f":"IFERROR(VLOOKUP(C520,PivotGHRF!A:C,3,FALSE),\" \")","v":" "},0]
["Kurash","Beach Kurash","Kurash - Beach Kurash",{"$f":"IFERROR(VLOOKUP(C521,PivotGHRF!A:B,2,FALSE),\" \")","v":" "},"Not in TDSSA",0,{"$f":"IFERROR(VLOOKUP(C521,PivotESA!A:C,3,FALSE),\" \")","v":" "},0,{"$f":"IFERROR(VLOOKUP(C521,PivotGHRF!A:B,2,FALSE),\" \")","v":" "},"Not in TDSSA",0,{"$f":"IFERROR(VLOOKUP(C521,PivotGH!A:C,3,FALSE),\" \")","v":" "},0,{"$f":"IFERROR(VLOOKUP(C521,PivotGHRF!A:B,2,FALSE),\" \")","v":" "},"Not in TDSSA",0,{"$f":"IFERROR(VLOOKUP(C521,PivotGHRF!A:C,3,FALSE),\" \")","v":" "},0]
["Kurash","Kurash","Kurash - Kurash",{"$f":"IFERROR(VLOOKUP(C522,PivotGHRF!A:B,2,FALSE),\" \")","v":" "},"Not in TDSSA",0,{"$f":"IFERROR(VLOOKUP(C522,PivotESA!A:C,3,FALSE),\" \")","v":" "},0,{"$f":"IFERROR(VLOOKUP(C522,PivotGHRF!A:B,2,FALSE),\" \")","v":" "},"Not in TDSSA",0,{"$f":"IFERROR(VLOOKUP(C522,PivotGH!A:C,3,FALSE),\" \")","v":" "},0,{"$f":"IFERROR(VLOOKUP(C522,PivotGHRF!A:B,2,FALSE),\" \")","v":" "},"Not in TDSSA",0,{"$f":"IFERROR(VLOOKUP(C522,PivotGHRF!A:C,3,FALSE),\" \")","v":" "},0]
["Kurash","University","Kurash - University",{"$f":"IFERROR(VLOOKUP(C523,PivotGHRF!A:B,2,FALSE),\" \")","v":" "},"Not in TDSSA",0,{"$f":"IFERROR(VLOOKUP(C523,PivotESA!A:C,3,FALSE),\" \")","v":" "},0,{"$f":"IFERROR(VLOOKUP(C523,PivotGHRF!A:B,2,FALSE),\" \")","v":" "},"Not in TDSSA",0,{"$f":"IFERROR(VLOOKUP(C523,PivotGH!A:C,3,FALSE),\" \")","v":" "},0,{"$f":"IFERROR(VLOOKUP(C523,PivotGHRF!A:B,2,FALSE),\" \")","v":" "},"Not in TDSSA",0,{"$f":"IFERROR(VLOOKUP(C523,PivotGHRF!A:C,3,FALSE),\" \")","v":" "},0]
["Kyudo","Kyudo","Kyudo - Kyudo",{"$f":"IFERROR(VLOOKUP(C524,PivotGHRF!A:B,2,FALSE),\" \")","v":" "},"Not in TDSSA",0,{"$f":"IFERROR(VLOOKUP(C524,PivotESA!A:C,3,FALSE),\" \")","v":" "},0,{"$f":"IFERROR(VLOOKUP(C524,PivotGHRF!A:B,2,FALSE),\" \")","v":" "},"Not in TDSSA",0,{"$f":"IFERROR(VLOOKUP(C524,PivotGH!A:C,3,FALSE),\" \")","v":" "},0,{"$f":"IFERROR(VLOOKUP(C524,PivotGHRF!A:B,2,FALSE),\" \")","v":" "},"Not in TDSSA",0,{"$f":"IFERROR(VLOOKUP(C524,PivotGHRF!A:C,3,FALSE),\" \")","v":" "},0]
["Lacrosse","Lacrosse","Lacrosse - Lacrosse",{"$f":"IFERROR(VLOOKUP(C525,PivotGHRF!A:B,2,FALSE),\" \")","v":" "},0.1,0,{"$f":"IFERROR(VLOOKUP(C525,PivotESA!A:C,3,FALSE),\" \")","v":" "},0,{"$f":"IFERROR(VLOOKUP(C525,PivotGHRF!A:B,2,FALSE),\" \")","v":" "},0.1,0,{"$f":"IFERROR(VLOOKUP(C525,PivotGH!A:C,3,FALSE),\" \")","v":" "},0,{"$f":"IFERROR(VLOOKUP(C525,PivotGHRF!A:B,2,FALSE),\" \")","v":" "},0.1,0,{"$f":"IFERROR(VLOOKUP(C525,PivotGHRF!A:C,3,FALSE),\" \")","v":" "},0]
["Leones Bowls","Leones Bowls","Leones Bowls - Leones Bowls",{"$f":"IFERROR(VLOOKUP(C526,PivotGHRF!A:B,2,FALSE),\" \")","v":" "},"Not in TDSSA",0,{"$f":"IFERROR(VLOOKUP(C526,PivotESA!A:C,3,FALSE),\" \")","v":" "},0,{"$f":"IFERROR(VLOOKUP(C526,PivotGHRF!A:B,2,FALSE),\" \")","v":" "},"Not in TDSSA",0,{"$f":"IFERROR(VLOOKUP(C526,PivotGH!A:C,3,FALSE),\" \")","v":" "},0,{"$f":"IFERROR(VLOOKUP(C526,PivotGHRF!A:B,2,FALSE),\" \")","v":" "},"Not in TDSSA",0,{"$f":"IFERROR(VLOOKUP(C526,PivotGHRF!A:C,3,FALSE),\" \")","v":" "},0]
["Lifesaving","Lifesaving","Lifesaving - Lifesaving",{"$f":"IFERROR(VLOOKUP(C527,PivotGHRF!A:B,2,FALSE),\" \")","v":" "},0.1,0,{"$f":"IFERROR(VLOOKUP(C527,PivotESA!A:C,3,FALSE),\" \")","v":" "},0,{"$f":"IFERROR(VLOOKUP(C527,PivotGHRF!A:B,2,FALSE),\" \")","v":" "},0.05,0,{"$f":"IFERROR(VLOOKUP(C527,PivotGH!A:C,3,FALSE),\" \")","v":" "},0,{"$f":"IFERROR(VLOOKUP(C527,PivotGHRF!A:B,2,FALSE),\" \")","v":" "},0.05,0,{"$f":"IFERROR(VLOOKUP(C527,PivotGHRF!A:C,3,FALSE),\" \")","v":" "},0]
["Longue Paume","Longue Paume","Longue Paume - Longue Paume",{"$f":"IFERROR(VLOOKUP(C528,PivotGHRF!A:B,2,FALSE),\" \")","v":" "},"Not in TDSSA",0,{"$f":"IFERROR(VLOOKUP(C528,PivotESA!A:C,3,FALSE),\" \")","v":" "},0,{"$f":"IFERROR(VLOOKUP(C528,PivotGHRF!A:B,2,FALSE),\" \")","v":" "},"Not in TDSSA",0,{"$f":"IFERROR(VLOOKUP(C528,PivotGH!A:C,3,FALSE),\" \")","v":" "},0,{"$f":"IFERROR(VLOOKUP(C528,PivotGHRF!A:B,2,FALSE),\" \")","v":" "},"Not in TDSSA",0,{"$f":"IFERROR(VLOOKUP(C528,PivotGHRF!A:C,3,FALSE),\" \")","v":" "},0]
["Luge","Luge","Luge - Luge",{"$f":"IFERROR(VLOOKUP(C529,PivotGHRF!A:B,2,FALSE),\" \")","v":" "},0,0,{"$f":"IFERROR(VLOOKUP(C529,PivotESA!A:C,3,FALSE),\" \")","v":" "},0,{"$f":"IFERROR(VLOOKUP(C529,PivotGHRF!A:B,2,FALSE),\" \")","v":" "},0.1,0,{"$f":"IFERROR(VLOOKUP(C529,PivotGH!A:C,3,FALSE),\" \")","v":" "},0,{"$f":"IFERROR(VLOOKUP(C529,PivotGHRF!A:B,2,FALSE),\" \")","v":" "},0.1,0,{"$f":"IFERROR(VLOOKUP(C529,PivotGHRF!A:C,3,FALSE),\" \")","v":" "},0]
["Luge","Para-Luge","Luge - Para-Luge",{"$f":"IFERROR(VLOOKUP(C530,PivotGHRF!A:B,2,FALSE),\" \")","v":" "},"Not in TDSSA",0,{"$f":"IFERROR(VLOOKUP(C530,PivotESA!A:C,3,FALSE),\" \")","v":" "},0,{"$f":"IFERROR(VLOOKUP(C530,PivotGHRF!A:B,2,FALSE),\" \")","v":" "},"Not in TDSSA",0,{"$f":"IFERROR(VLOOKUP(C530,PivotGH!A:C,3,FALSE),\" \")","v":" "},0,{"$f":"IFERROR(VLOOKUP(C530,PivotGHRF!A:B,2,FALSE),\" \")","v":" "},"Not in TDSSA",0,{"$f":"IFERROR(VLOOKUP(C530,PivotGHRF!A:C,3,FALSE),\" \")","v":" "},0]
["Military Patrol","Military Patrol","Military Patrol - Military Patrol",{"$f":"IFERROR(VLOOKUP(C531,PivotGHRF!A:B,2,FALSE),\" \")","v":" "},"Not in TDSSA",0,{"$f":"IFERROR(VLOOKUP(C531,PivotESA!A:C,3,FALSE),\" \")","v":" "},0,{"$f":"IFERROR(VLOOKUP(C531,PivotGHRF!A:B,2,FALSE),\" \")","v":" "},"Not in TDSSA",0,{"$f":"IFERROR(VLOOKUP(C531,PivotGH!A:C,3,FALSE),\" \")","v":" "},0,{"$f":"IFERROR(VLOOKUP(C531,PivotGHRF!A:B,2,FALSE),\" \")","v":" "},"Not in TDSSA",0,{"$f":"IFERROR(VLOOKUP(C531,PivotGHRF!A:C,3,FALSE),\" \")","v":" "},0]
["Military Sport Pentathlon","Military Modern Pentathlon","Military Sport Pentathlon - Military Modern Pentathlon",{"$f":"IFERROR(VLOOKUP(C532,PivotGHRF!A:B,2,FALSE),\" \")","v":" "},"Not in TDSSA",0,{"$f":"IFERROR(VLOOKUP(C532,PivotESA!A:C,3,FALSE),\" \")","v":" "},0,{"$f":"IFERROR(VLOOKUP(C532,PivotGHRF!A:B,2,FALSE),\" \")","v":" "},"Not in TDSSA",0,{"$f":"IFERROR(VLOOKUP(C532,PivotGH!A:C,3,FALSE),\" \")","v":" "},0,{"$f":"IFERROR(VLOOKUP(C532,PivotGHRF!A:B,2,FALSE),\" \")","v":" "},"Not in TDSSA",0,{"$f":"IFERROR(VLOOKUP(C532,PivotGHRF!A:C,3,FALSE),\" \")","v":" "},0]
["Military Sport Pentathlon","Military Pentathlon","Military Sport Pentathlon - Military Pentathlon",{"$f":"IFERROR(VLOOKUP(C533,PivotGHRF!A:B,2,FALSE),\" \")","v":" "},"Not in TDSSA",0,{"$f":"IFERROR(VLOOKUP(C533,PivotESA!A:C,3,FALSE),\" \")","v":" "},0,{"$f":"IFERROR(VLOOKUP(C533,PivotGHRF!A:B,2,FALSE),\" \")","v":" "},"Not in TDSSA",0,{"$f":"IFERROR(VLOOKUP(C533,PivotGH!A:C,3,FALSE),\" \")","v":" "},0,{"$f":"IFERROR(VLOOKUP(C533,PivotGHRF!A:B,2,FALSE),\" \")","v":" "},"Not in TDSSA",0,{"$f":"IFERROR(VLOOKUP(C533,PivotGHRF!A:C,3,FALSE),\" \")","v":" "},0]
["Military Sport Pentathlon","Naval Pentathlon","Military Sport Pentathlon - Naval Pentathlon",{"$f":"IFERROR(VLOOKUP(C534,PivotGHRF!A:B,2,FALSE),\" \")","v":" "},"Not in TDSSA",0,{"$f":"IFERROR(VLOOKUP(C534,PivotESA!A:C,3,FALSE),\" \")","v":" "},0,{"$f":"IFERROR(VLOOKUP(C534,PivotGHRF!A:B,2,FALSE),\" \")","v":" "},"Not in TDSSA",0,{"$f":"IFERROR(VLOOKUP(C534,PivotGH!A:C,3,FALSE),\" \")","v":" "},0,{"$f":"IFERROR(VLOOKUP(C534,PivotGHRF!A:B,2,FALSE),\" \")","v":" "},"Not in TDSSA",0,{"$f":"IFERROR(VLOOKUP(C534,PivotGHRF!A:C,3,FALSE),\" \")","v":" "},0]
["Minigolf","Minigolf","Minigolf - Minigolf",{"$f":"IFERROR(VLOOKUP(C535,PivotGHRF!A:B,2,FALSE),\" \")","v":" "},0,0,{"$f":"IFERROR(VLOOKUP(C535,PivotESA!A:C,3,FALSE),\" \")","v":" "},0,{"$f":"IFERROR(VLOOKUP(C535,PivotGHRF!A:B,2,FALSE),\" \")","v":" "},0,0,{"$f":"IFERROR(VLOOKUP(C535,PivotGH!A:C,3,FALSE),\" \")","v":" "},0,{"$f":"IFERROR(VLOOKUP(C535,PivotGHRF!A:B,2,FALSE),\" \")","v":" "},0,0,{"$f":"IFERROR(VLOOKUP(C535,PivotGHRF!A:C,3,FALSE),\" \")","v":" "},0]
["Mixed Martial Arts","Mixed Martial Arts","Mixed Martial Arts - Mixed Martial Arts",{"$f":"IFERROR(VLOOKUP(C536,PivotGHRF!A:B,2,FALSE),\" \")","v":" "},"Not in TDSSA",0,{"$f":"IFERROR(VLOOKUP(C536,PivotESA!A:C,3,FALSE),\" \")","v":" "},0,{"$f":"IFERROR(VLOOKUP(C536,PivotGHRF!A:B,2,FALSE),\" \")","v":" "},"Not in TDSSA",0,{"$f":"IFERROR(VLOOKUP(C536,PivotGH!A:C,3,FALSE),\" \")","v":" "},0,{"$f":"IFERROR(VLOOKUP(C536,PivotGHRF!A:B,2,FALSE),\" \")","v":" "},"Not in TDSSA",0,{"$f":"IFERROR(VLOOKUP(C536,PivotGHRF!A:C,3,FALSE),\" \")","v":" "},0]
["Mixed Martial Arts","Shooto","Mixed Martial Arts - Shooto",{"$f":"IFERROR(VLOOKUP(C537,PivotGHRF!A:B,2,FALSE),\" \")","v":" "},"Not in TDSSA",0,{"$f":"IFERROR(VLOOKUP(C537,PivotESA!A:C,3,FALSE),\" \")","v":" "},0,{"$f":"IFERROR(VLOOKUP(C537,PivotGHRF!A:B,2,FALSE),\" \")","v":" "},"Not in TDSSA",0,{"$f":"IFERROR(VLOOKUP(C537,PivotGH!A:C,3,FALSE),\" \")","v":" "},0,{"$f":"IFERROR(VLOOKUP(C537,PivotGHRF!A:B,2,FALSE),\" \")","v":" "},"Not in TDSSA",0,{"$f":"IFERROR(VLOOKUP(C537,PivotGHRF!A:C,3,FALSE),\" \")","v":" "},0]
["Mixed Martial Arts","UFC","Mixed Martial Arts - UFC",{"$f":"IFERROR(VLOOKUP(C538,PivotGHRF!A:B,2,FALSE),\" \")","v":" "},"Not in TDSSA",0,{"$f":"IFERROR(VLOOKUP(C538,PivotESA!A:C,3,FALSE),\" \")","v":" "},0,{"$f":"IFERROR(VLOOKUP(C538,PivotGHRF!A:B,2,FALSE),\" \")","v":" "},"Not in TDSSA",0,{"$f":"IFERROR(VLOOKUP(C538,PivotGH!A:C,3,FALSE),\" \")","v":" "},0,{"$f":"IFERROR(VLOOKUP(C538,PivotGHRF!A:B,2,FALSE),\" \")","v":" "},"Not in TDSSA",0,{"$f":"IFERROR(VLOOKUP(C538,PivotGHRF!A:C,3,FALSE),\" \")","v":" "},0]
["Mixed Martial Arts","UFC BantamWeight","Mixed Martial Arts - UFC BantamWeight",{"$f":"IFERROR(VLOOKUP(C539,PivotGHRF!A:B,2,FALSE),\" \")","v":" "},"Not in TDSSA",0,{"$f":"IFERROR(VLOOKUP(C539,PivotESA!A:C,3,FALSE),\" \")","v":" "},0,{"$f":"IFERROR(VLOOKUP(C539,PivotGHRF!A:B,2,FALSE),\" \")","v":" "},"Not in TDSSA",0,{"$f":"IFERROR(VLOOKUP(C539,PivotGH!A:C,3,FALSE),\" \")","v":" "},0,{"$f":"IFERROR(VLOOKUP(C539,PivotGHRF!A:B,2,FALSE),\" \")","v":" "},"Not in TDSSA",0,{"$f":"IFERROR(VLOOKUP(C539,PivotGHRF!A:C,3,FALSE),\" \")","v":" "},0]
["Mixed Martial Arts","UFC Featherweight","Mixed Martial Arts - UFC Featherweight",{"$f":"IFERROR(VLOOKUP(C540,PivotGHRF!A:B,2,FALSE),\" \")","v":" "},"Not in TDSSA",0,{"$f":"IFERROR(VLOOKUP(C540,PivotESA!A:C,3,FALSE),\" \")","v":" "},0,{"$f":"IFERROR(VLOOKUP(C540,PivotGHRF!A:B,2,FALSE),\" \")","v":" "},"Not in TDSSA",0,{"$f":"IFERROR(VLOOKUP(C540,PivotGH!A:C,3,FALSE),\" \")","v":" "},0,{"$f":"IFERROR(VLOOKUP(C540,PivotGHRF!A:B,2,FALSE),\" \")","v":" "},"Not in TDSSA",0,{"$f":"IFERROR(VLOOKUP(C540,PivotGHRF!A:C,3,FALSE),\" \")","v":" "},0]
["Mixed Martial Arts","UFC Flyweight","Mixed Martial Arts - UFC Flyweight",{"$f":"IFERROR(VLOOKUP(C541,PivotGHRF!A:B,2,FALSE),\" \")","v":" "},"Not in TDSSA",0,{"$f":"IFERROR(VLOOKUP(C541,PivotESA!A:C,3,FALSE),\" \")","v":" "},0,{"$f":"IFERROR(VLOOKUP(C541,PivotGHRF!A:B,2,FALSE),\" \")","v":" "},"Not in TDSSA",0,{"$f":"IFERROR(VLOOKUP(C541,PivotGH!A:C,3,FALSE),\" \")","v":" "},0,{"$f":"IFERROR(VLOOKUP(C541,PivotGHRF!A:B,2,FALSE),\" \")","v":" "},"Not in TDSSA",0,{"$f":"IFERROR(VLOOKUP(C541,PivotGHRF!A:C,3,FALSE),\" \")","v":" "},0]
["Mixed Martial Arts","UFC Heavyweight","Mixed Martial Arts - UFC Heavyweight",{"$f":"IFERROR(VLOOKUP(C542,PivotGHRF!A:B,2,FALSE),\" \")","v":" "},"Not in TDSSA",0,{"$f":"IFERROR(VLOOKUP(C542,PivotESA!A:C,3,FALSE),\" \")","v":" "},0,{"$f":"IFERROR(VLOOKUP(C542,PivotGHRF!A:B,2,FALSE),\" \")","v":" "},"Not in TDSSA",0,{"$f":"IFERROR(VLOOKUP(C542,PivotGH!A:C,3,FALSE),\" \")","v":" "},0,{"$f":"IFERROR(VLOOKUP(C542,PivotGHRF!A:B,2,FALSE),\" \")","v":" "},"Not in TDSSA",0,{"$f":"IFERROR(VLOOKUP(C542,PivotGHRF!A:C,3,FALSE),\" \")","v":" "},0]
["Mixed Martial Arts","UFC Light Heavyweight","Mixed Martial Arts - UFC Light Heavyweight",{"$f":"IFERROR(VLOOKUP(C543,PivotGHRF!A:B,2,FALSE),\" \")","v":" "},"Not in TDSSA",0,{"$f":"IFERROR(VLOOKUP(C543,PivotESA!A:C,3,FALSE),\" \")","v":" "},0,{"$f":"IFERROR(VLOOKUP(C543,PivotGHRF!A:B,2,FALSE),\" \")","v":" "},"Not in TDSSA",0,{"$f":"IFERROR(VLOOKUP(C543,PivotGH!A:C,3,FALSE),\" \")","v":" "},0,{"$f":"IFERROR(VLOOKUP(C543,PivotGHRF!A:B,2,FALSE),\" \")","v":" "},"Not in TDSSA",0,{"$f":"IFERROR(VLOOKUP(C543,PivotGHRF!A:C,3,FALSE),\" \")","v":" "},0]
["Mixed Martial Arts","UFC Lightweight","Mixed Martial Arts - UFC Lightweight",{"$f":"IFERROR(VLOOKUP(C544,PivotGHRF!A:B,2,FALSE),\" \")","v":" "},"Not in TDSSA",0,{"$f":"IFERROR(VLOOKUP(C544,PivotESA!A:C,3,FALSE),\" \")","v":" "},0,{"$f":"IFERROR(VLOOKUP(C544,PivotGHRF!A:B,2,FALSE),\" \")","v":" "},"Not in TDSSA",0,{"$f":"IFERROR(VLOOKUP(C544,PivotGH!A:C,3,FALSE),\" \")","v":" "},0,{"$f":"IFERROR(VLOOKUP(C544,PivotGHRF!A:B,2,FALSE),\" \")","v":" "},"Not in TDSSA",0,{"$f":"IFERROR(VLOOKUP(C544,PivotGHRF!A:C,3,FALSE),\" \")","v":" "},0]
["Mixed Martial Arts","UFC Middleweight","Mixed Martial Arts - UFC Middleweight",{"$f":"IFERROR(VLOOKUP(C545,PivotGHRF!A:B,2,FALSE),\" \")","v":" "},"Not in TDSSA",0,{"$f":"IFERROR(VLOOKUP(C545,PivotESA!A:C,3,FALSE),\" \")","v":" "},0,{"$f":"IFERROR(VLOOKUP(C545,PivotGHRF!A:B,2,FALSE),\" \")","v":" "},"Not in TDSSA",0,{"$f":"IFERROR(VLOOKUP(C545,PivotGH!A:C,3,FALSE),\" \")","v":" "},0,{"$f":"IFERROR(VLOOKUP(C545,PivotGHRF!A:B,2,FALSE),\" \")","v":" "},"Not in TDSSA",0,{"$f":"IFERROR(VLOOKUP(C545,PivotGHRF!A:C,3,FALSE),\" \")","v":" "},0]
["Mixed Martial Arts","UFC Strawweight","Mixed Martial Arts - UFC Strawweight",{"$f":"IFERROR(VLOOKUP(C546,PivotGHRF!A:B,2,FALSE),\" \")","v":" "},"Not in TDSSA",0,{"$f":"IFERROR(VLOOKUP(C546,PivotESA!A:C,3,FALSE),\" \")","v":" "},0,{"$f":"IFERROR(VLOOKUP(C546,PivotGHRF!A:B,2,FALSE),\" \")","v":" "},"Not in TDSSA",0,{"$f":"IFERROR(VLOOKUP(C546,PivotGH!A:C,3,FALSE),\" \")","v":" "},0,{"$f":"IFERROR(VLOOKUP(C546,PivotGHRF!A:B,2,FALSE),\" \")","v":" "},"Not in TDSSA",0,{"$f":"IFERROR(VLOOKUP(C546,PivotGHRF!A:C,3,FALSE),\" \")","v":" "},0]
["Mixed Martial Arts","UFC Welterweight","Mixed Martial Arts - UFC Welterweight",{"$f":"IFERROR(VLOOKUP(C547,PivotGHRF!A:B,2,FALSE),\" \")","v":" "},"Not in TDSSA",0,{"$f":"IFERROR(VLOOKUP(C547,PivotESA!A:C,3,FALSE),\" \")","v":" "},0,{"$f":"IFERROR(VLOOKUP(C547,PivotGHRF!A:B,2,FALSE),\" \")","v":" "},"Not in TDSSA",0,{"$f":"IFERROR(VLOOKUP(C547,PivotGH!A:C,3,FALSE),\" \")","v":" "},0,{"$f":"IFERROR(VLOOKUP(C547,PivotGHRF!A:B,2,FALSE),\" \")","v":" "},"Not in TDSSA",0,{"$f":"IFERROR(VLOOKUP(C547,PivotGHRF!A:C,3,FALSE),\" \")","v":" "},0]
["Modern Pentathlon","Beach Modern Pentathlon","Modern Pentathlon - Beach Modern Pentathlon",{"$f":"IFERROR(VLOOKUP(C548,PivotGHRF!A:B,2,FALSE),\" \")","v":" "},"Not in TDSSA",0,{"$f":"IFERROR(VLOOKUP(C548,PivotESA!A:C,3,FALSE),\" \")","v":" "},0,{"$f":"IFERROR(VLOOKUP(C548,PivotGHRF!A:B,2,FALSE),\" \")","v":" "},"Not in TDSSA",0,{"$f":"IFERROR(VLOOKUP(C548,PivotGH!A:C,3,FALSE),\" \")","v":" "},0,{"$f":"IFERROR(VLOOKUP(C548,PivotGHRF!A:B,2,FALSE),\" \")","v":" "},"Not in TDSSA",0,{"$f":"IFERROR(VLOOKUP(C548,PivotGHRF!A:C,3,FALSE),\" \")","v":" "},0]
["Modern Pentathlon","Aeronautical Pentathlon","Modern Pentathlon - Aeronautical Pentathlon",{"$f":"IFERROR(VLOOKUP(C549,PivotGHRF!A:B,2,FALSE),\" \")","v":" "},"Not in TDSSA",0,{"$f":"IFERROR(VLOOKUP(C549,PivotESA!A:C,3,FALSE),\" \")","v":" "},0,{"$f":"IFERROR(VLOOKUP(C549,PivotGHRF!A:B,2,FALSE),\" \")","v":" "},"Not in TDSSA",0,{"$f":"IFERROR(VLOOKUP(C549,PivotGH!A:C,3,FALSE),\" \")","v":" "},0,{"$f":"IFERROR(VLOOKUP(C549,PivotGHRF!A:B,2,FALSE),\" \")","v":" "},"Not in TDSSA",0,{"$f":"IFERROR(VLOOKUP(C549,PivotGHRF!A:C,3,FALSE),\" \")","v":" "},0]
["Modern Pentathlon","Military Sport Pentathlon","Modern Pentathlon - Military Sport Pentathlon",{"$f":"IFERROR(VLOOKUP(C550,PivotGHRF!A:B,2,FALSE),\" \")","v":" "},"Not in TDSSA",0,{"$f":"IFERROR(VLOOKUP(C550,PivotESA!A:C,3,FALSE),\" \")","v":" "},0,{"$f":"IFERROR(VLOOKUP(C550,PivotGHRF!A:B,2,FALSE),\" \")","v":" "},"Not in TDSSA",0,{"$f":"IFERROR(VLOOKUP(C550,PivotGH!A:C,3,FALSE),\" \")","v":" "},0,{"$f":"IFERROR(VLOOKUP(C550,PivotGHRF!A:B,2,FALSE),\" \")","v":" "},"Not in TDSSA",0,{"$f":"IFERROR(VLOOKUP(C550,PivotGHRF!A:C,3,FALSE),\" \")","v":" "},0]
["Modern Pentathlon","Modern Pentathlon","Modern Pentathlon - Modern Pentathlon",{"$f":"IFERROR(VLOOKUP(C551,PivotGHRF!A:B,2,FALSE),\" \")","v":" "},0.05,0,{"$f":"IFERROR(VLOOKUP(C551,PivotESA!A:C,3,FALSE),\" \")","v":" "},0,{"$f":"IFERROR(VLOOKUP(C551,PivotGHRF!A:B,2,FALSE),\" \")","v":" "},0.05,0,{"$f":"IFERROR(VLOOKUP(C551,PivotGH!A:C,3,FALSE),\" \")","v":" "},0,{"$f":"IFERROR(VLOOKUP(C551,PivotGHRF!A:B,2,FALSE),\" \")","v":" "},0.05,0,{"$f":"IFERROR(VLOOKUP(C551,PivotGHRF!A:C,3,FALSE),\" \")","v":" "},0]
["Modern Pentathlon","Biathle","Modern Pentathlon - Biathle",{"$f":"IFERROR(VLOOKUP(C552,PivotGHRF!A:B,2,FALSE),\" \")","v":" "},"Not in TDSSA",0,{"$f":"IFERROR(VLOOKUP(C552,PivotESA!A:C,3,FALSE),\" \")","v":" "},0,{"$f":"IFERROR(VLOOKUP(C552,PivotGHRF!A:B,2,FALSE),\" \")","v":" "},"Not in TDSSA",0,{"$f":"IFERROR(VLOOKUP(C552,PivotGH!A:C,3,FALSE),\" \")","v":" "},0,{"$f":"IFERROR(VLOOKUP(C552,PivotGHRF!A:B,2,FALSE),\" \")","v":" "},"Not in TDSSA",0,{"$f":"IFERROR(VLOOKUP(C552,PivotGHRF!A:C,3,FALSE),\" \")","v":" "},0]
["Motoball","Motoball","Motoball - Motoball",{"$f":"IFERROR(VLOOKUP(C553,PivotGHRF!A:B,2,FALSE),\" \")","v":" "},"Not in TDSSA",0,{"$f":"IFERROR(VLOOKUP(C553,PivotESA!A:C,3,FALSE),\" \")","v":" "},0,{"$f":"IFERROR(VLOOKUP(C553,PivotGHRF!A:B,2,FALSE),\" \")","v":" "},"Not in TDSSA",0,{"$f":"IFERROR(VLOOKUP(C553,PivotGH!A:C,3,FALSE),\" \")","v":" "},0,{"$f":"IFERROR(VLOOKUP(C553,PivotGHRF!A:B,2,FALSE),\" \")","v":" "},"Not in TDSSA",0,{"$f":"IFERROR(VLOOKUP(C553,PivotGHRF!A:C,3,FALSE),\" \")","v":" "},0]
["Motorcycle Racing","All-Terrain","Motorcycle Racing - All-Terrain",{"$f":"IFERROR(VLOOKUP(C554,PivotGHRF!A:B,2,FALSE),\" \")","v":" "},0.05,0,{"$f":"IFERROR(VLOOKUP(C554,PivotESA!A:C,3,FALSE),\" \")","v":" "},0,{"$f":"IFERROR(VLOOKUP(C554,PivotGHRF!A:B,2,FALSE),\" \")","v":" "},0,0,{"$f":"IFERROR(VLOOKUP(C554,PivotGH!A:C,3,FALSE),\" \")","v":" "},0,{"$f":"IFERROR(VLOOKUP(C554,PivotGHRF!A:B,2,FALSE),\" \")","v":" "},0,0,{"$f":"IFERROR(VLOOKUP(C554,PivotGHRF!A:C,3,FALSE),\" \")","v":" "},0]
["Motorcycle Racing","Ice Racing","Motorcycle Racing - Ice Racing",{"$f":"IFERROR(VLOOKUP(C555,PivotGHRF!A:B,2,FALSE),\" \")","v":" "},0.05,0,{"$f":"IFERROR(VLOOKUP(C555,PivotESA!A:C,3,FALSE),\" \")","v":" "},0,{"$f":"IFERROR(VLOOKUP(C555,PivotGHRF!A:B,2,FALSE),\" \")","v":" "},0,0,{"$f":"IFERROR(VLOOKUP(C555,PivotGH!A:C,3,FALSE),\" \")","v":" "},0,{"$f":"IFERROR(VLOOKUP(C555,PivotGHRF!A:B,2,FALSE),\" \")","v":" "},0,0,{"$f":"IFERROR(VLOOKUP(C555,PivotGHRF!A:C,3,FALSE),\" \")","v":" "},0]
["Motorcycle Racing","Cross-Country Rallies","Motorcycle Racing - Cross-Country Rallies",{"$f":"IFERROR(VLOOKUP(C556,PivotGHRF!A:B,2,FALSE),\" \")","v":" "},0.05,0,{"$f":"IFERROR(VLOOKUP(C556,PivotESA!A:C,3,FALSE),\" \")","v":" "},0,{"$f":"IFERROR(VLOOKUP(C556,PivotGHRF!A:B,2,FALSE),\" \")","v":" "},0,0,{"$f":"IFERROR(VLOOKUP(C556,PivotGH!A:C,3,FALSE),\" \")","v":" "},0,{"$f":"IFERROR(VLOOKUP(C556,PivotGHRF!A:B,2,FALSE),\" \")","v":" "},0,0,{"$f":"IFERROR(VLOOKUP(C556,PivotGHRF!A:C,3,FALSE),\" \")","v":" "},0]
["Motorcycle Racing","Motorcycle Racing","Motorcycle Racing - Motorcycle Racing",{"$f":"IFERROR(VLOOKUP(C557,PivotGHRF!A:B,2,FALSE),\" \")","v":" "},0.05,0,{"$f":"IFERROR(VLOOKUP(C557,PivotESA!A:C,3,FALSE),\" \")","v":" "},0,{"$f":"IFERROR(VLOOKUP(C557,PivotGHRF!A:B,2,FALSE),\" \")","v":" "},0,0,{"$f":"IFERROR(VLOOKUP(C557,PivotGH!A:C,3,FALSE),\" \")","v":" "},0,{"$f":"IFERROR(VLOOKUP(C557,PivotGHRF!A:B,2,FALSE),\" \")","v":" "},0,0,{"$f":"IFERROR(VLOOKUP(C557,PivotGHRF!A:C,3,FALSE),\" \")","v":" "},0]
["Motorcycle Racing","Enduro","Motorcycle Racing - Enduro",{"$f":"IFERROR(VLOOKUP(C558,PivotGHRF!A:B,2,FALSE),\" \")","v":" "},0.05,0,{"$f":"IFERROR(VLOOKUP(C558,PivotESA!A:C,3,FALSE),\" \")","v":" "},0,{"$f":"IFERROR(VLOOKUP(C558,PivotGHRF!A:B,2,FALSE),\" \")","v":" "},0,0,{"$f":"IFERROR(VLOOKUP(C558,PivotGH!A:C,3,FALSE),\" \")","v":" "},0,{"$f":"IFERROR(VLOOKUP(C558,PivotGHRF!A:B,2,FALSE),\" \")","v":" "},0,0,{"$f":"IFERROR(VLOOKUP(C558,PivotGHRF!A:C,3,FALSE),\" \")","v":" "},0]
["Motorcycle Racing","Motocross","Motorcycle Racing - Motocross",{"$f":"IFERROR(VLOOKUP(C559,PivotGHRF!A:B,2,FALSE),\" \")","v":" "},0.05,0,{"$f":"IFERROR(VLOOKUP(C559,PivotESA!A:C,3,FALSE),\" \")","v":" "},0,{"$f":"IFERROR(VLOOKUP(C559,PivotGHRF!A:B,2,FALSE),\" \")","v":" "},0,0,{"$f":"IFERROR(VLOOKUP(C559,PivotGH!A:C,3,FALSE),\" \")","v":" "},0,{"$f":"IFERROR(VLOOKUP(C559,PivotGHRF!A:B,2,FALSE),\" \")","v":" "},0,0,{"$f":"IFERROR(VLOOKUP(C559,PivotGHRF!A:C,3,FALSE),\" \")","v":" "},0]
["Motorcycle Racing","Motocross FreeStyle","Motorcycle Racing - Motocross FreeStyle",{"$f":"IFERROR(VLOOKUP(C560,PivotGHRF!A:B,2,FALSE),\" \")","v":" "},0.05,0,{"$f":"IFERROR(VLOOKUP(C560,PivotESA!A:C,3,FALSE),\" \")","v":" "},0,{"$f":"IFERROR(VLOOKUP(C560,PivotGHRF!A:B,2,FALSE),\" \")","v":" "},0,0,{"$f":"IFERROR(VLOOKUP(C560,PivotGH!A:C,3,FALSE),\" \")","v":" "},0,{"$f":"IFERROR(VLOOKUP(C560,PivotGHRF!A:B,2,FALSE),\" \")","v":" "},0,0,{"$f":"IFERROR(VLOOKUP(C560,PivotGHRF!A:C,3,FALSE),\" \")","v":" "},0]
["Motorcycle Racing","Road Racing","Motorcycle Racing - Road Racing",{"$f":"IFERROR(VLOOKUP(C561,PivotGHRF!A:B,2,FALSE),\" \")","v":" "},0.05,0,{"$f":"IFERROR(VLOOKUP(C561,PivotESA!A:C,3,FALSE),\" \")","v":" "},0,{"$f":"IFERROR(VLOOKUP(C561,PivotGHRF!A:B,2,FALSE),\" \")","v":" "},0,0,{"$f":"IFERROR(VLOOKUP(C561,PivotGH!A:C,3,FALSE),\" \")","v":" "},0,{"$f":"IFERROR(VLOOKUP(C561,PivotGHRF!A:B,2,FALSE),\" \")","v":" "},0,0,{"$f":"IFERROR(VLOOKUP(C561,PivotGHRF!A:C,3,FALSE),\" \")","v":" "},0]
["Motorcycle Racing","Road Racing Endurance","Motorcycle Racing - Road Racing Endurance",{"$f":"IFERROR(VLOOKUP(C562,PivotGHRF!A:B,2,FALSE),\" \")","v":" "},0.05,0,{"$f":"IFERROR(VLOOKUP(C562,PivotESA!A:C,3,FALSE),\" \")","v":" "},0,{"$f":"IFERROR(VLOOKUP(C562,PivotGHRF!A:B,2,FALSE),\" \")","v":" "},0,0,{"$f":"IFERROR(VLOOKUP(C562,PivotGH!A:C,3,FALSE),\" \")","v":" "},0,{"$f":"IFERROR(VLOOKUP(C562,PivotGHRF!A:B,2,FALSE),\" \")","v":" "},0,0,{"$f":"IFERROR(VLOOKUP(C562,PivotGHRF!A:C,3,FALSE),\" \")","v":" "},0]
["Motorcycle Racing","Supercross","Motorcycle Racing - Supercross",{"$f":"IFERROR(VLOOKUP(C563,PivotGHRF!A:B,2,FALSE),\" \")","v":" "},0.05,0,{"$f":"IFERROR(VLOOKUP(C563,PivotESA!A:C,3,FALSE),\" \")","v":" "},0,{"$f":"IFERROR(VLOOKUP(C563,PivotGHRF!A:B,2,FALSE),\" \")","v":" "},0,0,{"$f":"IFERROR(VLOOKUP(C563,PivotGH!A:C,3,FALSE),\" \")","v":" "},0,{"$f":"IFERROR(VLOOKUP(C563,PivotGHRF!A:B,2,FALSE),\" \")","v":" "},0,0,{"$f":"IFERROR(VLOOKUP(C563,PivotGHRF!A:C,3,FALSE),\" \")","v":" "},0]
["Motorcycle Racing","SnowCross","Motorcycle Racing - SnowCross",{"$f":"IFERROR(VLOOKUP(C564,PivotGHRF!A:B,2,FALSE),\" \")","v":" "},0.05,0,{"$f":"IFERROR(VLOOKUP(C564,PivotESA!A:C,3,FALSE),\" \")","v":" "},0,{"$f":"IFERROR(VLOOKUP(C564,PivotGHRF!A:B,2,FALSE),\" \")","v":" "},0,0,{"$f":"IFERROR(VLOOKUP(C564,PivotGH!A:C,3,FALSE),\" \")","v":" "},0,{"$f":"IFERROR(VLOOKUP(C564,PivotGHRF!A:B,2,FALSE),\" \")","v":" "},0,0,{"$f":"IFERROR(VLOOKUP(C564,PivotGHRF!A:C,3,FALSE),\" \")","v":" "},0]
["Motorcycle Racing","SuperEnduro","Motorcycle Racing - SuperEnduro",{"$f":"IFERROR(VLOOKUP(C565,PivotGHRF!A:B,2,FALSE),\" \")","v":" "},0.05,0,{"$f":"IFERROR(VLOOKUP(C565,PivotESA!A:C,3,FALSE),\" \")","v":" "},0,{"$f":"IFERROR(VLOOKUP(C565,PivotGHRF!A:B,2,FALSE),\" \")","v":" "},0,0,{"$f":"IFERROR(VLOOKUP(C565,PivotGH!A:C,3,FALSE),\" \")","v":" "},0,{"$f":"IFERROR(VLOOKUP(C565,PivotGHRF!A:B,2,FALSE),\" \")","v":" "},0,0,{"$f":"IFERROR(VLOOKUP(C565,PivotGHRF!A:C,3,FALSE),\" \")","v":" "},0]
["Motorcycle Racing","Trial","Motorcycle Racing - Trial",{"$f":"IFERROR(VLOOKUP(C566,PivotGHRF!A:B,2,FALSE),\" \")","v":" "},0.05,0,{"$f":"IFERROR(VLOOKUP(C566,PivotESA!A:C,3,FALSE),\" \")","v":" "},0,{"$f":"IFERROR(VLOOKUP(C566,PivotGHRF!A:B,2,FALSE),\" \")","v":" "},0,0,{"$f":"IFERROR(VLOOKUP(C566,PivotGH!A:C,3,FALSE),\" \")","v":" "},0,{"$f":"IFERROR(VLOOKUP(C566,PivotGHRF!A:B,2,FALSE),\" \")","v":" "},0,0,{"$f":"IFERROR(VLOOKUP(C566,PivotGHRF!A:C,3,FALSE),\" \")","v":" "},0]
["Motorcycle Racing","Track Racing","Motorcycle Racing - Track Racing",{"$f":"IFERROR(VLOOKUP(C567,PivotGHRF!A:B,2,FALSE),\" \")","v":" "},0.05,0,{"$f":"IFERROR(VLOOKUP(C567,PivotESA!A:C,3,FALSE),\" \")","v":" "},0,{"$f":"IFERROR(VLOOKUP(C567,PivotGHRF!A:B,2,FALSE),\" \")","v":" "},0,0,{"$f":"IFERROR(VLOOKUP(C567,PivotGH!A:C,3,FALSE),\" \")","v":" "},0,{"$f":"IFERROR(VLOOKUP(C567,PivotGHRF!A:B,2,FALSE),\" \")","v":" "},0,0,{"$f":"IFERROR(VLOOKUP(C567,PivotGHRF!A:C,3,FALSE),\" \")","v":" "},0]
["Motorcycle Racing","Quad","Motorcycle Racing - Quad",{"$f":"IFERROR(VLOOKUP(C568,PivotGHRF!A:B,2,FALSE),\" \")","v":" "},0.05,0,{"$f":"IFERROR(VLOOKUP(C568,PivotESA!A:C,3,FALSE),\" \")","v":" "},0,{"$f":"IFERROR(VLOOKUP(C568,PivotGHRF!A:B,2,FALSE),\" \")","v":" "},0,0,{"$f":"IFERROR(VLOOKUP(C568,PivotGH!A:C,3,FALSE),\" \")","v":" "},0,{"$f":"IFERROR(VLOOKUP(C568,PivotGHRF!A:B,2,FALSE),\" \")","v":" "},0,0,{"$f":"IFERROR(VLOOKUP(C568,PivotGHRF!A:C,3,FALSE),\" \")","v":" "},0]
["Motorcycle Racing","Supermoto","Motorcycle Racing - Supermoto",{"$f":"IFERROR(VLOOKUP(C569,PivotGHRF!A:B,2,FALSE),\" \")","v":" "},0.05,0,{"$f":"IFERROR(VLOOKUP(C569,PivotESA!A:C,3,FALSE),\" \")","v":" "},0,{"$f":"IFERROR(VLOOKUP(C569,PivotGHRF!A:B,2,FALSE),\" \")","v":" "},0,0,{"$f":"IFERROR(VLOOKUP(C569,PivotGH!A:C,3,FALSE),\" \")","v":" "},0,{"$f":"IFERROR(VLOOKUP(C569,PivotGHRF!A:B,2,FALSE),\" \")","v":" "},0,0,{"$f":"IFERROR(VLOOKUP(C569,PivotGHRF!A:C,3,FALSE),\" \")","v":" "},0]
["Motorcycle Racing","Speedway","Motorcycle Racing - Speedway",{"$f":"IFERROR(VLOOKUP(C570,PivotGHRF!A:B,2,FALSE),\" \")","v":" "},0.05,0,{"$f":"IFERROR(VLOOKUP(C570,PivotESA!A:C,3,FALSE),\" \")","v":" "},0,{"$f":"IFERROR(VLOOKUP(C570,PivotGHRF!A:B,2,FALSE),\" \")","v":" "},0,0,{"$f":"IFERROR(VLOOKUP(C570,PivotGH!A:C,3,FALSE),\" \")","v":" "},0,{"$f":"IFERROR(VLOOKUP(C570,PivotGHRF!A:B,2,FALSE),\" \")","v":" "},0,0,{"$f":"IFERROR(VLOOKUP(C570,PivotGHRF!A:C,3,FALSE),\" \")","v":" "},0]
["Motorcycle Racing","Stunt Riding","Motorcycle Racing - Stunt Riding",{"$f":"IFERROR(VLOOKUP(C571,PivotGHRF!A:B,2,FALSE),\" \")","v":" "},0.05,0,{"$f":"IFERROR(VLOOKUP(C571,PivotESA!A:C,3,FALSE),\" \")","v":" "},0,{"$f":"IFERROR(VLOOKUP(C571,PivotGHRF!A:B,2,FALSE),\" \")","v":" "},0,0,{"$f":"IFERROR(VLOOKUP(C571,PivotGH!A:C,3,FALSE),\" \")","v":" "},0,{"$f":"IFERROR(VLOOKUP(C571,PivotGHRF!A:B,2,FALSE),\" \")","v":" "},0,0,{"$f":"IFERROR(VLOOKUP(C571,PivotGHRF!A:C,3,FALSE),\" \")","v":" "},0]
["Motorcycle Racing","UCV/Buggy","Motorcycle Racing - UCV/Buggy",{"$f":"IFERROR(VLOOKUP(C572,PivotGHRF!A:B,2,FALSE),\" \")","v":" "},0.05,0,{"$f":"IFERROR(VLOOKUP(C572,PivotESA!A:C,3,FALSE),\" \")","v":" "},0,{"$f":"IFERROR(VLOOKUP(C572,PivotGHRF!A:B,2,FALSE),\" \")","v":" "},0,0,{"$f":"IFERROR(VLOOKUP(C572,PivotGH!A:C,3,FALSE),\" \")","v":" "},0,{"$f":"IFERROR(VLOOKUP(C572,PivotGHRF!A:B,2,FALSE),\" \")","v":" "},0,0,{"$f":"IFERROR(VLOOKUP(C572,PivotGHRF!A:C,3,FALSE),\" \")","v":" "},0]
["Mountaineering and Climbing","Climbing","Mountaineering and Climbing - Climbing",{"$f":"IFERROR(VLOOKUP(C573,PivotGHRF!A:B,2,FALSE),\" \")","v":" "},0.1,0,{"$f":"IFERROR(VLOOKUP(C573,PivotESA!A:C,3,FALSE),\" \")","v":" "},0,{"$f":"IFERROR(VLOOKUP(C573,PivotGHRF!A:B,2,FALSE),\" \")","v":" "},0.05,0,{"$f":"IFERROR(VLOOKUP(C573,PivotGH!A:C,3,FALSE),\" \")","v":" "},0,{"$f":"IFERROR(VLOOKUP(C573,PivotGHRF!A:B,2,FALSE),\" \")","v":" "},0.05,0,{"$f":"IFERROR(VLOOKUP(C573,PivotGHRF!A:C,3,FALSE),\" \")","v":" "},0]
["Mountaineering and Climbing","Skyrunning","Mountaineering and Climbing - Skyrunning",{"$f":"IFERROR(VLOOKUP(C574,PivotGHRF!A:B,2,FALSE),\" \")","v":" "},0.1,0,{"$f":"IFERROR(VLOOKUP(C574,PivotESA!A:C,3,FALSE),\" \")","v":" "},0,{"$f":"IFERROR(VLOOKUP(C574,PivotGHRF!A:B,2,FALSE),\" \")","v":" "},0.05,0,{"$f":"IFERROR(VLOOKUP(C574,PivotGH!A:C,3,FALSE),\" \")","v":" "},0,{"$f":"IFERROR(VLOOKUP(C574,PivotGHRF!A:B,2,FALSE),\" \")","v":" "},0.05,0,{"$f":"IFERROR(VLOOKUP(C574,PivotGHRF!A:C,3,FALSE),\" \")","v":" "},0]
["Mountaineering and Climbing","Ice Climbing","Mountaineering and Climbing - Ice Climbing",{"$f":"IFERROR(VLOOKUP(C575,PivotGHRF!A:B,2,FALSE),\" \")","v":" "},0.1,0,{"$f":"IFERROR(VLOOKUP(C575,PivotESA!A:C,3,FALSE),\" \")","v":" "},0,{"$f":"IFERROR(VLOOKUP(C575,PivotGHRF!A:B,2,FALSE),\" \")","v":" "},0.05,0,{"$f":"IFERROR(VLOOKUP(C575,PivotGH!A:C,3,FALSE),\" \")","v":" "},0,{"$f":"IFERROR(VLOOKUP(C575,PivotGHRF!A:B,2,FALSE),\" \")","v":" "},0.05,0,{"$f":"IFERROR(VLOOKUP(C575,PivotGHRF!A:C,3,FALSE),\" \")","v":" "},0]
["Mountaineering and Climbing","Mountaineering and Climbing","Mountaineering and Climbing - Mountaineering and Climbing",{"$f":"IFERROR(VLOOKUP(C576,PivotGHRF!A:B,2,FALSE),\" \")","v":" "},0.1,0,{"$f":"IFERROR(VLOOKUP(C576,PivotESA!A:C,3,FALSE),\" \")","v":" "},0,{"$f":"IFERROR(VLOOKUP(C576,PivotGHRF!A:B,2,FALSE),\" \")","v":" "},0.05,0,{"$f":"IFERROR(VLOOKUP(C576,PivotGH!A:C,3,FALSE),\" \")","v":" "},0,{"$f":"IFERROR(VLOOKUP(C576,PivotGHRF!A:B,2,FALSE),\" \")","v":" "},0.05,0,{"$f":"IFERROR(VLOOKUP(C576,PivotGHRF!A:C,3,FALSE),\" \")","v":" "},0]
["Mountaineering and Climbing","Mountain Running (R)","Mountaineering and Climbing - Mountain Running (R)",{"$f":"IFERROR(VLOOKUP(C577,PivotGHRF!A:B,2,FALSE),\" \")","v":" "},0.1,0,{"$f":"IFERROR(VLOOKUP(C577,PivotESA!A:C,3,FALSE),\" \")","v":" "},0,{"$f":"IFERROR(VLOOKUP(C577,PivotGHRF!A:B,2,FALSE),\" \")","v":" "},0.05,0,{"$f":"IFERROR(VLOOKUP(C577,PivotGH!A:C,3,FALSE),\" \")","v":" "},0,{"$f":"IFERROR(VLOOKUP(C577,PivotGHRF!A:B,2,FALSE),\" \")","v":" "},0.05,0,{"$f":"IFERROR(VLOOKUP(C577,PivotGHRF!A:C,3,FALSE),\" \")","v":" "},0]
["Mountaineering and Climbing","Ski Mountaineering","Mountaineering and Climbing - Ski Mountaineering",{"$f":"IFERROR(VLOOKUP(C578,PivotGHRF!A:B,2,FALSE),\" \")","v":" "},0.1,0,{"$f":"IFERROR(VLOOKUP(C578,PivotESA!A:C,3,FALSE),\" \")","v":" "},0,{"$f":"IFERROR(VLOOKUP(C578,PivotGHRF!A:B,2,FALSE),\" \")","v":" "},0.05,0,{"$f":"IFERROR(VLOOKUP(C578,PivotGH!A:C,3,FALSE),\" \")","v":" "},0,{"$f":"IFERROR(VLOOKUP(C578,PivotGHRF!A:B,2,FALSE),\" \")","v":" "},0.05,0,{"$f":"IFERROR(VLOOKUP(C578,PivotGHRF!A:C,3,FALSE),\" \")","v":" "},0]
["Muaythai","Muaythai","Muaythai - Muaythai",{"$f":"IFERROR(VLOOKUP(C579,PivotGHRF!A:B,2,FALSE),\" \")","v":" "},0.15,0,{"$f":"IFERROR(VLOOKUP(C579,PivotESA!A:C,3,FALSE),\" \")","v":" "},0,{"$f":"IFERROR(VLOOKUP(C579,PivotGHRF!A:B,2,FALSE),\" \")","v":" "},0.1,0,{"$f":"IFERROR(VLOOKUP(C579,PivotGH!A:C,3,FALSE),\" \")","v":" "},0,{"$f":"IFERROR(VLOOKUP(C579,PivotGHRF!A:B,2,FALSE),\" \")","v":" "},0.1,0,{"$f":"IFERROR(VLOOKUP(C579,PivotGHRF!A:C,3,FALSE),\" \")","v":" "},0]
["Multifunctional Training","Multifunctional Training","Multifunctional Training - Multifunctional Training",{"$f":"IFERROR(VLOOKUP(C580,PivotGHRF!A:B,2,FALSE),\" \")","v":" "},"Not in TDSSA",0,{"$f":"IFERROR(VLOOKUP(C580,PivotESA!A:C,3,FALSE),\" \")","v":" "},0,{"$f":"IFERROR(VLOOKUP(C580,PivotGHRF!A:B,2,FALSE),\" \")","v":" "},"Not in TDSSA",0,{"$f":"IFERROR(VLOOKUP(C580,PivotGH!A:C,3,FALSE),\" \")","v":" "},0,{"$f":"IFERROR(VLOOKUP(C580,PivotGHRF!A:B,2,FALSE),\" \")","v":" "},"Not in TDSSA",0,{"$f":"IFERROR(VLOOKUP(C580,PivotGHRF!A:C,3,FALSE),\" \")","v":" "},0]
["Naginata","Naginata","Naginata - Naginata",{"$f":"IFERROR(VLOOKUP(C581,PivotGHRF!A:B,2,FALSE),\" \")","v":" "},"Not in TDSSA",0,{"$f":"IFERROR(VLOOKUP(C581,PivotESA!A:C,3,FALSE),\" \")","v":" "},0,{"$f":"IFERROR(VLOOKUP(C581,PivotGHRF!A:B,2,FALSE),\" \")","v":" "},"Not in TDSSA",0,{"$f":"IFERROR(VLOOKUP(C581,PivotGH!A:C,3,FALSE),\" \")","v":" "},0,{"$f":"IFERROR(VLOOKUP(C581,PivotGHRF!A:B,2,FALSE),\" \")","v":" "},"Not in TDSSA",0,{"$f":"IFERROR(VLOOKUP(C581,PivotGHRF!A:C,3,FALSE),\" \")","v":" "},0]
["Netball","Netball","Netball - Netball",{"$f":"IFERROR(VLOOKUP(C582,PivotGHRF!A:B,2,FALSE),\" \")","v":" "},0.1,0,{"$f":"IFERROR(VLOOKUP(C582,PivotESA!A:C,3,FALSE),\" \")","v":" "},0,{"$f":"IFERROR(VLOOKUP(C582,PivotGHRF!A:B,2,FALSE),\" \")","v":" "},0.05,0,{"$f":"IFERROR(VLOOKUP(C582,PivotGH!A:C,3,FALSE),\" \")","v":" "},0,{"$f":"IFERROR(VLOOKUP(C582,PivotGHRF!A:B,2,FALSE),\" \")","v":" "},0.05,0,{"$f":"IFERROR(VLOOKUP(C582,PivotGHRF!A:C,3,FALSE),\" \")","v":" "},0]
["Netball","Fast5","Netball - Fast5",{"$f":"IFERROR(VLOOKUP(C583,PivotGHRF!A:B,2,FALSE),\" \")","v":" "},"Not in TDSSA",0,{"$f":"IFERROR(VLOOKUP(C583,PivotESA!A:C,3,FALSE),\" \")","v":" "},{"$f":"IFERROR(F583-G583,0)","v":0},{"$f":"IFERROR(VLOOKUP(C583,PivotGHRF!A:B,2,FALSE),\" \")","v":" "},"Not in TDSSA",0,{"$f":"IFERROR(VLOOKUP(C583,PivotGH!A:C,3,FALSE),\" \")","v":" "},{"$f":"IFERROR(K583-L583,0)","v":0},{"$f":"IFERROR(VLOOKUP(C583,PivotGHRF!A:B,2,FALSE),\" \")","v":" "},"Not in TDSSA",0,{"$f":"IFERROR(VLOOKUP(C583,PivotGHRF!A:C,3,FALSE),\" \")","v":" "},{"$f":"IFERROR(P583-Q583,0)","v":0}]
["Netball","FastNet","Netball - FastNet",{"$f":"IFERROR(VLOOKUP(C584,PivotGHRF!A:B,2,FALSE),\" \")","v":" "},"Not in TDSSA",{"$f":"IFERROR(ROUNDUP(E584*D584,0),0)","v":0},{"$f":"IFERROR(VLOOKUP(C584,PivotESA!A:C,3,FALSE),\" \")","v":" "},0,{"$f":"IFERROR(VLOOKUP(C584,PivotGHRF!A:B,2,FALSE),\" \")","v":" "},"Not in TDSSA",{"$f":"IFERROR(ROUNDUP(J584*I584,0),0)","v":0},{"$f":"IFERROR(VLOOKUP(C584,PivotGH!A:C,3,FALSE),\" \")","v":" "},0,{"$f":"IFERROR(VLOOKUP(C584,PivotGHRF!A:B,2,FALSE),\" \")","v":" "},"Not in TDSSA",{"$f":"IFERROR(ROUNDUP(O584*N584,0),0)","v":0},{"$f":"IFERROR(VLOOKUP(C584,PivotGHRF!A:C,3,FALSE),\" \")","v":" "},0]
["Orienteering","CISS Orienteering","Orienteering - CISS Orienteering",{"$f":"IFERROR(VLOOKUP(C585,PivotGHRF!A:B,2,FALSE),\" \")","v":" "},"Not in TDSSA",0,{"$f":"IFERROR(VLOOKUP(C585,PivotESA!A:C,3,FALSE),\" \")","v":" "},0,{"$f":"IFERROR(VLOOKUP(C585,PivotGHRF!A:B,2,FALSE),\" \")","v":" "},"Not in TDSSA",0,{"$f":"IFERROR(VLOOKUP(C585,PivotGH!A:C,3,FALSE),\" \")","v":" "},0,{"$f":"IFERROR(VLOOKUP(C585,PivotGHRF!A:B,2,FALSE),\" \")","v":" "},"Not in TDSSA",0,{"$f":"IFERROR(VLOOKUP(C585,PivotGHRF!A:C,3,FALSE),\" \")","v":" "},0]
["Orienteering","Foot Orienteering","Orienteering - Foot Orienteering",{"$f":"IFERROR(VLOOKUP(C586,PivotGHRF!A:B,2,FALSE),\" \")","v":" "},0.15,0,{"$f":"IFERROR(VLOOKUP(C586,PivotESA!A:C,3,FALSE),\" \")","v":" "},0,{"$f":"IFERROR(VLOOKUP(C586,PivotGHRF!A:B,2,FALSE),\" \")","v":" "},0.05,0,{"$f":"IFERROR(VLOOKUP(C586,PivotGH!A:C,3,FALSE),\" \")","v":" "},0,{"$f":"IFERROR(VLOOKUP(C586,PivotGHRF!A:B,2,FALSE),\" \")","v":" "},0.05,0,{"$f":"IFERROR(VLOOKUP(C586,PivotGHRF!A:C,3,FALSE),\" \")","v":" "},0]
["Orienteering","Mountain Bike Orienteering","Orienteering - Mountain Bike Orienteering",{"$f":"IFERROR(VLOOKUP(C587,PivotGHRF!A:B,2,FALSE),\" \")","v":" "},0.15,0,{"$f":"IFERROR(VLOOKUP(C587,PivotESA!A:C,3,FALSE),\" \")","v":" "},0,{"$f":"IFERROR(VLOOKUP(C587,PivotGHRF!A:B,2,FALSE),\" \")","v":" "},0.05,0,{"$f":"IFERROR(VLOOKUP(C587,PivotGH!A:C,3,FALSE),\" \")","v":" "},0,{"$f":"IFERROR(VLOOKUP(C587,PivotGHRF!A:B,2,FALSE),\" \")","v":" "},0.05,0,{"$f":"IFERROR(VLOOKUP(C587,PivotGHRF!A:C,3,FALSE),\" \")","v":" "},0]
["Orienteering","Military Orienteering","Orienteering - Military Orienteering",{"$f":"IFERROR(VLOOKUP(C588,PivotGHRF!A:B,2,FALSE),\" \")","v":" "},"Not in TDSSA",0,{"$f":"IFERROR(VLOOKUP(C588,PivotESA!A:C,3,FALSE),\" \")","v":" "},0,{"$f":"IFERROR(VLOOKUP(C588,PivotGHRF!A:B,2,FALSE),\" \")","v":" "},"Not in TDSSA",0,{"$f":"IFERROR(VLOOKUP(C588,PivotGH!A:C,3,FALSE),\" \")","v":" "},0,{"$f":"IFERROR(VLOOKUP(C588,PivotGHRF!A:B,2,FALSE),\" \")","v":" "},"Not in TDSSA",0,{"$f":"IFERROR(VLOOKUP(C588,PivotGHRF!A:C,3,FALSE),\" \")","v":" "},0]
["Orienteering","Military Ski Orienteering","Orienteering - Military Ski Orienteering",{"$f":"IFERROR(VLOOKUP(C589,PivotGHRF!A:B,2,FALSE),\" \")","v":" "},"Not in TDSSA",0,{"$f":"IFERROR(VLOOKUP(C589,PivotESA!A:C,3,FALSE),\" \")","v":" "},0,{"$f":"IFERROR(VLOOKUP(C589,PivotGHRF!A:B,2,FALSE),\" \")","v":" "},"Not in TDSSA",0,{"$f":"IFERROR(VLOOKUP(C589,PivotGH!A:C,3,FALSE),\" \")","v":" "},0,{"$f":"IFERROR(VLOOKUP(C589,PivotGHRF!A:B,2,FALSE),\" \")","v":" "},"Not in TDSSA",0,{"$f":"IFERROR(VLOOKUP(C589,PivotGHRF!A:C,3,FALSE),\" \")","v":" "},0]
["Orienteering","Orienteering","Orienteering - Orienteering",{"$f":"IFERROR(VLOOKUP(C590,PivotGHRF!A:B,2,FALSE),\" \")","v":" "},0.15,0,{"$f":"IFERROR(VLOOKUP(C590,PivotESA!A:C,3,FALSE),\" \")","v":" "},0,{"$f":"IFERROR(VLOOKUP(C590,PivotGHRF!A:B,2,FALSE),\" \")","v":" "},0.05,0,{"$f":"IFERROR(VLOOKUP(C590,PivotGH!A:C,3,FALSE),\" \")","v":" "},0,{"$f":"IFERROR(VLOOKUP(C590,PivotGHRF!A:B,2,FALSE),\" \")","v":" "},0.05,0,{"$f":"IFERROR(VLOOKUP(C590,PivotGHRF!A:C,3,FALSE),\" \")","v":" "},0]
["Orienteering","University","Orienteering - University",{"$f":"IFERROR(VLOOKUP(C591,PivotGHRF!A:B,2,FALSE),\" \")","v":" "},"Not in TDSSA",0,{"$f":"IFERROR(VLOOKUP(C591,PivotESA!A:C,3,FALSE),\" \")","v":" "},0,{"$f":"IFERROR(VLOOKUP(C591,PivotGHRF!A:B,2,FALSE),\" \")","v":" "},"Not in TDSSA",0,{"$f":"IFERROR(VLOOKUP(C591,PivotGH!A:C,3,FALSE),\" \")","v":" "},0,{"$f":"IFERROR(VLOOKUP(C591,PivotGHRF!A:B,2,FALSE),\" \")","v":" "},"Not in TDSSA",0,{"$f":"IFERROR(VLOOKUP(C591,PivotGHRF!A:C,3,FALSE),\" \")","v":" "},0]
["Orienteering","Ski Orienteering","Orienteering - Ski Orienteering",{"$f":"IFERROR(VLOOKUP(C592,PivotGHRF!A:B,2,FALSE),\" \")","v":" "},0.15,0,{"$f":"IFERROR(VLOOKUP(C592,PivotESA!A:C,3,FALSE),\" \")","v":" "},0,{"$f":"IFERROR(VLOOKUP(C592,PivotGHRF!A:B,2,FALSE),\" \")","v":" "},0.05,0,{"$f":"IFERROR(VLOOKUP(C592,PivotGH!A:C,3,FALSE),\" \")","v":" "},0,{"$f":"IFERROR(VLOOKUP(C592,PivotGHRF!A:B,2,FALSE),\" \")","v":" "},0.05,0,{"$f":"IFERROR(VLOOKUP(C592,PivotGHRF!A:C,3,FALSE),\" \")","v":" "},0]
["Orienteering","Trail Orienteering","Orienteering - Trail Orienteering",{"$f":"IFERROR(VLOOKUP(C593,PivotGHRF!A:B,2,FALSE),\" \")","v":" "},0.15,0,{"$f":"IFERROR(VLOOKUP(C593,PivotESA!A:C,3,FALSE),\" \")","v":" "},0,{"$f":"IFERROR(VLOOKUP(C593,PivotGHRF!A:B,2,FALSE),\" \")","v":" "},0.05,0,{"$f":"IFERROR(VLOOKUP(C593,PivotGH!A:C,3,FALSE),\" \")","v":" "},0,{"$f":"IFERROR(VLOOKUP(C593,PivotGHRF!A:B,2,FALSE),\" \")","v":" "},0.05,0,{"$f":"IFERROR(VLOOKUP(C593,PivotGHRF!A:C,3,FALSE),\" \")","v":" "},0]
["Padel","Padel","Padel - Padel",{"$f":"IFERROR(VLOOKUP(C594,PivotGHRF!A:B,2,FALSE),\" \")","v":" "},"Not in TDSSA",0,{"$f":"IFERROR(VLOOKUP(C594,PivotESA!A:C,3,FALSE),\" \")","v":" "},0,{"$f":"IFERROR(VLOOKUP(C594,PivotGHRF!A:B,2,FALSE),\" \")","v":" "},"Not in TDSSA",0,{"$f":"IFERROR(VLOOKUP(C594,PivotGH!A:C,3,FALSE),\" \")","v":" "},0,{"$f":"IFERROR(VLOOKUP(C594,PivotGHRF!A:B,2,FALSE),\" \")","v":" "},"Not in TDSSA",0,{"$f":"IFERROR(VLOOKUP(C594,PivotGHRF!A:C,3,FALSE),\" \")","v":" "},0]
["Para-Alpine Skiing","Para-Alpine Skiing","Para-Alpine Skiing - Para-Alpine Skiing",{"$f":"IFERROR(VLOOKUP(C595,PivotGHRF!A:B,2,FALSE),\" \")","v":" "},0.1,0,{"$f":"IFERROR(VLOOKUP(C595,PivotESA!A:C,3,FALSE),\" \")","v":" "},0,{"$f":"IFERROR(VLOOKUP(C595,PivotGHRF!A:B,2,FALSE),\" \")","v":" "},0.05,0,{"$f":"IFERROR(VLOOKUP(C595,PivotGH!A:C,3,FALSE),\" \")","v":" "},0,{"$f":"IFERROR(VLOOKUP(C595,PivotGHRF!A:B,2,FALSE),\" \")","v":" "},0.05,0,{"$f":"IFERROR(VLOOKUP(C595,PivotGHRF!A:C,3,FALSE),\" \")","v":" "},0]
["Para-Athletics","Combined Events","Para-Athletics - Combined Events",{"$f":"IFERROR(VLOOKUP(C596,PivotGHRF!A:B,2,FALSE),\" \")","v":" "},0.15,0,{"$f":"IFERROR(VLOOKUP(C596,PivotESA!A:C,3,FALSE),\" \")","v":" "},0,{"$f":"IFERROR(VLOOKUP(C596,PivotGHRF!A:B,2,FALSE),\" \")","v":" "},0.1,0,{"$f":"IFERROR(VLOOKUP(C596,PivotGH!A:C,3,FALSE),\" \")","v":" "},0,{"$f":"IFERROR(VLOOKUP(C596,PivotGHRF!A:B,2,FALSE),\" \")","v":" "},0.1,0,{"$f":"IFERROR(VLOOKUP(C596,PivotGHRF!A:C,3,FALSE),\" \")","v":" "},0]
["Para-Athletics","Jumps","Para-Athletics - Jumps",{"$f":"IFERROR(VLOOKUP(C597,PivotGHRF!A:B,2,FALSE),\" \")","v":" "},0.05,0,{"$f":"IFERROR(VLOOKUP(C597,PivotESA!A:C,3,FALSE),\" \")","v":" "},0,{"$f":"IFERROR(VLOOKUP(C597,PivotGHRF!A:B,2,FALSE),\" \")","v":" "},0.1,0,{"$f":"IFERROR(VLOOKUP(C597,PivotGH!A:C,3,FALSE),\" \")","v":" "},0,{"$f":"IFERROR(VLOOKUP(C597,PivotGHRF!A:B,2,FALSE),\" \")","v":" "},0.1,0,{"$f":"IFERROR(VLOOKUP(C597,PivotGHRF!A:C,3,FALSE),\" \")","v":" "},0]
["Para-Athletics","Long Distance 3000m and greater","Para-Athletics - Long Distance 3000m and greater",{"$f":"IFERROR(VLOOKUP(C598,PivotGHRF!A:B,2,FALSE),\" \")","v":" "},0.3,0,{"$f":"IFERROR(VLOOKUP(C598,PivotESA!A:C,3,FALSE),\" \")","v":" "},0,{"$f":"IFERROR(VLOOKUP(C598,PivotGHRF!A:B,2,FALSE),\" \")","v":" "},0.05,0,{"$f":"IFERROR(VLOOKUP(C598,PivotGH!A:C,3,FALSE),\" \")","v":" "},0,{"$f":"IFERROR(VLOOKUP(C598,PivotGHRF!A:B,2,FALSE),\" \")","v":" "},0.05,0,{"$f":"IFERROR(VLOOKUP(C598,PivotGHRF!A:C,3,FALSE),\" \")","v":" "},0]
["Para-Athletics","Middle Distance 800-1500m","Para-Athletics - Middle Distance 800-1500m",{"$f":"IFERROR(VLOOKUP(C599,PivotGHRF!A:B,2,FALSE),\" \")","v":" "},0.3,0,{"$f":"IFERROR(VLOOKUP(C599,PivotESA!A:C,3,FALSE),\" \")","v":" "},0,{"$f":"IFERROR(VLOOKUP(C599,PivotGHRF!A:B,2,FALSE),\" \")","v":" "},0.05,0,{"$f":"IFERROR(VLOOKUP(C599,PivotGH!A:C,3,FALSE),\" \")","v":" "},0,{"$f":"IFERROR(VLOOKUP(C599,PivotGHRF!A:B,2,FALSE),\" \")","v":" "},0.05,0,{"$f":"IFERROR(VLOOKUP(C599,PivotGHRF!A:C,3,FALSE),\" \")","v":" "},0]
["Para-Athletics","Sprint 400m or less","Para-Athletics - Sprint 400m or less",{"$f":"IFERROR(VLOOKUP(C600,PivotGHRF!A:B,2,FALSE),\" \")","v":" "},0.05,0,{"$f":"IFERROR(VLOOKUP(C600,PivotESA!A:C,3,FALSE),\" \")","v":" "},0,{"$f":"IFERROR(VLOOKUP(C600,PivotGHRF!A:B,2,FALSE),\" \")","v":" "},0.1,0,{"$f":"IFERROR(VLOOKUP(C600,PivotGH!A:C,3,FALSE),\" \")","v":" "},0,{"$f":"IFERROR(VLOOKUP(C600,PivotGHRF!A:B,2,FALSE),\" \")","v":" "},0.1,0,{"$f":"IFERROR(VLOOKUP(C600,PivotGHRF!A:C,3,FALSE),\" \")","v":" "},0]
["Para-Athletics","Throws","Para-Athletics - Throws",{"$f":"IFERROR(VLOOKUP(C601,PivotGHRF!A:B,2,FALSE),\" \")","v":" "},0.05,0,{"$f":"IFERROR(VLOOKUP(C601,PivotESA!A:C,3,FALSE),\" \")","v":" "},0,{"$f":"IFERROR(VLOOKUP(C601,PivotGHRF!A:B,2,FALSE),\" \")","v":" "},0.1,0,{"$f":"IFERROR(VLOOKUP(C601,PivotGH!A:C,3,FALSE),\" \")","v":" "},0,{"$f":"IFERROR(VLOOKUP(C601,PivotGHRF!A:B,2,FALSE),\" \")","v":" "},0.1,0,{"$f":"IFERROR(VLOOKUP(C601,PivotGHRF!A:C,3,FALSE),\" \")","v":" "},0]
["Para-Biathlon","Para-Biathlon","Para-Biathlon - Para-Biathlon",{"$f":"IFERROR(VLOOKUP(C602,PivotGHRF!A:B,2,FALSE),\" \")","v":" "},0.3,0,{"$f":"IFERROR(VLOOKUP(C602,PivotESA!A:C,3,FALSE),\" \")","v":" "},0,{"$f":"IFERROR(VLOOKUP(C602,PivotGHRF!A:B,2,FALSE),\" \")","v":" "},0.1,0,{"$f":"IFERROR(VLOOKUP(C602,PivotGH!A:C,3,FALSE),\" \")","v":" "},0,{"$f":"IFERROR(VLOOKUP(C602,PivotGHRF!A:B,2,FALSE),\" \")","v":" "},0.1,0,{"$f":"IFERROR(VLOOKUP(C602,PivotGHRF!A:C,3,FALSE),\" \")","v":" "},0]
["Para-Bowling","Para-Bowling","Para-Bowling - Para-Bowling",{"$f":"IFERROR(VLOOKUP(C603,PivotGHRF!A:B,2,FALSE),\" \")","v":" "},"Not in TDSSA",0,{"$f":"IFERROR(VLOOKUP(C603,PivotESA!A:C,3,FALSE),\" \")","v":" "},0,{"$f":"IFERROR(VLOOKUP(C603,PivotGHRF!A:B,2,FALSE),\" \")","v":" "},"Not in TDSSA",0,{"$f":"IFERROR(VLOOKUP(C603,PivotGH!A:C,3,FALSE),\" \")","v":" "},0,{"$f":"IFERROR(VLOOKUP(C603,PivotGHRF!A:B,2,FALSE),\" \")","v":" "},"Not in TDSSA",0,{"$f":"IFERROR(VLOOKUP(C603,PivotGHRF!A:C,3,FALSE),\" \")","v":" "},0]
["Para-Bowls","Para-Bowls","Para-Bowls - Para-Bowls",{"$f":"IFERROR(VLOOKUP(C604,PivotGHRF!A:B,2,FALSE),\" \")","v":" "},"Not in TDSSA",0,{"$f":"IFERROR(VLOOKUP(C604,PivotESA!A:C,3,FALSE),\" \")","v":" "},0,{"$f":"IFERROR(VLOOKUP(C604,PivotGHRF!A:B,2,FALSE),\" \")","v":" "},"Not in TDSSA",0,{"$f":"IFERROR(VLOOKUP(C604,PivotGH!A:C,3,FALSE),\" \")","v":" "},0,{"$f":"IFERROR(VLOOKUP(C604,PivotGHRF!A:B,2,FALSE),\" \")","v":" "},"Not in TDSSA",0,{"$f":"IFERROR(VLOOKUP(C604,PivotGHRF!A:C,3,FALSE),\" \")","v":" "},0]
["Para-Cross Country Skiing","Middle/Long Distance","Para-Cross Country Skiing - Middle/Long Distance",{"$f":"IFERROR(VLOOKUP(C605,PivotGHRF!A:B,2,FALSE),\" \")","v":" "},0.3,0,{"$f":"IFERROR(VLOOKUP(C605,PivotESA!A:C,3,FALSE),\" \")","v":" "},0,{"$f":"IFERROR(VLOOKUP(C605,PivotGHRF!A:B,2,FALSE),\" \")","v":" "},0.1,0,{"$f":"IFERROR(VLOOKUP(C605,PivotGH!A:C,3,FALSE),\" \")","v":" "},0,{"$f":"IFERROR(VLOOKUP(C605,PivotGHRF!A:B,2,FALSE),\" \")","v":" "},0.1,0,{"$f":"IFERROR(VLOOKUP(C605,PivotGHRF!A:C,3,FALSE),\" \")","v":" "},0]
["Para-Cross Country Skiing","Sprint/Short Distance","Para-Cross Country Skiing - Sprint/Short Distance",{"$f":"IFERROR(VLOOKUP(C606,PivotGHRF!A:B,2,FALSE),\" \")","v":" "},0.3,0,{"$f":"IFERROR(VLOOKUP(C606,PivotESA!A:C,3,FALSE),\" \")","v":" "},0,{"$f":"IFERROR(VLOOKUP(C606,PivotGHRF!A:B,2,FALSE),\" \")","v":" "},0.1,0,{"$f":"IFERROR(VLOOKUP(C606,PivotGH!A:C,3,FALSE),\" \")","v":" "},0,{"$f":"IFERROR(VLOOKUP(C606,PivotGHRF!A:B,2,FALSE),\" \")","v":" "},0.1,0,{"$f":"IFERROR(VLOOKUP(C606,PivotGHRF!A:C,3,FALSE),\" \")","v":" "},0]
["Para-DanceSport","Para-DanceSport","Para-DanceSport - Para-DanceSport",{"$f":"IFERROR(VLOOKUP(C607,PivotGHRF!A:B,2,FALSE),\" \")","v":" "},0,0,{"$f":"IFERROR(VLOOKUP(C607,PivotESA!A:C,3,FALSE),\" \")","v":" "},0,{"$f":"IFERROR(VLOOKUP(C607,PivotGHRF!A:B,2,FALSE),\" \")","v":" "},0,0,{"$f":"IFERROR(VLOOKUP(C607,PivotGH!A:C,3,FALSE),\" \")","v":" "},0,{"$f":"IFERROR(VLOOKUP(C607,PivotGHRF!A:B,2,FALSE),\" \")","v":" "},0,0,{"$f":"IFERROR(VLOOKUP(C607,PivotGHRF!A:C,3,FALSE),\" \")","v":" "},0]
["Para-Ice Hockey","Para-Ice Hockey","Para-Ice Hockey - Para-Ice Hockey",{"$f":"IFERROR(VLOOKUP(C608,PivotGHRF!A:B,2,FALSE),\" \")","v":" "},0.05,0,{"$f":"IFERROR(VLOOKUP(C608,PivotESA!A:C,3,FALSE),\" \")","v":" "},0,{"$f":"IFERROR(VLOOKUP(C608,PivotGHRF!A:B,2,FALSE),\" \")","v":" "},0.05,0,{"$f":"IFERROR(VLOOKUP(C608,PivotGH!A:C,3,FALSE),\" \")","v":" "},0,{"$f":"IFERROR(VLOOKUP(C608,PivotGHRF!A:B,2,FALSE),\" \")","v":" "},0.05,0,{"$f":"IFERROR(VLOOKUP(C608,PivotGHRF!A:C,3,FALSE),\" \")","v":" "},0]
["Para-Powerlifting","Para-Powerlifting","Para-Powerlifting - Para-Powerlifting",{"$f":"IFERROR(VLOOKUP(C609,PivotGHRF!A:B,2,FALSE),\" \")","v":" "},0.05,0,{"$f":"IFERROR(VLOOKUP(C609,PivotESA!A:C,3,FALSE),\" \")","v":" "},0,{"$f":"IFERROR(VLOOKUP(C609,PivotGHRF!A:B,2,FALSE),\" \")","v":" "},0.3,0,{"$f":"IFERROR(VLOOKUP(C609,PivotGH!A:C,3,FALSE),\" \")","v":" "},0,{"$f":"IFERROR(VLOOKUP(C609,PivotGHRF!A:B,2,FALSE),\" \")","v":" "},0.3,0,{"$f":"IFERROR(VLOOKUP(C609,PivotGHRF!A:C,3,FALSE),\" \")","v":" "},0]
["Para-Snowboard","Para-Snowboard","Para-Snowboard - Para-Snowboard",{"$f":"IFERROR(VLOOKUP(C610,PivotGHRF!A:B,2,FALSE),\" \")","v":" "},0.05,0,{"$f":"IFERROR(VLOOKUP(C610,PivotESA!A:C,3,FALSE),\" \")","v":" "},0,{"$f":"IFERROR(VLOOKUP(C610,PivotGHRF!A:B,2,FALSE),\" \")","v":" "},0.05,0,{"$f":"IFERROR(VLOOKUP(C610,PivotGH!A:C,3,FALSE),\" \")","v":" "},0,{"$f":"IFERROR(VLOOKUP(C610,PivotGHRF!A:B,2,FALSE),\" \")","v":" "},0.05,0,{"$f":"IFERROR(VLOOKUP(C610,PivotGHRF!A:C,3,FALSE),\" \")","v":" "},0]
["Para-Swimming","Long Distance 800m and greater","Para-Swimming - Long Distance 800m and greater",{"$f":"IFERROR(VLOOKUP(C611,PivotGHRF!A:B,2,FALSE),\" \")","v":" "},0.3,0,{"$f":"IFERROR(VLOOKUP(C611,PivotESA!A:C,3,FALSE),\" \")","v":" "},0,{"$f":"IFERROR(VLOOKUP(C611,PivotGHRF!A:B,2,FALSE),\" \")","v":" "},0.05,0,{"$f":"IFERROR(VLOOKUP(C611,PivotGH!A:C,3,FALSE),\" \")","v":" "},0,{"$f":"IFERROR(VLOOKUP(C611,PivotGHRF!A:B,2,FALSE),\" \")","v":" "},0.05,0,{"$f":"IFERROR(VLOOKUP(C611,PivotGHRF!A:C,3,FALSE),\" \")","v":" "},0]
["Para-Swimming","Middle Distance 200-400m","Para-Swimming - Middle Distance 200-400m",{"$f":"IFERROR(VLOOKUP(C612,PivotGHRF!A:B,2,FALSE),\" \")","v":" "},0.1,0,{"$f":"IFERROR(VLOOKUP(C612,PivotESA!A:C,3,FALSE),\" \")","v":" "},0,{"$f":"IFERROR(VLOOKUP(C612,PivotGHRF!A:B,2,FALSE),\" \")","v":" "},0.05,0,{"$f":"IFERROR(VLOOKUP(C612,PivotGH!A:C,3,FALSE),\" \")","v":" "},0,{"$f":"IFERROR(VLOOKUP(C612,PivotGHRF!A:B,2,FALSE),\" \")","v":" "},0.05,0,{"$f":"IFERROR(VLOOKUP(C612,PivotGHRF!A:C,3,FALSE),\" \")","v":" "},0]
["Para-Swimming","Sprint 100m or less","Para-Swimming - Sprint 100m or less",{"$f":"IFERROR(VLOOKUP(C613,PivotGHRF!A:B,2,FALSE),\" \")","v":" "},0.05,0,{"$f":"IFERROR(VLOOKUP(C613,PivotESA!A:C,3,FALSE),\" \")","v":" "},0,{"$f":"IFERROR(VLOOKUP(C613,PivotGHRF!A:B,2,FALSE),\" \")","v":" "},0.1,0,{"$f":"IFERROR(VLOOKUP(C613,PivotGH!A:C,3,FALSE),\" \")","v":" "},0,{"$f":"IFERROR(VLOOKUP(C613,PivotGHRF!A:B,2,FALSE),\" \")","v":" "},0.1,0,{"$f":"IFERROR(VLOOKUP(C613,PivotGHRF!A:C,3,FALSE),\" \")","v":" "},0]
["Pencak Silat","Beach Pencal Silat","Pencak Silat - Beach Pencal Silat",{"$f":"IFERROR(VLOOKUP(C614,PivotGHRF!A:B,2,FALSE),\" \")","v":" "},"Not in TDSSA",0,{"$f":"IFERROR(VLOOKUP(C614,PivotESA!A:C,3,FALSE),\" \")","v":" "},0,{"$f":"IFERROR(VLOOKUP(C614,PivotGHRF!A:B,2,FALSE),\" \")","v":" "},"Not in TDSSA",0,{"$f":"IFERROR(VLOOKUP(C614,PivotGH!A:C,3,FALSE),\" \")","v":" "},0,{"$f":"IFERROR(VLOOKUP(C614,PivotGHRF!A:B,2,FALSE),\" \")","v":" "},"Not in TDSSA",0,{"$f":"IFERROR(VLOOKUP(C614,PivotGHRF!A:C,3,FALSE),\" \")","v":" "},0]
["Pencak Silat","Pencak Silat","Pencak Silat - Pencak Silat",{"$f":"IFERROR(VLOOKUP(C615,PivotGHRF!A:B,2,FALSE),\" \")","v":" "},"Not in TDSSA",0,{"$f":"IFERROR(VLOOKUP(C615,PivotESA!A:C,3,FALSE),\" \")","v":" "},0,{"$f":"IFERROR(VLOOKUP(C615,PivotGHRF!A:B,2,FALSE),\" \")","v":" "},"Not in TDSSA",0,{"$f":"IFERROR(VLOOKUP(C615,PivotGH!A:C,3,FALSE),\" \")","v":" "},0,{"$f":"IFERROR(VLOOKUP(C615,PivotGHRF!A:B,2,FALSE),\" \")","v":" "},"Not in TDSSA",0,{"$f":"IFERROR(VLOOKUP(C615,PivotGHRF!A:C,3,FALSE),\" \")","v":" "},0]
["Poker","Poker","Poker - Poker",{"$f":"IFERROR(VLOOKUP(C616,PivotGHRF!A:B,2,FALSE),\" \")","v":" "},"Not in TDSSA",0,{"$f":"IFERROR(VLOOKUP(C616,PivotESA!A:C,3,FALSE),\" \")","v":" "},0,{"$f":"IFERROR(VLOOKUP(C616,PivotGHRF!A:B,2,FALSE),\" \")","v":" "},"Not in TDSSA",0,{"$f":"IFERROR(VLOOKUP(C616,PivotGH!A:C,3,FALSE),\" \")","v":" "},0,{"$f":"IFERROR(VLOOKUP(C616,PivotGHRF!A:B,2,FALSE),\" \")","v":" "},"Not in TDSSA",0,{"$f":"IFERROR(VLOOKUP(C616,PivotGHRF!A:C,3,FALSE),\" \")","v":" "},0]
["Pole sports","Pole sports","Pole sports - Pole sports",{"$f":"IFERROR(VLOOKUP(C617,PivotGHRF!A:B,2,FALSE),\" \")","v":" "},"Not in TDSSA",0,{"$f":"IFERROR(VLOOKUP(C617,PivotESA!A:C,3,FALSE),\" \")","v":" "},0,{"$f":"IFERROR(VLOOKUP(C617,PivotGHRF!A:B,2,FALSE),\" \")","v":" "},"Not in TDSSA",0,{"$f":"IFERROR(VLOOKUP(C617,PivotGH!A:C,3,FALSE),\" \")","v":" "},0,{"$f":"IFERROR(VLOOKUP(C617,PivotGHRF!A:B,2,FALSE),\" \")","v":" "},"Not in TDSSA",0,{"$f":"IFERROR(VLOOKUP(C617,PivotGHRF!A:C,3,FALSE),\" \")","v":" "},0]
["Polo","Polo","Polo - Polo",{"$f":"IFERROR(VLOOKUP(C618,PivotGHRF!A:B,2,FALSE),\" \")","v":" "},0.05,0,{"$f":"IFERROR(VLOOKUP(C618,PivotESA!A:C,3,FALSE),\" \")","v":" "},0,{"$f":"IFERROR(VLOOKUP(C618,PivotGHRF!A:B,2,FALSE),\" \")","v":" "},0.05,0,{"$f":"IFERROR(VLOOKUP(C618,PivotGH!A:C,3,FALSE),\" \")","v":" "},0,{"$f":"IFERROR(VLOOKUP(C618,PivotGHRF!A:B,2,FALSE),\" \")","v":" "},0.05,0,{"$f":"IFERROR(VLOOKUP(C618,PivotGHRF!A:C,3,FALSE),\" \")","v":" "},0]
["Polo","Polocrosse","Polo - Polocrosse",{"$f":"IFERROR(VLOOKUP(C619,PivotGHRF!A:B,2,FALSE),\" \")","v":" "},0.05,0,{"$f":"IFERROR(VLOOKUP(C619,PivotESA!A:C,3,FALSE),\" \")","v":" "},0,{"$f":"IFERROR(VLOOKUP(C619,PivotGHRF!A:B,2,FALSE),\" \")","v":" "},0.05,0,{"$f":"IFERROR(VLOOKUP(C619,PivotGH!A:C,3,FALSE),\" \")","v":" "},0,{"$f":"IFERROR(VLOOKUP(C619,PivotGHRF!A:B,2,FALSE),\" \")","v":" "},0.05,0,{"$f":"IFERROR(VLOOKUP(C619,PivotGHRF!A:C,3,FALSE),\" \")","v":" "},0]
["Power Press","Power Press","Power Press - Power Press",{"$f":"IFERROR(VLOOKUP(C620,PivotGHRF!A:B,2,FALSE),\" \")","v":" "},"Not in TDSSA",0,{"$f":"IFERROR(VLOOKUP(C620,PivotESA!A:C,3,FALSE),\" \")","v":" "},0,{"$f":"IFERROR(VLOOKUP(C620,PivotGHRF!A:B,2,FALSE),\" \")","v":" "},"Not in TDSSA",0,{"$f":"IFERROR(VLOOKUP(C620,PivotGH!A:C,3,FALSE),\" \")","v":" "},0,{"$f":"IFERROR(VLOOKUP(C620,PivotGHRF!A:B,2,FALSE),\" \")","v":" "},"Not in TDSSA",0,{"$f":"IFERROR(VLOOKUP(C620,PivotGHRF!A:C,3,FALSE),\" \")","v":" "},0]
["Powerboating","Aquabike","Powerboating - Aquabike",{"$f":"IFERROR(VLOOKUP(C621,PivotGHRF!A:B,2,FALSE),\" \")","v":" "},0.05,0,{"$f":"IFERROR(VLOOKUP(C621,PivotESA!A:C,3,FALSE),\" \")","v":" "},0,{"$f":"IFERROR(VLOOKUP(C621,PivotGHRF!A:B,2,FALSE),\" \")","v":" "},0.05,0,{"$f":"IFERROR(VLOOKUP(C621,PivotGH!A:C,3,FALSE),\" \")","v":" "},0,{"$f":"IFERROR(VLOOKUP(C621,PivotGHRF!A:B,2,FALSE),\" \")","v":" "},0.05,0,{"$f":"IFERROR(VLOOKUP(C621,PivotGHRF!A:C,3,FALSE),\" \")","v":" "},0]
["Powerboating","Circuit","Powerboating - Circuit",{"$f":"IFERROR(VLOOKUP(C622,PivotGHRF!A:B,2,FALSE),\" \")","v":" "},0,0,{"$f":"IFERROR(VLOOKUP(C622,PivotESA!A:C,3,FALSE),\" \")","v":" "},0,{"$f":"IFERROR(VLOOKUP(C622,PivotGHRF!A:B,2,FALSE),\" \")","v":" "},0,0,{"$f":"IFERROR(VLOOKUP(C622,PivotGH!A:C,3,FALSE),\" \")","v":" "},0,{"$f":"IFERROR(VLOOKUP(C622,PivotGHRF!A:B,2,FALSE),\" \")","v":" "},0,0,{"$f":"IFERROR(VLOOKUP(C622,PivotGHRF!A:C,3,FALSE),\" \")","v":" "},0]
["Powerboating","Kyotei","Powerboating - Kyotei",{"$f":"IFERROR(VLOOKUP(C623,PivotGHRF!A:B,2,FALSE),\" \")","v":" "},"Not in TDSSA",0,{"$f":"IFERROR(VLOOKUP(C623,PivotESA!A:C,3,FALSE),\" \")","v":" "},0,{"$f":"IFERROR(VLOOKUP(C623,PivotGHRF!A:B,2,FALSE),\" \")","v":" "},"Not in TDSSA",0,{"$f":"IFERROR(VLOOKUP(C623,PivotGH!A:C,3,FALSE),\" \")","v":" "},0,{"$f":"IFERROR(VLOOKUP(C623,PivotGHRF!A:B,2,FALSE),\" \")","v":" "},"Not in TDSSA",0,{"$f":"IFERROR(VLOOKUP(C623,PivotGHRF!A:C,3,FALSE),\" \")","v":" "},0]
["Powerboating","Offshore","Powerboating - Offshore",{"$f":"IFERROR(VLOOKUP(C624,PivotGHRF!A:B,2,FALSE),\" \")","v":" "},0,0,{"$f":"IFERROR(VLOOKUP(C624,PivotESA!A:C,3,FALSE),\" \")","v":" "},0,{"$f":"IFERROR(VLOOKUP(C624,PivotGHRF!A:B,2,FALSE),\" \")","v":" "},0,0,{"$f":"IFERROR(VLOOKUP(C624,PivotGH!A:C,3,FALSE),\" \")","v":" "},0,{"$f":"IFERROR(VLOOKUP(C624,PivotGHRF!A:B,2,FALSE),\" \")","v":" "},0,0,{"$f":"IFERROR(VLOOKUP(C624,PivotGHRF!A:C,3,FALSE),\" \")","v":" "},0]
["Powerlifting","IBSA Powerlifting","Powerlifting - IBSA Powerlifting",{"$f":"IFERROR(VLOOKUP(C625,PivotGHRF!A:B,2,FALSE),\" \")","v":" "},"Not in TDSSA",0,{"$f":"IFERROR(VLOOKUP(C625,PivotESA!A:C,3,FALSE),\" \")","v":" "},0,{"$f":"IFERROR(VLOOKUP(C625,PivotGHRF!A:B,2,FALSE),\" \")","v":" "},"Not in TDSSA",0,{"$f":"IFERROR(VLOOKUP(C625,PivotGH!A:C,3,FALSE),\" \")","v":" "},0,{"$f":"IFERROR(VLOOKUP(C625,PivotGHRF!A:B,2,FALSE),\" \")","v":" "},"Not in TDSSA",0,{"$f":"IFERROR(VLOOKUP(C625,PivotGHRF!A:C,3,FALSE),\" \")","v":" "},0]
["Powerlifting","Force Athletique","Powerlifting - Force Athletique",{"$f":"IFERROR(VLOOKUP(C626,PivotGHRF!A:B,2,FALSE),\" \")","v":" "},0.05,0,{"$f":"IFERROR(VLOOKUP(C626,PivotESA!A:C,3,FALSE),\" \")","v":" "},0,{"$f":"IFERROR(VLOOKUP(C626,PivotGHRF!A:B,2,FALSE),\" \")","v":" "},0.3,0,{"$f":"IFERROR(VLOOKUP(C626,PivotGH!A:C,3,FALSE),\" \")","v":" "},0,{"$f":"IFERROR(VLOOKUP(C626,PivotGHRF!A:B,2,FALSE),\" \")","v":" "},0.3,0,{"$f":"IFERROR(VLOOKUP(C626,PivotGHRF!A:C,3,FALSE),\" \")","v":" "},0]
["Powerlifting","Bench Press","Powerlifting - Bench Press",{"$f":"IFERROR(VLOOKUP(C627,PivotGHRF!A:B,2,FALSE),\" \")","v":" "},0.05,0,{"$f":"IFERROR(VLOOKUP(C627,PivotESA!A:C,3,FALSE),\" \")","v":" "},0,{"$f":"IFERROR(VLOOKUP(C627,PivotGHRF!A:B,2,FALSE),\" \")","v":" "},0.3,0,{"$f":"IFERROR(VLOOKUP(C627,PivotGH!A:C,3,FALSE),\" \")","v":" "},0,{"$f":"IFERROR(VLOOKUP(C627,PivotGHRF!A:B,2,FALSE),\" \")","v":" "},0.3,0,{"$f":"IFERROR(VLOOKUP(C627,PivotGHRF!A:C,3,FALSE),\" \")","v":" "},0]
["Powerlifting","Powerlifting","Powerlifting - Powerlifting",{"$f":"IFERROR(VLOOKUP(C628,PivotGHRF!A:B,2,FALSE),\" \")","v":" "},0.05,0,{"$f":"IFERROR(VLOOKUP(C628,PivotESA!A:C,3,FALSE),\" \")","v":" "},0,{"$f":"IFERROR(VLOOKUP(C628,PivotGHRF!A:B,2,FALSE),\" \")","v":" "},0.3,0,{"$f":"IFERROR(VLOOKUP(C628,PivotGH!A:C,3,FALSE),\" \")","v":" "},0,{"$f":"IFERROR(VLOOKUP(C628,PivotGHRF!A:B,2,FALSE),\" \")","v":" "},0.3,0,{"$f":"IFERROR(VLOOKUP(C628,PivotGHRF!A:C,3,FALSE),\" \")","v":" "},0]
["Powerlifting","IPC Powerlifting (R)","Powerlifting - IPC Powerlifting (R)",{"$f":"IFERROR(VLOOKUP(C629,PivotGHRF!A:B,2,FALSE),\" \")","v":" "},0.05,0,{"$f":"IFERROR(VLOOKUP(C629,PivotESA!A:C,3,FALSE),\" \")","v":" "},0,{"$f":"IFERROR(VLOOKUP(C629,PivotGHRF!A:B,2,FALSE),\" \")","v":" "},0.3,0,{"$f":"IFERROR(VLOOKUP(C629,PivotGH!A:C,3,FALSE),\" \")","v":" "},0,{"$f":"IFERROR(VLOOKUP(C629,PivotGHRF!A:B,2,FALSE),\" \")","v":" "},0.3,0,{"$f":"IFERROR(VLOOKUP(C629,PivotGHRF!A:C,3,FALSE),\" \")","v":" "},0]
["Powerlifting","WPA Powerlifting","Powerlifting - WPA Powerlifting",{"$f":"IFERROR(VLOOKUP(C630,PivotGHRF!A:B,2,FALSE),\" \")","v":" "},"Not in TDSSA",0,{"$f":"IFERROR(VLOOKUP(C630,PivotESA!A:C,3,FALSE),\" \")","v":" "},0,{"$f":"IFERROR(VLOOKUP(C630,PivotGHRF!A:B,2,FALSE),\" \")","v":" "},"Not in TDSSA",0,{"$f":"IFERROR(VLOOKUP(C630,PivotGH!A:C,3,FALSE),\" \")","v":" "},0,{"$f":"IFERROR(VLOOKUP(C630,PivotGHRF!A:B,2,FALSE),\" \")","v":" "},"Not in TDSSA",0,{"$f":"IFERROR(VLOOKUP(C630,PivotGHRF!A:C,3,FALSE),\" \")","v":" "},0]
["Powerlifting","WPC Powerlifting","Powerlifting - WPC Powerlifting",{"$f":"IFERROR(VLOOKUP(C631,PivotGHRF!A:B,2,FALSE),\" \")","v":" "},"Not in TDSSA",0,{"$f":"IFERROR(VLOOKUP(C631,PivotESA!A:C,3,FALSE),\" \")","v":" "},0,{"$f":"IFERROR(VLOOKUP(C631,PivotGHRF!A:B,2,FALSE),\" \")","v":" "},"Not in TDSSA",0,{"$f":"IFERROR(VLOOKUP(C631,PivotGH!A:C,3,FALSE),\" \")","v":" "},0,{"$f":"IFERROR(VLOOKUP(C631,PivotGHRF!A:B,2,FALSE),\" \")","v":" "},"Not in TDSSA",0,{"$f":"IFERROR(VLOOKUP(C631,PivotGHRF!A:C,3,FALSE),\" \")","v":" "},0]
["Powerlifting","WDFPF Powerlifting","Powerlifting - WDFPF Powerlifting",{"$f":"IFERROR(VLOOKUP(C632,PivotGHRF!A:B,2,FALSE),\" \")","v":" "},"Not in TDSSA",0,{"$f":"IFERROR(VLOOKUP(C632,PivotESA!A:C,3,FALSE),\" \")","v":" "},0,{"$f":"IFERROR(VLOOKUP(C632,PivotGHRF!A:B,2,FALSE),\" \")","v":" "},"Not in TDSSA",0,{"$f":"IFERROR(VLOOKUP(C632,PivotGH!A:C,3,FALSE),\" \")","v":" "},0,{"$f":"IFERROR(VLOOKUP(C632,PivotGHRF!A:B,2,FALSE),\" \")","v":" "},"Not in TDSSA",0,{"$f":"IFERROR(VLOOKUP(C632,PivotGHRF!A:C,3,FALSE),\" \")","v":" "},0]
["Practical Shooting","Practical Shooting","Practical Shooting - Practical Shooting",{"$f":"IFERROR(VLOOKUP(C633,PivotGHRF!A:B,2,FALSE),\" \")","v":" "},"Not in TDSSA",0,{"$f":"IFERROR(VLOOKUP(C633,PivotESA!A:C,3,FALSE),\" \")","v":" "},0,{"$f":"IFERROR(VLOOKUP(C633,PivotGHRF!A:B,2,FALSE),\" \")","v":" "},"Not in TDSSA",0,{"$f":"IFERROR(VLOOKUP(C633,PivotGH!A:C,3,FALSE),\" \")","v":" "},0,{"$f":"IFERROR(VLOOKUP(C633,PivotGHRF!A:B,2,FALSE),\" \")","v":" "},"Not in TDSSA",0,{"$f":"IFERROR(VLOOKUP(C633,PivotGHRF!A:C,3,FALSE),\" \")","v":" "},0]
["Racquetball","Racquetball","Racquetball - Racquetball",{"$f":"IFERROR(VLOOKUP(C634,PivotGHRF!A:B,2,FALSE),\" \")","v":" "},0.1,0,{"$f":"IFERROR(VLOOKUP(C634,PivotESA!A:C,3,FALSE),\" \")","v":" "},0,{"$f":"IFERROR(VLOOKUP(C634,PivotGHRF!A:B,2,FALSE),\" \")","v":" "},0.05,0,{"$f":"IFERROR(VLOOKUP(C634,PivotGH!A:C,3,FALSE),\" \")","v":" "},0,{"$f":"IFERROR(VLOOKUP(C634,PivotGHRF!A:B,2,FALSE),\" \")","v":" "},0.05,0,{"$f":"IFERROR(VLOOKUP(C634,PivotGHRF!A:C,3,FALSE),\" \")","v":" "},0]
["Rafting","Rafting","Rafting - Rafting",{"$f":"IFERROR(VLOOKUP(C635,PivotGHRF!A:B,2,FALSE),\" \")","v":" "},"Not in TDSSA",0,{"$f":"IFERROR(VLOOKUP(C635,PivotESA!A:C,3,FALSE),\" \")","v":" "},0,{"$f":"IFERROR(VLOOKUP(C635,PivotGHRF!A:B,2,FALSE),\" \")","v":" "},"Not in TDSSA",0,{"$f":"IFERROR(VLOOKUP(C635,PivotGH!A:C,3,FALSE),\" \")","v":" "},0,{"$f":"IFERROR(VLOOKUP(C635,PivotGHRF!A:B,2,FALSE),\" \")","v":" "},"Not in TDSSA",0,{"$f":"IFERROR(VLOOKUP(C635,PivotGHRF!A:C,3,FALSE),\" \")","v":" "},0]
["Ringette","Ringette","Ringette - Ringette",{"$f":"IFERROR(VLOOKUP(C636,PivotGHRF!A:B,2,FALSE),\" \")","v":" "},"Not in TDSSA",0,{"$f":"IFERROR(VLOOKUP(C636,PivotESA!A:C,3,FALSE),\" \")","v":" "},0,{"$f":"IFERROR(VLOOKUP(C636,PivotGHRF!A:B,2,FALSE),\" \")","v":" "},"Not in TDSSA",0,{"$f":"IFERROR(VLOOKUP(C636,PivotGH!A:C,3,FALSE),\" \")","v":" "},0,{"$f":"IFERROR(VLOOKUP(C636,PivotGHRF!A:B,2,FALSE),\" \")","v":" "},"Not in TDSSA",0,{"$f":"IFERROR(VLOOKUP(C636,PivotGHRF!A:C,3,FALSE),\" \")","v":" "},0]
["Rinkball","Rinkball","Rinkball - Rinkball",{"$f":"IFERROR(VLOOKUP(C637,PivotGHRF!A:B,2,FALSE),\" \")","v":" "},"Not in TDSSA",0,{"$f":"IFERROR(VLOOKUP(C637,PivotESA!A:C,3,FALSE),\" \")","v":" "},0,{"$f":"IFERROR(VLOOKUP(C637,PivotGHRF!A:B,2,FALSE),\" \")","v":" "},"Not in TDSSA",0,{"$f":"IFERROR(VLOOKUP(C637,PivotGH!A:C,3,FALSE),\" \")","v":" "},0,{"$f":"IFERROR(VLOOKUP(C637,PivotGHRF!A:B,2,FALSE),\" \")","v":" "},"Not in TDSSA",0,{"$f":"IFERROR(VLOOKUP(C637,PivotGHRF!A:C,3,FALSE),\" \")","v":" "},0]
["Roller Sports","Alpine & Downhill","Roller Sports - Alpine & Downhill",{"$f":"IFERROR(VLOOKUP(C638,PivotGHRF!A:B,2,FALSE),\" \")","v":" "},"Not in TDSSA",0,{"$f":"IFERROR(VLOOKUP(C638,PivotESA!A:C,3,FALSE),\" \")","v":" "},0,{"$f":"IFERROR(VLOOKUP(C638,PivotGHRF!A:B,2,FALSE),\" \")","v":" "},"Not in TDSSA",0,{"$f":"IFERROR(VLOOKUP(C638,PivotGH!A:C,3,FALSE),\" \")","v":" "},0,{"$f":"IFERROR(VLOOKUP(C638,PivotGHRF!A:B,2,FALSE),\" \")","v":" "},"Not in TDSSA",0,{"$f":"IFERROR(VLOOKUP(C638,PivotGHRF!A:C,3,FALSE),\" \")","v":" "},0]
["Roller Sports","Roller Derby","Roller Sports - Roller Derby",{"$f":"IFERROR(VLOOKUP(C639,PivotGHRF!A:B,2,FALSE),\" \")","v":" "},"Not in TDSSA",0,{"$f":"IFERROR(VLOOKUP(C639,PivotESA!A:C,3,FALSE),\" \")","v":" "},0,{"$f":"IFERROR(VLOOKUP(C639,PivotGHRF!A:B,2,FALSE),\" \")","v":" "},"Not in TDSSA",0,{"$f":"IFERROR(VLOOKUP(C639,PivotGH!A:C,3,FALSE),\" \")","v":" "},0,{"$f":"IFERROR(VLOOKUP(C639,PivotGHRF!A:B,2,FALSE),\" \")","v":" "},"Not in TDSSA",0,{"$f":"IFERROR(VLOOKUP(C639,PivotGHRF!A:C,3,FALSE),\" \")","v":" "},0]
["Roller Sports","Roller Freestyle","Roller Sports - Roller Freestyle",{"$f":"IFERROR(VLOOKUP(C640,PivotGHRF!A:B,2,FALSE),\" \")","v":" "},"Not in TDSSA",0,{"$f":"IFERROR(VLOOKUP(C640,PivotESA!A:C,3,FALSE),\" \")","v":" "},0,{"$f":"IFERROR(VLOOKUP(C640,PivotGHRF!A:B,2,FALSE),\" \")","v":" "},"Not in TDSSA",0,{"$f":"IFERROR(VLOOKUP(C640,PivotGH!A:C,3,FALSE),\" \")","v":" "},0,{"$f":"IFERROR(VLOOKUP(C640,PivotGHRF!A:B,2,FALSE),\" \")","v":" "},"Not in TDSSA",0,{"$f":"IFERROR(VLOOKUP(C640,PivotGHRF!A:C,3,FALSE),\" \")","v":" "},0]
["Roller Sports","Inline Hockey (R)","Roller Sports - Inline Hockey (R)",{"$f":"IFERROR(VLOOKUP(C641,PivotGHRF!A:B,2,FALSE),\" \")","v":" "},"Not in TDSSA",0,{"$f":"IFERROR(VLOOKUP(C641,PivotESA!A:C,3,FALSE),\" \")","v":" "},0,{"$f":"IFERROR(VLOOKUP(C641,PivotGHRF!A:B,2,FALSE),\" \")","v":" "},"Not in TDSSA",0,{"$f":"IFERROR(VLOOKUP(C641,PivotGH!A:C,3,FALSE),\" \")","v":" "},0,{"$f":"IFERROR(VLOOKUP(C641,PivotGHRF!A:B,2,FALSE),\" \")","v":" "},"Not in TDSSA",0,{"$f":"IFERROR(VLOOKUP(C641,PivotGHRF!A:C,3,FALSE),\" \")","v":" "},0]
["Roller Sports","Inline Freestyle","Roller Sports - Inline Freestyle",{"$f":"IFERROR(VLOOKUP(C642,PivotGHRF!A:B,2,FALSE),\" \")","v":" "},"Not in TDSSA",0,{"$f":"IFERROR(VLOOKUP(C642,PivotESA!A:C,3,FALSE),\" \")","v":" "},0,{"$f":"IFERROR(VLOOKUP(C642,PivotGHRF!A:B,2,FALSE),\" \")","v":" "},"Not in TDSSA",0,{"$f":"IFERROR(VLOOKUP(C642,PivotGH!A:C,3,FALSE),\" \")","v":" "},0,{"$f":"IFERROR(VLOOKUP(C642,PivotGHRF!A:B,2,FALSE),\" \")","v":" "},"Not in TDSSA",0,{"$f":"IFERROR(VLOOKUP(C642,PivotGHRF!A:C,3,FALSE),\" \")","v":" "},0]
["Roller Sports","Inline Speed Skating Sprint 1000m or less","Roller Sports - Inline Speed Skating Sprint 1000m or less",{"$f":"IFERROR(VLOOKUP(C643,PivotGHRF!A:B,2,FALSE),\" \")","v":" "},0.15,0,{"$f":"IFERROR(VLOOKUP(C643,PivotESA!A:C,3,FALSE),\" \")","v":" "},0,{"$f":"IFERROR(VLOOKUP(C643,PivotGHRF!A:B,2,FALSE),\" \")","v":" "},0.1,0,{"$f":"IFERROR(VLOOKUP(C643,PivotGH!A:C,3,FALSE),\" \")","v":" "},0,{"$f":"IFERROR(VLOOKUP(C643,PivotGHRF!A:B,2,FALSE),\" \")","v":" "},0.1,0,{"$f":"IFERROR(VLOOKUP(C643,PivotGHRF!A:C,3,FALSE),\" \")","v":" "},0]
["Roller Sports","Artistic","Roller Sports - Artistic",{"$f":"IFERROR(VLOOKUP(C644,PivotGHRF!A:B,2,FALSE),\" \")","v":" "},0.05,0,{"$f":"IFERROR(VLOOKUP(C644,PivotESA!A:C,3,FALSE),\" \")","v":" "},0,{"$f":"IFERROR(VLOOKUP(C644,PivotGHRF!A:B,2,FALSE),\" \")","v":" "},0.05,0,{"$f":"IFERROR(VLOOKUP(C644,PivotGH!A:C,3,FALSE),\" \")","v":" "},0,{"$f":"IFERROR(VLOOKUP(C644,PivotGHRF!A:B,2,FALSE),\" \")","v":" "},0.05,0,{"$f":"IFERROR(VLOOKUP(C644,PivotGHRF!A:C,3,FALSE),\" \")","v":" "},0]
["Roller Sports","Freestyle (R)","Roller Sports - Freestyle (R)",{"$f":"IFERROR(VLOOKUP(C645,PivotGHRF!A:B,2,FALSE),\" \")","v":" "},"Not in TDSSA",0,{"$f":"IFERROR(VLOOKUP(C645,PivotESA!A:C,3,FALSE),\" \")","v":" "},0,{"$f":"IFERROR(VLOOKUP(C645,PivotGHRF!A:B,2,FALSE),\" \")","v":" "},"Not in TDSSA",0,{"$f":"IFERROR(VLOOKUP(C645,PivotGH!A:C,3,FALSE),\" \")","v":" "},0,{"$f":"IFERROR(VLOOKUP(C645,PivotGHRF!A:B,2,FALSE),\" \")","v":" "},"Not in TDSSA",0,{"$f":"IFERROR(VLOOKUP(C645,PivotGHRF!A:C,3,FALSE),\" \")","v":" "},0]
["Roller Sports","Rink Hockey (R)","Roller Sports - Rink Hockey (R)",{"$f":"IFERROR(VLOOKUP(C646,PivotGHRF!A:B,2,FALSE),\" \")","v":" "},"Not in TDSSA",0,{"$f":"IFERROR(VLOOKUP(C646,PivotESA!A:C,3,FALSE),\" \")","v":" "},0,{"$f":"IFERROR(VLOOKUP(C646,PivotGHRF!A:B,2,FALSE),\" \")","v":" "},"Not in TDSSA",0,{"$f":"IFERROR(VLOOKUP(C646,PivotGH!A:C,3,FALSE),\" \")","v":" "},0,{"$f":"IFERROR(VLOOKUP(C646,PivotGHRF!A:B,2,FALSE),\" \")","v":" "},"Not in TDSSA",0,{"$f":"IFERROR(VLOOKUP(C646,PivotGHRF!A:C,3,FALSE),\" \")","v":" "},0]
["Roller Sports","Hockey","Roller Sports - Hockey",{"$f":"IFERROR(VLOOKUP(C647,PivotGHRF!A:B,2,FALSE),\" \")","v":" "},0.05,0,{"$f":"IFERROR(VLOOKUP(C647,PivotESA!A:C,3,FALSE),\" \")","v":" "},{"$f":"IFERROR(F647-G647,0)","v":0},{"$f":"IFERROR(VLOOKUP(C647,PivotGHRF!A:B,2,FALSE),\" \")","v":" "},0.1,0,{"$f":"IFERROR(VLOOKUP(C647,PivotGH!A:C,3,FALSE),\" \")","v":" "},{"$f":"IFERROR(K647-L647,0)","v":0},{"$f":"IFERROR(VLOOKUP(C647,PivotGHRF!A:B,2,FALSE),\" \")","v":" "},0.1,0,{"$f":"IFERROR(VLOOKUP(C647,PivotGHRF!A:C,3,FALSE),\" \")","v":" "},{"$f":"IFERROR(P647-Q647,0)","v":0}]
["Roller Sports","Inline Downhill (R)","Roller Sports - Inline Downhill (R)",{"$f":"IFERROR(VLOOKUP(C648,PivotGHRF!A:B,2,FALSE),\" \")","v":" "},"Not in TDSSA",{"$f":"IFERROR(ROUNDUP(E648*D648,0),0)","v":0},{"$f":"IFERROR(VLOOKUP(C648,PivotESA!A:C,3,FALSE),\" \")","v":" "},0,{"$f":"IFERROR(VLOOKUP(C648,PivotGHRF!A:B,2,FALSE),\" \")","v":" "},"Not in TDSSA",{"$f":"IFERROR(ROUNDUP(J648*I648,0),0)","v":0},{"$f":"IFERROR(VLOOKUP(C648,PivotGH!A:C,3,FALSE),\" \")","v":" "},0,{"$f":"IFERROR(VLOOKUP(C648,PivotGHRF!A:B,2,FALSE),\" \")","v":" "},"Not in TDSSA",{"$f":"IFERROR(ROUNDUP(O648*N648,0),0)","v":0},{"$f":"IFERROR(VLOOKUP(C648,PivotGHRF!A:C,3,FALSE),\" \")","v":" "},0]
["Roller Sports","Inline Speed Skating Distance greater than 1000m","Roller Sports - Inline Speed Skating Distance greater than 1000m",{"$f":"IFERROR(VLOOKUP(C649,PivotGHRF!A:B,2,FALSE),\" \")","v":" "},0.3,0,{"$f":"IFERROR(VLOOKUP(C649,PivotESA!A:C,3,FALSE),\" \")","v":" "},0,{"$f":"IFERROR(VLOOKUP(C649,PivotGHRF!A:B,2,FALSE),\" \")","v":" "},0.1,0,{"$f":"IFERROR(VLOOKUP(C649,PivotGH!A:C,3,FALSE),\" \")","v":" "},0,{"$f":"IFERROR(VLOOKUP(C649,PivotGHRF!A:B,2,FALSE),\" \")","v":" "},0.1,0,{"$f":"IFERROR(VLOOKUP(C649,PivotGHRF!A:C,3,FALSE),\" \")","v":" "},0]
["Roller Sports","Skateboarding","Roller Sports - Skateboarding",{"$f":"IFERROR(VLOOKUP(C650,PivotGHRF!A:B,2,FALSE),\" \")","v":" "},"Not in TDSSA",0,{"$f":"IFERROR(VLOOKUP(C650,PivotESA!A:C,3,FALSE),\" \")","v":" "},0,{"$f":"IFERROR(VLOOKUP(C650,PivotGHRF!A:B,2,FALSE),\" \")","v":" "},"Not in TDSSA",0,{"$f":"IFERROR(VLOOKUP(C650,PivotGH!A:C,3,FALSE),\" \")","v":" "},0,{"$f":"IFERROR(VLOOKUP(C650,PivotGHRF!A:B,2,FALSE),\" \")","v":" "},"Not in TDSSA",0,{"$f":"IFERROR(VLOOKUP(C650,PivotGHRF!A:C,3,FALSE),\" \")","v":" "},0]
["Roller Sports","University Inline Speed Skating Sprint 1000m or less ","Roller Sports - University Inline Speed Skating Sprint 1000m or less ",{"$f":"IFERROR(VLOOKUP(C651,PivotGHRF!A:B,2,FALSE),\" \")","v":" "},"Not in TDSSA",0,{"$f":"IFERROR(VLOOKUP(C651,PivotESA!A:C,3,FALSE),\" \")","v":" "},0,{"$f":"IFERROR(VLOOKUP(C651,PivotGHRF!A:B,2,FALSE),\" \")","v":" "},"Not in TDSSA",0,{"$f":"IFERROR(VLOOKUP(C651,PivotGH!A:C,3,FALSE),\" \")","v":" "},0,{"$f":"IFERROR(VLOOKUP(C651,PivotGHRF!A:B,2,FALSE),\" \")","v":" "},"Not in TDSSA",0,{"$f":"IFERROR(VLOOKUP(C651,PivotGHRF!A:C,3,FALSE),\" \")","v":" "},0]
["Roller Sports","University Inline Speed Skating Distance greater than 1000m ","Roller Sports - University Inline Speed Skating Distance greater than 1000m ",{"$f":"IFERROR(VLOOKUP(C652,PivotGHRF!A:B,2,FALSE),\" \")","v":" "},"Not in TDSSA",0,{"$f":"IFERROR(VLOOKUP(C652,PivotESA!A:C,3,FALSE),\" \")","v":" "},0,{"$f":"IFERROR(VLOOKUP(C652,PivotGHRF!A:B,2,FALSE),\" \")","v":" "},"Not in TDSSA",0,{"$f":"IFERROR(VLOOKUP(C652,PivotGH!A:C,3,FALSE),\" \")","v":" "},0,{"$f":"IFERROR(VLOOKUP(C652,PivotGHRF!A:B,2,FALSE),\" \")","v":" "},"Not in TDSSA",0,{"$f":"IFERROR(VLOOKUP(C652,PivotGHRF!A:C,3,FALSE),\" \")","v":" "},0]
["Rope Skipping","Rope Skipping","Rope Skipping - Rope Skipping",{"$f":"IFERROR(VLOOKUP(C653,PivotGHRF!A:B,2,FALSE),\" \")","v":" "},"Not in TDSSA",0,{"$f":"IFERROR(VLOOKUP(C653,PivotESA!A:C,3,FALSE),\" \")","v":" "},0,{"$f":"IFERROR(VLOOKUP(C653,PivotGHRF!A:B,2,FALSE),\" \")","v":" "},"Not in TDSSA",0,{"$f":"IFERROR(VLOOKUP(C653,PivotGH!A:C,3,FALSE),\" \")","v":" "},0,{"$f":"IFERROR(VLOOKUP(C653,PivotGHRF!A:B,2,FALSE),\" \")","v":" "},"Not in TDSSA",0,{"$f":"IFERROR(VLOOKUP(C653,PivotGHRF!A:C,3,FALSE),\" \")","v":" "},0]
["Rowing","Beach Sprint","Rowing - Beach Sprint",{"$f":"IFERROR(VLOOKUP(C654,PivotGHRF!A:B,2,FALSE),\" \")","v":" "},"Not in TDSSA",0,{"$f":"IFERROR(VLOOKUP(C654,PivotESA!A:C,3,FALSE),\" \")","v":" "},0,{"$f":"IFERROR(VLOOKUP(C654,PivotGHRF!A:B,2,FALSE),\" \")","v":" "},"Not in TDSSA",0,{"$f":"IFERROR(VLOOKUP(C654,PivotGH!A:C,3,FALSE),\" \")","v":" "},0,{"$f":"IFERROR(VLOOKUP(C654,PivotGHRF!A:B,2,FALSE),\" \")","v":" "},"Not in TDSSA",0,{"$f":"IFERROR(VLOOKUP(C654,PivotGHRF!A:C,3,FALSE),\" \")","v":" "},0]
["Rowing","Para-Rowing","Rowing - Para-Rowing",{"$f":"IFERROR(VLOOKUP(C655,PivotGHRF!A:B,2,FALSE),\" \")","v":" "},0.3,0,{"$f":"IFERROR(VLOOKUP(C655,PivotESA!A:C,3,FALSE),\" \")","v":" "},0,{"$f":"IFERROR(VLOOKUP(C655,PivotGHRF!A:B,2,FALSE),\" \")","v":" "},0.1,0,{"$f":"IFERROR(VLOOKUP(C655,PivotGH!A:C,3,FALSE),\" \")","v":" "},0,{"$f":"IFERROR(VLOOKUP(C655,PivotGHRF!A:B,2,FALSE),\" \")","v":" "},0.1,0,{"$f":"IFERROR(VLOOKUP(C655,PivotGHRF!A:C,3,FALSE),\" \")","v":" "},0]
["Rowing","INAS Rowing","Rowing - INAS Rowing",{"$f":"IFERROR(VLOOKUP(C656,PivotGHRF!A:B,2,FALSE),\" \")","v":" "},"Not in TDSSA",0,{"$f":"IFERROR(VLOOKUP(C656,PivotESA!A:C,3,FALSE),\" \")","v":" "},0,{"$f":"IFERROR(VLOOKUP(C656,PivotGHRF!A:B,2,FALSE),\" \")","v":" "},"Not in TDSSA",0,{"$f":"IFERROR(VLOOKUP(C656,PivotGH!A:C,3,FALSE),\" \")","v":" "},0,{"$f":"IFERROR(VLOOKUP(C656,PivotGHRF!A:B,2,FALSE),\" \")","v":" "},"Not in TDSSA",0,{"$f":"IFERROR(VLOOKUP(C656,PivotGHRF!A:C,3,FALSE),\" \")","v":" "},0]
["Rowing","Rowing","Rowing - Rowing",{"$f":"IFERROR(VLOOKUP(C657,PivotGHRF!A:B,2,FALSE),\" \")","v":" "},0.3,0,{"$f":"IFERROR(VLOOKUP(C657,PivotESA!A:C,3,FALSE),\" \")","v":" "},0,{"$f":"IFERROR(VLOOKUP(C657,PivotGHRF!A:B,2,FALSE),\" \")","v":" "},0.1,0,{"$f":"IFERROR(VLOOKUP(C657,PivotGH!A:C,3,FALSE),\" \")","v":" "},0,{"$f":"IFERROR(VLOOKUP(C657,PivotGHRF!A:B,2,FALSE),\" \")","v":" "},0.1,0,{"$f":"IFERROR(VLOOKUP(C657,PivotGHRF!A:C,3,FALSE),\" \")","v":" "},0]
["Rowing","University","Rowing - University",{"$f":"IFERROR(VLOOKUP(C658,PivotGHRF!A:B,2,FALSE),\" \")","v":" "},"Not in TDSSA",0,{"$f":"IFERROR(VLOOKUP(C658,PivotESA!A:C,3,FALSE),\" \")","v":" "},0,{"$f":"IFERROR(VLOOKUP(C658,PivotGHRF!A:B,2,FALSE),\" \")","v":" "},"Not in TDSSA",0,{"$f":"IFERROR(VLOOKUP(C658,PivotGH!A:C,3,FALSE),\" \")","v":" "},0,{"$f":"IFERROR(VLOOKUP(C658,PivotGHRF!A:B,2,FALSE),\" \")","v":" "},"Not in TDSSA",0,{"$f":"IFERROR(VLOOKUP(C658,PivotGHRF!A:C,3,FALSE),\" \")","v":" "},0]
["Rugby League","Rugby League IX","Rugby League - Rugby League IX",{"$f":"IFERROR(VLOOKUP(C659,PivotGHRF!A:B,2,FALSE),\" \")","v":" "},"Not in TDSSA",0,{"$f":"IFERROR(VLOOKUP(C659,PivotESA!A:C,3,FALSE),\" \")","v":" "},0,{"$f":"IFERROR(VLOOKUP(C659,PivotGHRF!A:B,2,FALSE),\" \")","v":" "},"Not in TDSSA",0,{"$f":"IFERROR(VLOOKUP(C659,PivotGH!A:C,3,FALSE),\" \")","v":" "},0,{"$f":"IFERROR(VLOOKUP(C659,PivotGHRF!A:B,2,FALSE),\" \")","v":" "},"Not in TDSSA",0,{"$f":"IFERROR(VLOOKUP(C659,PivotGHRF!A:C,3,FALSE),\" \")","v":" "},0]
["Rugby League","Rugby League","Rugby League - Rugby League",{"$f":"IFERROR(VLOOKUP(C660,PivotGHRF!A:B,2,FALSE),\" \")","v":" "},"Not in TDSSA",0,{"$f":"IFERROR(VLOOKUP(C660,PivotESA!A:C,3,FALSE),\" \")","v":" "},0,{"$f":"IFERROR(VLOOKUP(C660,PivotGHRF!A:B,2,FALSE),\" \")","v":" "},"Not in TDSSA",0,{"$f":"IFERROR(VLOOKUP(C660,PivotGH!A:C,3,FALSE),\" \")","v":" "},0,{"$f":"IFERROR(VLOOKUP(C660,PivotGHRF!A:B,2,FALSE),\" \")","v":" "},"Not in TDSSA",0,{"$f":"IFERROR(VLOOKUP(C660,PivotGHRF!A:C,3,FALSE),\" \")","v":" "},0]
["Rugby League","Rugby League Military","Rugby League - Rugby League Military",{"$f":"IFERROR(VLOOKUP(C661,PivotGHRF!A:B,2,FALSE),\" \")","v":" "},"Not in TDSSA",0,{"$f":"IFERROR(VLOOKUP(C661,PivotESA!A:C,3,FALSE),\" \")","v":" "},0,{"$f":"IFERROR(VLOOKUP(C661,PivotGHRF!A:B,2,FALSE),\" \")","v":" "},"Not in TDSSA",0,{"$f":"IFERROR(VLOOKUP(C661,PivotGH!A:C,3,FALSE),\" \")","v":" "},0,{"$f":"IFERROR(VLOOKUP(C661,PivotGHRF!A:B,2,FALSE),\" \")","v":" "},"Not in TDSSA",0,{"$f":"IFERROR(VLOOKUP(C661,PivotGHRF!A:C,3,FALSE),\" \")","v":" "},0]
["Rugby Union","National Rugby League (R)","Rugby Union - National Rugby League (R)",{"$f":"IFERROR(VLOOKUP(C662,PivotGHRF!A:B,2,FALSE),\" \")","v":" "},"Not in TDSSA",0,{"$f":"IFERROR(VLOOKUP(C662,PivotESA!A:C,3,FALSE),\" \")","v":" "},0,{"$f":"IFERROR(VLOOKUP(C662,PivotGHRF!A:B,2,FALSE),\" \")","v":" "},"Not in TDSSA",0,{"$f":"IFERROR(VLOOKUP(C662,PivotGH!A:C,3,FALSE),\" \")","v":" "},0,{"$f":"IFERROR(VLOOKUP(C662,PivotGHRF!A:B,2,FALSE),\" \")","v":" "},"Not in TDSSA",0,{"$f":"IFERROR(VLOOKUP(C662,PivotGHRF!A:C,3,FALSE),\" \")","v":" "},0]
["Rugby Union","Rugby XIII (R)","Rugby Union - Rugby XIII (R)",{"$f":"IFERROR(VLOOKUP(C663,PivotGHRF!A:B,2,FALSE),\" \")","v":" "},"Not in TDSSA",0,{"$f":"IFERROR(VLOOKUP(C663,PivotESA!A:C,3,FALSE),\" \")","v":" "},0,{"$f":"IFERROR(VLOOKUP(C663,PivotGHRF!A:B,2,FALSE),\" \")","v":" "},"Not in TDSSA",0,{"$f":"IFERROR(VLOOKUP(C663,PivotGH!A:C,3,FALSE),\" \")","v":" "},0,{"$f":"IFERROR(VLOOKUP(C663,PivotGHRF!A:B,2,FALSE),\" \")","v":" "},"Not in TDSSA",0,{"$f":"IFERROR(VLOOKUP(C663,PivotGHRF!A:C,3,FALSE),\" \")","v":" "},0]
["Rugby Union","Rugby IX (R)","Rugby Union - Rugby IX (R)",{"$f":"IFERROR(VLOOKUP(C664,PivotGHRF!A:B,2,FALSE),\" \")","v":" "},"Not in TDSSA",0,{"$f":"IFERROR(VLOOKUP(C664,PivotESA!A:C,3,FALSE),\" \")","v":" "},0,{"$f":"IFERROR(VLOOKUP(C664,PivotGHRF!A:B,2,FALSE),\" \")","v":" "},"Not in TDSSA",0,{"$f":"IFERROR(VLOOKUP(C664,PivotGH!A:C,3,FALSE),\" \")","v":" "},0,{"$f":"IFERROR(VLOOKUP(C664,PivotGHRF!A:B,2,FALSE),\" \")","v":" "},"Not in TDSSA",0,{"$f":"IFERROR(VLOOKUP(C664,PivotGHRF!A:C,3,FALSE),\" \")","v":" "},0]
["Rugby Union","Rugby League (R)","Rugby Union - Rugby League (R)",{"$f":"IFERROR(VLOOKUP(C665,PivotGHRF!A:B,2,FALSE),\" \")","v":" "},"Not in TDSSA",0,{"$f":"IFERROR(VLOOKUP(C665,PivotESA!A:C,3,FALSE),\" \")","v":" "},0,{"$f":"IFERROR(VLOOKUP(C665,PivotGHRF!A:B,2,FALSE),\" \")","v":" "},"Not in TDSSA",0,{"$f":"IFERROR(VLOOKUP(C665,PivotGH!A:C,3,FALSE),\" \")","v":" "},0,{"$f":"IFERROR(VLOOKUP(C665,PivotGHRF!A:B,2,FALSE),\" \")","v":" "},"Not in TDSSA",0,{"$f":"IFERROR(VLOOKUP(C665,PivotGHRF!A:C,3,FALSE),\" \")","v":" "},0]
["Rugby Union","Sevens","Rugby Union - Sevens",{"$f":"IFERROR(VLOOKUP(C666,PivotGHRF!A:B,2,FALSE),\" \")","v":" "},0.1,0,{"$f":"IFERROR(VLOOKUP(C666,PivotESA!A:C,3,FALSE),\" \")","v":" "},0,{"$f":"IFERROR(VLOOKUP(C666,PivotGHRF!A:B,2,FALSE),\" \")","v":" "},0.1,0,{"$f":"IFERROR(VLOOKUP(C666,PivotGH!A:C,3,FALSE),\" \")","v":" "},0,{"$f":"IFERROR(VLOOKUP(C666,PivotGHRF!A:B,2,FALSE),\" \")","v":" "},0.1,0,{"$f":"IFERROR(VLOOKUP(C666,PivotGHRF!A:C,3,FALSE),\" \")","v":" "},0]
["Rugby Union","University Sevens","Rugby Union - University Sevens",{"$f":"IFERROR(VLOOKUP(C667,PivotGHRF!A:B,2,FALSE),\" \")","v":" "},"Not in TDSSA",0,{"$f":"IFERROR(VLOOKUP(C667,PivotESA!A:C,3,FALSE),\" \")","v":" "},0,{"$f":"IFERROR(VLOOKUP(C667,PivotGHRF!A:B,2,FALSE),\" \")","v":" "},"Not in TDSSA",0,{"$f":"IFERROR(VLOOKUP(C667,PivotGH!A:C,3,FALSE),\" \")","v":" "},0,{"$f":"IFERROR(VLOOKUP(C667,PivotGHRF!A:B,2,FALSE),\" \")","v":" "},"Not in TDSSA",0,{"$f":"IFERROR(VLOOKUP(C667,PivotGHRF!A:C,3,FALSE),\" \")","v":" "},0]
["Rugby Union","Fifteens","Rugby Union - Fifteens",{"$f":"IFERROR(VLOOKUP(C668,PivotGHRF!A:B,2,FALSE),\" \")","v":" "},0.1,0,{"$f":"IFERROR(VLOOKUP(C668,PivotESA!A:C,3,FALSE),\" \")","v":" "},0,{"$f":"IFERROR(VLOOKUP(C668,PivotGHRF!A:B,2,FALSE),\" \")","v":" "},0.1,0,{"$f":"IFERROR(VLOOKUP(C668,PivotGH!A:C,3,FALSE),\" \")","v":" "},0,{"$f":"IFERROR(VLOOKUP(C668,PivotGHRF!A:B,2,FALSE),\" \")","v":" "},0.1,0,{"$f":"IFERROR(VLOOKUP(C668,PivotGHRF!A:C,3,FALSE),\" \")","v":" "},0]
["Rugby Union","Beach Rugby","Rugby Union - Beach Rugby",{"$f":"IFERROR(VLOOKUP(C669,PivotGHRF!A:B,2,FALSE),\" \")","v":" "},"Not in TDSSA",0,{"$f":"IFERROR(VLOOKUP(C669,PivotESA!A:C,3,FALSE),\" \")","v":" "},0,{"$f":"IFERROR(VLOOKUP(C669,PivotGHRF!A:B,2,FALSE),\" \")","v":" "},"Not in TDSSA",0,{"$f":"IFERROR(VLOOKUP(C669,PivotGH!A:C,3,FALSE),\" \")","v":" "},0,{"$f":"IFERROR(VLOOKUP(C669,PivotGHRF!A:B,2,FALSE),\" \")","v":" "},"Not in TDSSA",0,{"$f":"IFERROR(VLOOKUP(C669,PivotGHRF!A:C,3,FALSE),\" \")","v":" "},0]
["Rugby Union","Touch Football (R)","Rugby Union - Touch Football (R)",{"$f":"IFERROR(VLOOKUP(C670,PivotGHRF!A:B,2,FALSE),\" \")","v":" "},"Not in TDSSA",0,{"$f":"IFERROR(VLOOKUP(C670,PivotESA!A:C,3,FALSE),\" \")","v":" "},0,{"$f":"IFERROR(VLOOKUP(C670,PivotGHRF!A:B,2,FALSE),\" \")","v":" "},"Not in TDSSA",0,{"$f":"IFERROR(VLOOKUP(C670,PivotGH!A:C,3,FALSE),\" \")","v":" "},0,{"$f":"IFERROR(VLOOKUP(C670,PivotGHRF!A:B,2,FALSE),\" \")","v":" "},"Not in TDSSA",0,{"$f":"IFERROR(VLOOKUP(C670,PivotGHRF!A:C,3,FALSE),\" \")","v":" "},0]
["Rugby Union","University","Rugby Union - University",{"$f":"IFERROR(VLOOKUP(C671,PivotGHRF!A:B,2,FALSE),\" \")","v":" "},"Not in TDSSA",0,{"$f":"IFERROR(VLOOKUP(C671,PivotESA!A:C,3,FALSE),\" \")","v":" "},0,{"$f":"IFERROR(VLOOKUP(C671,PivotGHRF!A:B,2,FALSE),\" \")","v":" "},"Not in TDSSA",0,{"$f":"IFERROR(VLOOKUP(C671,PivotGH!A:C,3,FALSE),\" \")","v":" "},0,{"$f":"IFERROR(VLOOKUP(C671,PivotGHRF!A:B,2,FALSE),\" \")","v":" "},"Not in TDSSA",0,{"$f":"IFERROR(VLOOKUP(C671,PivotGHRF!A:C,3,FALSE),\" \")","v":" "},0]
["Rugby Union","Wheelchair Rugby","Rugby Union - Wheelchair Rugby",{"$f":"IFERROR(VLOOKUP(C672,PivotGHRF!A:B,2,FALSE),\" \")","v":" "},0.05,0,{"$f":"IFERROR(VLOOKUP(C672,PivotESA!A:C,3,FALSE),\" \")","v":" "},0,{"$f":"IFERROR(VLOOKUP(C672,PivotGHRF!A:B,2,FALSE),\" \")","v":" "},0.05,0,{"$f":"IFERROR(VLOOKUP(C672,PivotGH!A:C,3,FALSE),\" \")","v":" "},0,{"$f":"IFERROR(VLOOKUP(C672,PivotGHRF!A:B,2,FALSE),\" \")","v":" "},0.05,0,{"$f":"IFERROR(VLOOKUP(C672,PivotGHRF!A:C,3,FALSE),\" \")","v":" "},0]
["Sailing","Laser","Sailing - Laser",{"$f":"IFERROR(VLOOKUP(C673,PivotGHRF!A:B,2,FALSE),\" \")","v":" "},0.05,0,{"$f":"IFERROR(VLOOKUP(C673,PivotESA!A:C,3,FALSE),\" \")","v":" "},0,{"$f":"IFERROR(VLOOKUP(C673,PivotGHRF!A:B,2,FALSE),\" \")","v":" "},0.05,0,{"$f":"IFERROR(VLOOKUP(C673,PivotGH!A:C,3,FALSE),\" \")","v":" "},0,{"$f":"IFERROR(VLOOKUP(C673,PivotGHRF!A:B,2,FALSE),\" \")","v":" "},0.05,0,{"$f":"IFERROR(VLOOKUP(C673,PivotGHRF!A:C,3,FALSE),\" \")","v":" "},0]
["Sailing","Military Sailing","Sailing - Military Sailing",{"$f":"IFERROR(VLOOKUP(C674,PivotGHRF!A:B,2,FALSE),\" \")","v":" "},"Not in TDSSA",0,{"$f":"IFERROR(VLOOKUP(C674,PivotESA!A:C,3,FALSE),\" \")","v":" "},0,{"$f":"IFERROR(VLOOKUP(C674,PivotGHRF!A:B,2,FALSE),\" \")","v":" "},"Not in TDSSA",0,{"$f":"IFERROR(VLOOKUP(C674,PivotGH!A:C,3,FALSE),\" \")","v":" "},0,{"$f":"IFERROR(VLOOKUP(C674,PivotGHRF!A:B,2,FALSE),\" \")","v":" "},"Not in TDSSA",0,{"$f":"IFERROR(VLOOKUP(C674,PivotGHRF!A:C,3,FALSE),\" \")","v":" "},0]
["Sailing","Sailing","Sailing - Sailing",{"$f":"IFERROR(VLOOKUP(C675,PivotGHRF!A:B,2,FALSE),\" \")","v":" "},0.05,0,{"$f":"IFERROR(VLOOKUP(C675,PivotESA!A:C,3,FALSE),\" \")","v":" "},0,{"$f":"IFERROR(VLOOKUP(C675,PivotGHRF!A:B,2,FALSE),\" \")","v":" "},0.05,0,{"$f":"IFERROR(VLOOKUP(C675,PivotGH!A:C,3,FALSE),\" \")","v":" "},0,{"$f":"IFERROR(VLOOKUP(C675,PivotGHRF!A:B,2,FALSE),\" \")","v":" "},0.05,0,{"$f":"IFERROR(VLOOKUP(C675,PivotGHRF!A:C,3,FALSE),\" \")","v":" "},0]
["Sailing","470 crew","Sailing - 470 crew",{"$f":"IFERROR(VLOOKUP(C676,PivotGHRF!A:B,2,FALSE),\" \")","v":" "},0.05,0,{"$f":"IFERROR(VLOOKUP(C676,PivotESA!A:C,3,FALSE),\" \")","v":" "},0,{"$f":"IFERROR(VLOOKUP(C676,PivotGHRF!A:B,2,FALSE),\" \")","v":" "},0.05,0,{"$f":"IFERROR(VLOOKUP(C676,PivotGH!A:C,3,FALSE),\" \")","v":" "},0,{"$f":"IFERROR(VLOOKUP(C676,PivotGHRF!A:B,2,FALSE),\" \")","v":" "},0.05,0,{"$f":"IFERROR(VLOOKUP(C676,PivotGHRF!A:C,3,FALSE),\" \")","v":" "},0]
["Sailing","470 helm","Sailing - 470 helm",{"$f":"IFERROR(VLOOKUP(C677,PivotGHRF!A:B,2,FALSE),\" \")","v":" "},0.05,0,{"$f":"IFERROR(VLOOKUP(C677,PivotESA!A:C,3,FALSE),\" \")","v":" "},0,{"$f":"IFERROR(VLOOKUP(C677,PivotGHRF!A:B,2,FALSE),\" \")","v":" "},0.05,0,{"$f":"IFERROR(VLOOKUP(C677,PivotGH!A:C,3,FALSE),\" \")","v":" "},0,{"$f":"IFERROR(VLOOKUP(C677,PivotGHRF!A:B,2,FALSE),\" \")","v":" "},0.05,0,{"$f":"IFERROR(VLOOKUP(C677,PivotGHRF!A:C,3,FALSE),\" \")","v":" "},0]
["Sailing","49erFX","Sailing - 49erFX",{"$f":"IFERROR(VLOOKUP(C678,PivotGHRF!A:B,2,FALSE),\" \")","v":" "},0.05,0,{"$f":"IFERROR(VLOOKUP(C678,PivotESA!A:C,3,FALSE),\" \")","v":" "},0,{"$f":"IFERROR(VLOOKUP(C678,PivotGHRF!A:B,2,FALSE),\" \")","v":" "},0.05,0,{"$f":"IFERROR(VLOOKUP(C678,PivotGH!A:C,3,FALSE),\" \")","v":" "},0,{"$f":"IFERROR(VLOOKUP(C678,PivotGHRF!A:B,2,FALSE),\" \")","v":" "},0.05,0,{"$f":"IFERROR(VLOOKUP(C678,PivotGHRF!A:C,3,FALSE),\" \")","v":" "},0]
["Sailing","49er crew","Sailing - 49er crew",{"$f":"IFERROR(VLOOKUP(C679,PivotGHRF!A:B,2,FALSE),\" \")","v":" "},0.05,0,{"$f":"IFERROR(VLOOKUP(C679,PivotESA!A:C,3,FALSE),\" \")","v":" "},0,{"$f":"IFERROR(VLOOKUP(C679,PivotGHRF!A:B,2,FALSE),\" \")","v":" "},0.05,0,{"$f":"IFERROR(VLOOKUP(C679,PivotGH!A:C,3,FALSE),\" \")","v":" "},0,{"$f":"IFERROR(VLOOKUP(C679,PivotGHRF!A:B,2,FALSE),\" \")","v":" "},0.05,0,{"$f":"IFERROR(VLOOKUP(C679,PivotGHRF!A:C,3,FALSE),\" \")","v":" "},0]
["Sailing","49er helm","Sailing - 49er helm",{"$f":"IFERROR(VLOOKUP(C680,PivotGHRF!A:B,2,FALSE),\" \")","v":" "},0.05,0,{"$f":"IFERROR(VLOOKUP(C680,PivotESA!A:C,3,FALSE),\" \")","v":" "},0,{"$f":"IFERROR(VLOOKUP(C680,PivotGHRF!A:B,2,FALSE),\" \")","v":" "},0.05,0,{"$f":"IFERROR(VLOOKUP(C680,PivotGH!A:C,3,FALSE),\" \")","v":" "},0,{"$f":"IFERROR(VLOOKUP(C680,PivotGHRF!A:B,2,FALSE),\" \")","v":" "},0.05,0,{"$f":"IFERROR(VLOOKUP(C680,PivotGHRF!A:C,3,FALSE),\" \")","v":" "},0]
["Sailing","Elliot","Sailing - Elliot",{"$f":"IFERROR(VLOOKUP(C681,PivotGHRF!A:B,2,FALSE),\" \")","v":" "},0.05,0,{"$f":"IFERROR(VLOOKUP(C681,PivotESA!A:C,3,FALSE),\" \")","v":" "},0,{"$f":"IFERROR(VLOOKUP(C681,PivotGHRF!A:B,2,FALSE),\" \")","v":" "},0.05,0,{"$f":"IFERROR(VLOOKUP(C681,PivotGH!A:C,3,FALSE),\" \")","v":" "},0,{"$f":"IFERROR(VLOOKUP(C681,PivotGHRF!A:B,2,FALSE),\" \")","v":" "},0.05,0,{"$f":"IFERROR(VLOOKUP(C681,PivotGHRF!A:C,3,FALSE),\" \")","v":" "},0]
["Sailing","Finn","Sailing - Finn",{"$f":"IFERROR(VLOOKUP(C682,PivotGHRF!A:B,2,FALSE),\" \")","v":" "},0.05,0,{"$f":"IFERROR(VLOOKUP(C682,PivotESA!A:C,3,FALSE),\" \")","v":" "},0,{"$f":"IFERROR(VLOOKUP(C682,PivotGHRF!A:B,2,FALSE),\" \")","v":" "},0.05,0,{"$f":"IFERROR(VLOOKUP(C682,PivotGH!A:C,3,FALSE),\" \")","v":" "},0,{"$f":"IFERROR(VLOOKUP(C682,PivotGHRF!A:B,2,FALSE),\" \")","v":" "},0.05,0,{"$f":"IFERROR(VLOOKUP(C682,PivotGHRF!A:C,3,FALSE),\" \")","v":" "},0]
["Sailing","Laser-R","Sailing - Laser-R",{"$f":"IFERROR(VLOOKUP(C683,PivotGHRF!A:B,2,FALSE),\" \")","v":" "},0.05,0,{"$f":"IFERROR(VLOOKUP(C683,PivotESA!A:C,3,FALSE),\" \")","v":" "},0,{"$f":"IFERROR(VLOOKUP(C683,PivotGHRF!A:B,2,FALSE),\" \")","v":" "},0.05,0,{"$f":"IFERROR(VLOOKUP(C683,PivotGH!A:C,3,FALSE),\" \")","v":" "},0,{"$f":"IFERROR(VLOOKUP(C683,PivotGHRF!A:B,2,FALSE),\" \")","v":" "},0.05,0,{"$f":"IFERROR(VLOOKUP(C683,PivotGHRF!A:C,3,FALSE),\" \")","v":" "},0]
["Sailing","Laser-S","Sailing - Laser-S",{"$f":"IFERROR(VLOOKUP(C684,PivotGHRF!A:B,2,FALSE),\" \")","v":" "},0.05,0,{"$f":"IFERROR(VLOOKUP(C684,PivotESA!A:C,3,FALSE),\" \")","v":" "},0,{"$f":"IFERROR(VLOOKUP(C684,PivotGHRF!A:B,2,FALSE),\" \")","v":" "},0.05,0,{"$f":"IFERROR(VLOOKUP(C684,PivotGH!A:C,3,FALSE),\" \")","v":" "},0,{"$f":"IFERROR(VLOOKUP(C684,PivotGHRF!A:B,2,FALSE),\" \")","v":" "},0.05,0,{"$f":"IFERROR(VLOOKUP(C684,PivotGHRF!A:C,3,FALSE),\" \")","v":" "},0]
["Sailing","Match Racing","Sailing - Match Racing",{"$f":"IFERROR(VLOOKUP(C685,PivotGHRF!A:B,2,FALSE),\" \")","v":" "},0.05,0,{"$f":"IFERROR(VLOOKUP(C685,PivotESA!A:C,3,FALSE),\" \")","v":" "},0,{"$f":"IFERROR(VLOOKUP(C685,PivotGHRF!A:B,2,FALSE),\" \")","v":" "},0.05,0,{"$f":"IFERROR(VLOOKUP(C685,PivotGH!A:C,3,FALSE),\" \")","v":" "},0,{"$f":"IFERROR(VLOOKUP(C685,PivotGHRF!A:B,2,FALSE),\" \")","v":" "},0.05,0,{"$f":"IFERROR(VLOOKUP(C685,PivotGHRF!A:C,3,FALSE),\" \")","v":" "},0]
["Sailing","NACRA 17","Sailing - NACRA 17",{"$f":"IFERROR(VLOOKUP(C686,PivotGHRF!A:B,2,FALSE),\" \")","v":" "},0.05,0,{"$f":"IFERROR(VLOOKUP(C686,PivotESA!A:C,3,FALSE),\" \")","v":" "},0,{"$f":"IFERROR(VLOOKUP(C686,PivotGHRF!A:B,2,FALSE),\" \")","v":" "},0.05,0,{"$f":"IFERROR(VLOOKUP(C686,PivotGH!A:C,3,FALSE),\" \")","v":" "},0,{"$f":"IFERROR(VLOOKUP(C686,PivotGHRF!A:B,2,FALSE),\" \")","v":" "},0.05,0,{"$f":"IFERROR(VLOOKUP(C686,PivotGHRF!A:C,3,FALSE),\" \")","v":" "},0]
["Sailing","Para-Sailing","Sailing - Para-Sailing",{"$f":"IFERROR(VLOOKUP(C687,PivotGHRF!A:B,2,FALSE),\" \")","v":" "},0,0,{"$f":"IFERROR(VLOOKUP(C687,PivotESA!A:C,3,FALSE),\" \")","v":" "},0,{"$f":"IFERROR(VLOOKUP(C687,PivotGHRF!A:B,2,FALSE),\" \")","v":" "},0,0,{"$f":"IFERROR(VLOOKUP(C687,PivotGH!A:C,3,FALSE),\" \")","v":" "},0,{"$f":"IFERROR(VLOOKUP(C687,PivotGHRF!A:B,2,FALSE),\" \")","v":" "},0,0,{"$f":"IFERROR(VLOOKUP(C687,PivotGHRF!A:C,3,FALSE),\" \")","v":" "},0]
["Sailing","RS:X","Sailing - RS:X",{"$f":"IFERROR(VLOOKUP(C688,PivotGHRF!A:B,2,FALSE),\" \")","v":" "},0.05,0,{"$f":"IFERROR(VLOOKUP(C688,PivotESA!A:C,3,FALSE),\" \")","v":" "},0,{"$f":"IFERROR(VLOOKUP(C688,PivotGHRF!A:B,2,FALSE),\" \")","v":" "},0.05,0,{"$f":"IFERROR(VLOOKUP(C688,PivotGH!A:C,3,FALSE),\" \")","v":" "},0,{"$f":"IFERROR(VLOOKUP(C688,PivotGHRF!A:B,2,FALSE),\" \")","v":" "},0.05,0,{"$f":"IFERROR(VLOOKUP(C688,PivotGHRF!A:C,3,FALSE),\" \")","v":" "},0]
["Sailing","Star","Sailing - Star",{"$f":"IFERROR(VLOOKUP(C689,PivotGHRF!A:B,2,FALSE),\" \")","v":" "},0.05,0,{"$f":"IFERROR(VLOOKUP(C689,PivotESA!A:C,3,FALSE),\" \")","v":" "},0,{"$f":"IFERROR(VLOOKUP(C689,PivotGHRF!A:B,2,FALSE),\" \")","v":" "},0.05,0,{"$f":"IFERROR(VLOOKUP(C689,PivotGH!A:C,3,FALSE),\" \")","v":" "},0,{"$f":"IFERROR(VLOOKUP(C689,PivotGHRF!A:B,2,FALSE),\" \")","v":" "},0.05,0,{"$f":"IFERROR(VLOOKUP(C689,PivotGHRF!A:C,3,FALSE),\" \")","v":" "},0]
["Sailing","University","Sailing - University",{"$f":"IFERROR(VLOOKUP(C690,PivotGHRF!A:B,2,FALSE),\" \")","v":" "},"Not in TDSSA",0,{"$f":"IFERROR(VLOOKUP(C690,PivotESA!A:C,3,FALSE),\" \")","v":" "},0,{"$f":"IFERROR(VLOOKUP(C690,PivotGHRF!A:B,2,FALSE),\" \")","v":" "},"Not in TDSSA",0,{"$f":"IFERROR(VLOOKUP(C690,PivotGH!A:C,3,FALSE),\" \")","v":" "},0,{"$f":"IFERROR(VLOOKUP(C690,PivotGHRF!A:B,2,FALSE),\" \")","v":" "},"Not in TDSSA",0,{"$f":"IFERROR(VLOOKUP(C690,PivotGHRF!A:C,3,FALSE),\" \")","v":" "},0]
["Sailing","University Match Racing","Sailing - University Match Racing",{"$f":"IFERROR(VLOOKUP(C691,PivotGHRF!A:B,2,FALSE),\" \")","v":" "},"Not in TDSSA",0,{"$f":"IFERROR(VLOOKUP(C691,PivotESA!A:C,3,FALSE),\" \")","v":" "},0,{"$f":"IFERROR(VLOOKUP(C691,PivotGHRF!A:B,2,FALSE),\" \")","v":" "},"Not in TDSSA",0,{"$f":"IFERROR(VLOOKUP(C691,PivotGH!A:C,3,FALSE),\" \")","v":" "},0,{"$f":"IFERROR(VLOOKUP(C691,PivotGHRF!A:B,2,FALSE),\" \")","v":" "},"Not in TDSSA",0,{"$f":"IFERROR(VLOOKUP(C691,PivotGHRF!A:C,3,FALSE),\" \")","v":" "},0]
["Sailing","Sonar","Sailing - Sonar",{"$f":"IFERROR(VLOOKUP(C692,PivotGHRF!A:B,2,FALSE),\" \")","v":" "},0.05,0,{"$f":"IFERROR(VLOOKUP(C692,PivotESA!A:C,3,FALSE),\" \")","v":" "},0,{"$f":"IFERROR(VLOOKUP(C692,PivotGHRF!A:B,2,FALSE),\" \")","v":" "},0.05,0,{"$f":"IFERROR(VLOOKUP(C692,PivotGH!A:C,3,FALSE),\" \")","v":" "},0,{"$f":"IFERROR(VLOOKUP(C692,PivotGHRF!A:B,2,FALSE),\" \")","v":" "},0.05,0,{"$f":"IFERROR(VLOOKUP(C692,PivotGHRF!A:C,3,FALSE),\" \")","v":" "},0]
["Sambo","Sambo","Sambo - Sambo",{"$f":"IFERROR(VLOOKUP(C693,PivotGHRF!A:B,2,FALSE),\" \")","v":" "},0.1,0,{"$f":"IFERROR(VLOOKUP(C693,PivotESA!A:C,3,FALSE),\" \")","v":" "},0,{"$f":"IFERROR(VLOOKUP(C693,PivotGHRF!A:B,2,FALSE),\" \")","v":" "},0.1,0,{"$f":"IFERROR(VLOOKUP(C693,PivotGH!A:C,3,FALSE),\" \")","v":" "},0,{"$f":"IFERROR(VLOOKUP(C693,PivotGHRF!A:B,2,FALSE),\" \")","v":" "},0.1,0,{"$f":"IFERROR(VLOOKUP(C693,PivotGHRF!A:C,3,FALSE),\" \")","v":" "},0]
["Sambo","University","Sambo - University",{"$f":"IFERROR(VLOOKUP(C694,PivotGHRF!A:B,2,FALSE),\" \")","v":" "},"Not in TDSSA",0,{"$f":"IFERROR(VLOOKUP(C694,PivotESA!A:C,3,FALSE),\" \")","v":" "},0,{"$f":"IFERROR(VLOOKUP(C694,PivotGHRF!A:B,2,FALSE),\" \")","v":" "},"Not in TDSSA",0,{"$f":"IFERROR(VLOOKUP(C694,PivotGH!A:C,3,FALSE),\" \")","v":" "},0,{"$f":"IFERROR(VLOOKUP(C694,PivotGHRF!A:B,2,FALSE),\" \")","v":" "},"Not in TDSSA",0,{"$f":"IFERROR(VLOOKUP(C694,PivotGHRF!A:C,3,FALSE),\" \")","v":" "},0]
["Savate","Savate","Savate - Savate",{"$f":"IFERROR(VLOOKUP(C695,PivotGHRF!A:B,2,FALSE),\" \")","v":" "},0.1,0,{"$f":"IFERROR(VLOOKUP(C695,PivotESA!A:C,3,FALSE),\" \")","v":" "},0,{"$f":"IFERROR(VLOOKUP(C695,PivotGHRF!A:B,2,FALSE),\" \")","v":" "},0.1,0,{"$f":"IFERROR(VLOOKUP(C695,PivotGH!A:C,3,FALSE),\" \")","v":" "},0,{"$f":"IFERROR(VLOOKUP(C695,PivotGHRF!A:B,2,FALSE),\" \")","v":" "},0.1,0,{"$f":"IFERROR(VLOOKUP(C695,PivotGHRF!A:C,3,FALSE),\" \")","v":" "},0]
["Savate","Savate Assaut","Savate - Savate Assaut",{"$f":"IFERROR(VLOOKUP(C696,PivotGHRF!A:B,2,FALSE),\" \")","v":" "},0.1,0,{"$f":"IFERROR(VLOOKUP(C696,PivotESA!A:C,3,FALSE),\" \")","v":" "},0,{"$f":"IFERROR(VLOOKUP(C696,PivotGHRF!A:B,2,FALSE),\" \")","v":" "},0.1,0,{"$f":"IFERROR(VLOOKUP(C696,PivotGH!A:C,3,FALSE),\" \")","v":" "},0,{"$f":"IFERROR(VLOOKUP(C696,PivotGHRF!A:B,2,FALSE),\" \")","v":" "},0.1,0,{"$f":"IFERROR(VLOOKUP(C696,PivotGHRF!A:C,3,FALSE),\" \")","v":" "},0]
["Savate","Savate Combat","Savate - Savate Combat",{"$f":"IFERROR(VLOOKUP(C697,PivotGHRF!A:B,2,FALSE),\" \")","v":" "},0.1,0,{"$f":"IFERROR(VLOOKUP(C697,PivotESA!A:C,3,FALSE),\" \")","v":" "},0,{"$f":"IFERROR(VLOOKUP(C697,PivotGHRF!A:B,2,FALSE),\" \")","v":" "},0.1,0,{"$f":"IFERROR(VLOOKUP(C697,PivotGH!A:C,3,FALSE),\" \")","v":" "},0,{"$f":"IFERROR(VLOOKUP(C697,PivotGHRF!A:B,2,FALSE),\" \")","v":" "},0.1,0,{"$f":"IFERROR(VLOOKUP(C697,PivotGHRF!A:C,3,FALSE),\" \")","v":" "},0]
["Savate","Savate de Combat","Savate - Savate de Combat",{"$f":"IFERROR(VLOOKUP(C698,PivotGHRF!A:B,2,FALSE),\" \")","v":" "},0.1,0,{"$f":"IFERROR(VLOOKUP(C698,PivotESA!A:C,3,FALSE),\" \")","v":" "},0,{"$f":"IFERROR(VLOOKUP(C698,PivotGHRF!A:B,2,FALSE),\" \")","v":" "},0.1,0,{"$f":"IFERROR(VLOOKUP(C698,PivotGH!A:C,3,FALSE),\" \")","v":" "},0,{"$f":"IFERROR(VLOOKUP(C698,PivotGHRF!A:B,2,FALSE),\" \")","v":" "},0.1,0,{"$f":"IFERROR(VLOOKUP(C698,PivotGHRF!A:C,3,FALSE),\" \")","v":" "},0]
["Savate","University","Savate - University",{"$f":"IFERROR(VLOOKUP(C699,PivotGHRF!A:B,2,FALSE),\" \")","v":" "},"Not in TDSSA",0,{"$f":"IFERROR(VLOOKUP(C699,PivotESA!A:C,3,FALSE),\" \")","v":" "},0,{"$f":"IFERROR(VLOOKUP(C699,PivotGHRF!A:B,2,FALSE),\" \")","v":" "},"Not in TDSSA",0,{"$f":"IFERROR(VLOOKUP(C699,PivotGH!A:C,3,FALSE),\" \")","v":" "},0,{"$f":"IFERROR(VLOOKUP(C699,PivotGHRF!A:B,2,FALSE),\" \")","v":" "},"Not in TDSSA",0,{"$f":"IFERROR(VLOOKUP(C699,PivotGHRF!A:C,3,FALSE),\" \")","v":" "},0]
["School Sports","Athletics","School Sports - Athletics",{"$f":"IFERROR(VLOOKUP(C700,PivotGHRF!A:B,2,FALSE),\" \")","v":" "},"Not in TDSSA",0,{"$f":"IFERROR(VLOOKUP(C700,PivotESA!A:C,3,FALSE),\" \")","v":" "},0,{"$f":"IFERROR(VLOOKUP(C700,PivotGHRF!A:B,2,FALSE),\" \")","v":" "},"Not in TDSSA",0,{"$f":"IFERROR(VLOOKUP(C700,PivotGH!A:C,3,FALSE),\" \")","v":" "},0,{"$f":"IFERROR(VLOOKUP(C700,PivotGHRF!A:B,2,FALSE),\" \")","v":" "},"Not in TDSSA",0,{"$f":"IFERROR(VLOOKUP(C700,PivotGHRF!A:C,3,FALSE),\" \")","v":" "},0]
["School Sports","Athletics Combined Events","School Sports - Athletics Combined Events",{"$f":"IFERROR(VLOOKUP(C701,PivotGHRF!A:B,2,FALSE),\" \")","v":" "},"Not in TDSSA",0,{"$f":"IFERROR(VLOOKUP(C701,PivotESA!A:C,3,FALSE),\" \")","v":" "},0,{"$f":"IFERROR(VLOOKUP(C701,PivotGHRF!A:B,2,FALSE),\" \")","v":" "},"Not in TDSSA",0,{"$f":"IFERROR(VLOOKUP(C701,PivotGH!A:C,3,FALSE),\" \")","v":" "},0,{"$f":"IFERROR(VLOOKUP(C701,PivotGHRF!A:B,2,FALSE),\" \")","v":" "},"Not in TDSSA",0,{"$f":"IFERROR(VLOOKUP(C701,PivotGHRF!A:C,3,FALSE),\" \")","v":" "},0]
["School Sports","Athletics Jumps","School Sports - Athletics Jumps",{"$f":"IFERROR(VLOOKUP(C702,PivotGHRF!A:B,2,FALSE),\" \")","v":" "},"Not in TDSSA",0,{"$f":"IFERROR(VLOOKUP(C702,PivotESA!A:C,3,FALSE),\" \")","v":" "},0,{"$f":"IFERROR(VLOOKUP(C702,PivotGHRF!A:B,2,FALSE),\" \")","v":" "},"Not in TDSSA",0,{"$f":"IFERROR(VLOOKUP(C702,PivotGH!A:C,3,FALSE),\" \")","v":" "},0,{"$f":"IFERROR(VLOOKUP(C702,PivotGHRF!A:B,2,FALSE),\" \")","v":" "},"Not in TDSSA",0,{"$f":"IFERROR(VLOOKUP(C702,PivotGHRF!A:C,3,FALSE),\" \")","v":" "},0]
["School Sports","Athletics Long distance 3000m or greater","School Sports - Athletics Long distance 3000m or greater",{"$f":"IFERROR(VLOOKUP(C703,PivotGHRF!A:B,2,FALSE),\" \")","v":" "},"Not in TDSSA",0,{"$f":"IFERROR(VLOOKUP(C703,PivotESA!A:C,3,FALSE),\" \")","v":" "},0,{"$f":"IFERROR(VLOOKUP(C703,PivotGHRF!A:B,2,FALSE),\" \")","v":" "},"Not in TDSSA",0,{"$f":"IFERROR(VLOOKUP(C703,PivotGH!A:C,3,FALSE),\" \")","v":" "},0,{"$f":"IFERROR(VLOOKUP(C703,PivotGHRF!A:B,2,FALSE),\" \")","v":" "},"Not in TDSSA",0,{"$f":"IFERROR(VLOOKUP(C703,PivotGHRF!A:C,3,FALSE),\" \")","v":" "},0]
["School Sports","Athletics Middle Distance 800-1500m","School Sports - Athletics Middle Distance 800-1500m",{"$f":"IFERROR(VLOOKUP(C704,PivotGHRF!A:B,2,FALSE),\" \")","v":" "},"Not in TDSSA",0,{"$f":"IFERROR(VLOOKUP(C704,PivotESA!A:C,3,FALSE),\" \")","v":" "},0,{"$f":"IFERROR(VLOOKUP(C704,PivotGHRF!A:B,2,FALSE),\" \")","v":" "},"Not in TDSSA",0,{"$f":"IFERROR(VLOOKUP(C704,PivotGH!A:C,3,FALSE),\" \")","v":" "},0,{"$f":"IFERROR(VLOOKUP(C704,PivotGHRF!A:B,2,FALSE),\" \")","v":" "},"Not in TDSSA",0,{"$f":"IFERROR(VLOOKUP(C704,PivotGHRF!A:C,3,FALSE),\" \")","v":" "},0]
["School Sports","Swimming","School Sports - Swimming",{"$f":"IFERROR(VLOOKUP(C705,PivotGHRF!A:B,2,FALSE),\" \")","v":" "},"Not in TDSSA",0,{"$f":"IFERROR(VLOOKUP(C705,PivotESA!A:C,3,FALSE),\" \")","v":" "},0,{"$f":"IFERROR(VLOOKUP(C705,PivotGHRF!A:B,2,FALSE),\" \")","v":" "},"Not in TDSSA",0,{"$f":"IFERROR(VLOOKUP(C705,PivotGH!A:C,3,FALSE),\" \")","v":" "},0,{"$f":"IFERROR(VLOOKUP(C705,PivotGHRF!A:B,2,FALSE),\" \")","v":" "},"Not in TDSSA",0,{"$f":"IFERROR(VLOOKUP(C705,PivotGHRF!A:C,3,FALSE),\" \")","v":" "},0]
["School Sports","Athletics Sprint 400m or less","School Sports - Athletics Sprint 400m or less",{"$f":"IFERROR(VLOOKUP(C706,PivotGHRF!A:B,2,FALSE),\" \")","v":" "},"Not in TDSSA",0,{"$f":"IFERROR(VLOOKUP(C706,PivotESA!A:C,3,FALSE),\" \")","v":" "},0,{"$f":"IFERROR(VLOOKUP(C706,PivotGHRF!A:B,2,FALSE),\" \")","v":" "},"Not in TDSSA",0,{"$f":"IFERROR(VLOOKUP(C706,PivotGH!A:C,3,FALSE),\" \")","v":" "},0,{"$f":"IFERROR(VLOOKUP(C706,PivotGHRF!A:B,2,FALSE),\" \")","v":" "},"Not in TDSSA",0,{"$f":"IFERROR(VLOOKUP(C706,PivotGHRF!A:C,3,FALSE),\" \")","v":" "},0]
["School Sports","Athletics Throws","School Sports - Athletics Throws",{"$f":"IFERROR(VLOOKUP(C707,PivotGHRF!A:B,2,FALSE),\" \")","v":" "},"Not in TDSSA",0,{"$f":"IFERROR(VLOOKUP(C707,PivotESA!A:C,3,FALSE),\" \")","v":" "},0,{"$f":"IFERROR(VLOOKUP(C707,PivotGHRF!A:B,2,FALSE),\" \")","v":" "},"Not in TDSSA",0,{"$f":"IFERROR(VLOOKUP(C707,PivotGH!A:C,3,FALSE),\" \")","v":" "},0,{"$f":"IFERROR(VLOOKUP(C707,PivotGHRF!A:B,2,FALSE),\" \")","v":" "},"Not in TDSSA",0,{"$f":"IFERROR(VLOOKUP(C707,PivotGHRF!A:C,3,FALSE),\" \")","v":" "},0]
["School Sports","Basketball","School Sports - Basketball",{"$f":"IFERROR(VLOOKUP(C708,PivotGHRF!A:B,2,FALSE),\" \")","v":" "},"Not in TDSSA",0,{"$f":"IFERROR(VLOOKUP(C708,PivotESA!A:C,3,FALSE),\" \")","v":" "},0,{"$f":"IFERROR(VLOOKUP(C708,PivotGHRF!A:B,2,FALSE),\" \")","v":" "},"Not in TDSSA",0,{"$f":"IFERROR(VLOOKUP(C708,PivotGH!A:C,3,FALSE),\" \")","v":" "},0,{"$f":"IFERROR(VLOOKUP(C708,PivotGHRF!A:B,2,FALSE),\" \")","v":" "},"Not in TDSSA",0,{"$f":"IFERROR(VLOOKUP(C708,PivotGHRF!A:C,3,FALSE),\" \")","v":" "},0]
["School Sports","Badminton","School Sports - Badminton",{"$f":"IFERROR(VLOOKUP(C709,PivotGHRF!A:B,2,FALSE),\" \")","v":" "},"Not in TDSSA",0,{"$f":"IFERROR(VLOOKUP(C709,PivotESA!A:C,3,FALSE),\" \")","v":" "},0,{"$f":"IFERROR(VLOOKUP(C709,PivotGHRF!A:B,2,FALSE),\" \")","v":" "},"Not in TDSSA",0,{"$f":"IFERROR(VLOOKUP(C709,PivotGH!A:C,3,FALSE),\" \")","v":" "},0,{"$f":"IFERROR(VLOOKUP(C709,PivotGHRF!A:B,2,FALSE),\" \")","v":" "},"Not in TDSSA",0,{"$f":"IFERROR(VLOOKUP(C709,PivotGHRF!A:C,3,FALSE),\" \")","v":" "},0]
["School Sports","Beach Volleyball","School Sports - Beach Volleyball",{"$f":"IFERROR(VLOOKUP(C710,PivotGHRF!A:B,2,FALSE),\" \")","v":" "},"Not in TDSSA",0,{"$f":"IFERROR(VLOOKUP(C710,PivotESA!A:C,3,FALSE),\" \")","v":" "},0,{"$f":"IFERROR(VLOOKUP(C710,PivotGHRF!A:B,2,FALSE),\" \")","v":" "},"Not in TDSSA",0,{"$f":"IFERROR(VLOOKUP(C710,PivotGH!A:C,3,FALSE),\" \")","v":" "},0,{"$f":"IFERROR(VLOOKUP(C710,PivotGHRF!A:B,2,FALSE),\" \")","v":" "},"Not in TDSSA",0,{"$f":"IFERROR(VLOOKUP(C710,PivotGHRF!A:C,3,FALSE),\" \")","v":" "},0]
["School Sports","Beach Handball","School Sports - Beach Handball",{"$f":"IFERROR(VLOOKUP(C711,PivotGHRF!A:B,2,FALSE),\" \")","v":" "},"Not in TDSSA",0,{"$f":"IFERROR(VLOOKUP(C711,PivotESA!A:C,3,FALSE),\" \")","v":" "},{"$f":"IFERROR(F711-G711,0)","v":0},{"$f":"IFERROR(VLOOKUP(C711,PivotGHRF!A:B,2,FALSE),\" \")","v":" "},"Not in TDSSA",0,{"$f":"IFERROR(VLOOKUP(C711,PivotGH!A:C,3,FALSE),\" \")","v":" "},{"$f":"IFERROR(K711-L711,0)","v":0},{"$f":"IFERROR(VLOOKUP(C711,PivotGHRF!A:B,2,FALSE),\" \")","v":" "},"Not in TDSSA",0,{"$f":"IFERROR(VLOOKUP(C711,PivotGHRF!A:C,3,FALSE),\" \")","v":" "},{"$f":"IFERROR(P711-Q711,0)","v":0}]
["School Sports","Cross-Country","School Sports - Cross-Country",{"$f":"IFERROR(VLOOKUP(C712,PivotGHRF!A:B,2,FALSE),\" \")","v":" "},"Not in TDSSA",{"$f":"IFERROR(ROUNDUP(E712*D712,0),0)","v":0},{"$f":"IFERROR(VLOOKUP(C712,PivotESA!A:C,3,FALSE),\" \")","v":" "},0,{"$f":"IFERROR(VLOOKUP(C712,PivotGHRF!A:B,2,FALSE),\" \")","v":" "},"Not in TDSSA",{"$f":"IFERROR(ROUNDUP(J712*I712,0),0)","v":0},{"$f":"IFERROR(VLOOKUP(C712,PivotGH!A:C,3,FALSE),\" \")","v":" "},0,{"$f":"IFERROR(VLOOKUP(C712,PivotGHRF!A:B,2,FALSE),\" \")","v":" "},"Not in TDSSA",{"$f":"IFERROR(ROUNDUP(O712*N712,0),0)","v":0},{"$f":"IFERROR(VLOOKUP(C712,PivotGHRF!A:C,3,FALSE),\" \")","v":" "},0]
["School Sports","Floorball","School Sports - Floorball",{"$f":"IFERROR(VLOOKUP(C713,PivotGHRF!A:B,2,FALSE),\" \")","v":" "},"Not in TDSSA",0,{"$f":"IFERROR(VLOOKUP(C713,PivotESA!A:C,3,FALSE),\" \")","v":" "},0,{"$f":"IFERROR(VLOOKUP(C713,PivotGHRF!A:B,2,FALSE),\" \")","v":" "},"Not in TDSSA",0,{"$f":"IFERROR(VLOOKUP(C713,PivotGH!A:C,3,FALSE),\" \")","v":" "},0,{"$f":"IFERROR(VLOOKUP(C713,PivotGHRF!A:B,2,FALSE),\" \")","v":" "},"Not in TDSSA",0,{"$f":"IFERROR(VLOOKUP(C713,PivotGHRF!A:C,3,FALSE),\" \")","v":" "},0]
["School Sports","Football","School Sports - Football",{"$f":"IFERROR(VLOOKUP(C714,PivotGHRF!A:B,2,FALSE),\" \")","v":" "},"Not in TDSSA",0,{"$f":"IFERROR(VLOOKUP(C714,PivotESA!A:C,3,FALSE),\" \")","v":" "},0,{"$f":"IFERROR(VLOOKUP(C714,PivotGHRF!A:B,2,FALSE),\" \")","v":" "},"Not in TDSSA",0,{"$f":"IFERROR(VLOOKUP(C714,PivotGH!A:C,3,FALSE),\" \")","v":" "},0,{"$f":"IFERROR(VLOOKUP(C714,PivotGHRF!A:B,2,FALSE),\" \")","v":" "},"Not in TDSSA",0,{"$f":"IFERROR(VLOOKUP(C714,PivotGHRF!A:C,3,FALSE),\" \")","v":" "},0]
["School Sports","Futsal","School Sports - Futsal",{"$f":"IFERROR(VLOOKUP(C715,PivotGHRF!A:B,2,FALSE),\" \")","v":" "},"Not in TDSSA",0,{"$f":"IFERROR(VLOOKUP(C715,PivotESA!A:C,3,FALSE),\" \")","v":" "},0,{"$f":"IFERROR(VLOOKUP(C715,PivotGHRF!A:B,2,FALSE),\" \")","v":" "},"Not in TDSSA",0,{"$f":"IFERROR(VLOOKUP(C715,PivotGH!A:C,3,FALSE),\" \")","v":" "},0,{"$f":"IFERROR(VLOOKUP(C715,PivotGHRF!A:B,2,FALSE),\" \")","v":" "},"Not in TDSSA",0,{"$f":"IFERROR(VLOOKUP(C715,PivotGHRF!A:C,3,FALSE),\" \")","v":" "},0]
["School Sports","Golf","School Sports - Golf",{"$f":"IFERROR(VLOOKUP(C716,PivotGHRF!A:B,2,FALSE),\" \")","v":" "},"Not in TDSSA",0,{"$f":"IFERROR(VLOOKUP(C716,PivotESA!A:C,3,FALSE),\" \")","v":" "},0,{"$f":"IFERROR(VLOOKUP(C716,PivotGHRF!A:B,2,FALSE),\" \")","v":" "},"Not in TDSSA",0,{"$f":"IFERROR(VLOOKUP(C716,PivotGH!A:C,3,FALSE),\" \")","v":" "},0,{"$f":"IFERROR(VLOOKUP(C716,PivotGHRF!A:B,2,FALSE),\" \")","v":" "},"Not in TDSSA",0,{"$f":"IFERROR(VLOOKUP(C716,PivotGHRF!A:C,3,FALSE),\" \")","v":" "},0]
["School Sports","Gymnastics Artistic","School Sports - Gymnastics Artistic",{"$f":"IFERROR(VLOOKUP(C717,PivotGHRF!A:B,2,FALSE),\" \")","v":" "},"Not in TDSSA",0,{"$f":"IFERROR(VLOOKUP(C717,PivotESA!A:C,3,FALSE),\" \")","v":" "},0,{"$f":"IFERROR(VLOOKUP(C717,PivotGHRF!A:B,2,FALSE),\" \")","v":" "},"Not in TDSSA",0,{"$f":"IFERROR(VLOOKUP(C717,PivotGH!A:C,3,FALSE),\" \")","v":" "},0,{"$f":"IFERROR(VLOOKUP(C717,PivotGHRF!A:B,2,FALSE),\" \")","v":" "},"Not in TDSSA",0,{"$f":"IFERROR(VLOOKUP(C717,PivotGHRF!A:C,3,FALSE),\" \")","v":" "},0]
["School Sports","Gymnastics Aerobic","School Sports - Gymnastics Aerobic",{"$f":"IFERROR(VLOOKUP(C718,PivotGHRF!A:B,2,FALSE),\" \")","v":" "},"Not in TDSSA",0,{"$f":"IFERROR(VLOOKUP(C718,PivotESA!A:C,3,FALSE),\" \")","v":" "},0,{"$f":"IFERROR(VLOOKUP(C718,PivotGHRF!A:B,2,FALSE),\" \")","v":" "},"Not in TDSSA",0,{"$f":"IFERROR(VLOOKUP(C718,PivotGH!A:C,3,FALSE),\" \")","v":" "},0,{"$f":"IFERROR(VLOOKUP(C718,PivotGHRF!A:B,2,FALSE),\" \")","v":" "},"Not in TDSSA",0,{"$f":"IFERROR(VLOOKUP(C718,PivotGHRF!A:C,3,FALSE),\" \")","v":" "},0]
["School Sports","Gymnastics Rhythmic","School Sports - Gymnastics Rhythmic",{"$f":"IFERROR(VLOOKUP(C719,PivotGHRF!A:B,2,FALSE),\" \")","v":" "},"Not in TDSSA",0,{"$f":"IFERROR(VLOOKUP(C719,PivotESA!A:C,3,FALSE),\" \")","v":" "},0,{"$f":"IFERROR(VLOOKUP(C719,PivotGHRF!A:B,2,FALSE),\" \")","v":" "},"Not in TDSSA",0,{"$f":"IFERROR(VLOOKUP(C719,PivotGH!A:C,3,FALSE),\" \")","v":" "},0,{"$f":"IFERROR(VLOOKUP(C719,PivotGHRF!A:B,2,FALSE),\" \")","v":" "},"Not in TDSSA",0,{"$f":"IFERROR(VLOOKUP(C719,PivotGHRF!A:C,3,FALSE),\" \")","v":" "},0]
["School Sports","Gymnastics Acrobatic","School Sports - Gymnastics Acrobatic",{"$f":"IFERROR(VLOOKUP(C720,PivotGHRF!A:B,2,FALSE),\" \")","v":" "},"Not in TDSSA",0,{"$f":"IFERROR(VLOOKUP(C720,PivotESA!A:C,3,FALSE),\" \")","v":" "},0,{"$f":"IFERROR(VLOOKUP(C720,PivotGHRF!A:B,2,FALSE),\" \")","v":" "},"Not in TDSSA",0,{"$f":"IFERROR(VLOOKUP(C720,PivotGH!A:C,3,FALSE),\" \")","v":" "},0,{"$f":"IFERROR(VLOOKUP(C720,PivotGHRF!A:B,2,FALSE),\" \")","v":" "},"Not in TDSSA",0,{"$f":"IFERROR(VLOOKUP(C720,PivotGHRF!A:C,3,FALSE),\" \")","v":" "},0]
["School Sports","Gymnastics Trampoline","School Sports - Gymnastics Trampoline",{"$f":"IFERROR(VLOOKUP(C721,PivotGHRF!A:B,2,FALSE),\" \")","v":" "},"Not in TDSSA",0,{"$f":"IFERROR(VLOOKUP(C721,PivotESA!A:C,3,FALSE),\" \")","v":" "},0,{"$f":"IFERROR(VLOOKUP(C721,PivotGHRF!A:B,2,FALSE),\" \")","v":" "},"Not in TDSSA",0,{"$f":"IFERROR(VLOOKUP(C721,PivotGH!A:C,3,FALSE),\" \")","v":" "},0,{"$f":"IFERROR(VLOOKUP(C721,PivotGHRF!A:B,2,FALSE),\" \")","v":" "},"Not in TDSSA",0,{"$f":"IFERROR(VLOOKUP(C721,PivotGHRF!A:C,3,FALSE),\" \")","v":" "},0]
["School Sports","Gymnastics Tumbling","School Sports - Gymnastics Tumbling",{"$f":"IFERROR(VLOOKUP(C722,PivotGHRF!A:B,2,FALSE),\" \")","v":" "},"Not in TDSSA",0,{"$f":"IFERROR(VLOOKUP(C722,PivotESA!A:C,3,FALSE),\" \")","v":" "},0,{"$f":"IFERROR(VLOOKUP(C722,PivotGHRF!A:B,2,FALSE),\" \")","v":" "},"Not in TDSSA",0,{"$f":"IFERROR(VLOOKUP(C722,PivotGH!A:C,3,FALSE),\" \")","v":" "},0,{"$f":"IFERROR(VLOOKUP(C722,PivotGHRF!A:B,2,FALSE),\" \")","v":" "},"Not in TDSSA",0,{"$f":"IFERROR(VLOOKUP(C722,PivotGHRF!A:C,3,FALSE),\" \")","v":" "},0]
["School Sports","Gymnastics","School Sports - Gymnastics",{"$f":"IFERROR(VLOOKUP(C723,PivotGHRF!A:B,2,FALSE),\" \")","v":" "},"Not in TDSSA",0,{"$f":"IFERROR(VLOOKUP(C723,PivotESA!A:C,3,FALSE),\" \")","v":" "},0,{"$f":"IFERROR(VLOOKUP(C723,PivotGHRF!A:B,2,FALSE),\" \")","v":" "},"Not in TDSSA",0,{"$f":"IFERROR(VLOOKUP(C723,PivotGH!A:C,3,FALSE),\" \")","v":" "},0,{"$f":"IFERROR(VLOOKUP(C723,PivotGHRF!A:B,2,FALSE),\" \")","v":" "},"Not in TDSSA",0,{"$f":"IFERROR(VLOOKUP(C723,PivotGHRF!A:C,3,FALSE),\" \")","v":" "},0]
["School Sports","Handball","School Sports - Handball",{"$f":"IFERROR(VLOOKUP(C724,PivotGHRF!A:B,2,FALSE),\" \")","v":" "},"Not in TDSSA",0,{"$f":"IFERROR(VLOOKUP(C724,PivotESA!A:C,3,FALSE),\" \")","v":" "},0,{"$f":"IFERROR(VLOOKUP(C724,PivotGHRF!A:B,2,FALSE),\" \")","v":" "},"Not in TDSSA",0,{"$f":"IFERROR(VLOOKUP(C724,PivotGH!A:C,3,FALSE),\" \")","v":" "},0,{"$f":"IFERROR(VLOOKUP(C724,PivotGHRF!A:B,2,FALSE),\" \")","v":" "},"Not in TDSSA",0,{"$f":"IFERROR(VLOOKUP(C724,PivotGHRF!A:C,3,FALSE),\" \")","v":" "},0]
["School Sports","Orienteering","School Sports - Orienteering",{"$f":"IFERROR(VLOOKUP(C725,PivotGHRF!A:B,2,FALSE),\" \")","v":" "},"Not in TDSSA",0,{"$f":"IFERROR(VLOOKUP(C725,PivotESA!A:C,3,FALSE),\" \")","v":" "},0,{"$f":"IFERROR(VLOOKUP(C725,PivotGHRF!A:B,2,FALSE),\" \")","v":" "},"Not in TDSSA",0,{"$f":"IFERROR(VLOOKUP(C725,PivotGH!A:C,3,FALSE),\" \")","v":" "},0,{"$f":"IFERROR(VLOOKUP(C725,PivotGHRF!A:B,2,FALSE),\" \")","v":" "},"Not in TDSSA",0,{"$f":"IFERROR(VLOOKUP(C725,PivotGHRF!A:C,3,FALSE),\" \")","v":" "},0]
["School Sports","School Sports","School Sports - School Sports",{"$f":"IFERROR(VLOOKUP(C726,PivotGHRF!A:B,2,FALSE),\" \")","v":" "},"Not in TDSSA",0,{"$f":"IFERROR(VLOOKUP(C726,PivotESA!A:C,3,FALSE),\" \")","v":" "},0,{"$f":"IFERROR(VLOOKUP(C726,PivotGHRF!A:B,2,FALSE),\" \")","v":" "},"Not in TDSSA",0,{"$f":"IFERROR(VLOOKUP(C726,PivotGH!A:C,3,FALSE),\" \")","v":" "},0,{"$f":"IFERROR(VLOOKUP(C726,PivotGHRF!A:B,2,FALSE),\" \")","v":" "},"Not in TDSSA",0,{"$f":"IFERROR(VLOOKUP(C726,PivotGHRF!A:C,3,FALSE),\" \")","v":" "},0]
["School Sports","Ski","School Sports - Ski",{"$f":"IFERROR(VLOOKUP(C727,PivotGHRF!A:B,2,FALSE),\" \")","v":" "},"Not in TDSSA",0,{"$f":"IFERROR(VLOOKUP(C727,PivotESA!A:C,3,FALSE),\" \")","v":" "},0,{"$f":"IFERROR(VLOOKUP(C727,PivotGHRF!A:B,2,FALSE),\" \")","v":" "},"Not in TDSSA",0,{"$f":"IFERROR(VLOOKUP(C727,PivotGH!A:C,3,FALSE),\" \")","v":" "},0,{"$f":"IFERROR(VLOOKUP(C727,PivotGHRF!A:B,2,FALSE),\" \")","v":" "},"Not in TDSSA",0,{"$f":"IFERROR(VLOOKUP(C727,PivotGHRF!A:C,3,FALSE),\" \")","v":" "},0]
["School Sports","Skiing Alpine","School Sports - Skiing Alpine",{"$f":"IFERROR(VLOOKUP(C728,PivotGHRF!A:B,2,FALSE),\" \")","v":" "},"Not in TDSSA",0,{"$f":"IFERROR(VLOOKUP(C728,PivotESA!A:C,3,FALSE),\" \")","v":" "},0,{"$f":"IFERROR(VLOOKUP(C728,PivotGHRF!A:B,2,FALSE),\" \")","v":" "},"Not in TDSSA",0,{"$f":"IFERROR(VLOOKUP(C728,PivotGH!A:C,3,FALSE),\" \")","v":" "},0,{"$f":"IFERROR(VLOOKUP(C728,PivotGHRF!A:B,2,FALSE),\" \")","v":" "},"Not in TDSSA",0,{"$f":"IFERROR(VLOOKUP(C728,PivotGHRF!A:C,3,FALSE),\" \")","v":" "},0]
["School Sports","Snowboard","School Sports - Snowboard",{"$f":"IFERROR(VLOOKUP(C729,PivotGHRF!A:B,2,FALSE),\" \")","v":" "},"Not in TDSSA",0,{"$f":"IFERROR(VLOOKUP(C729,PivotESA!A:C,3,FALSE),\" \")","v":" "},0,{"$f":"IFERROR(VLOOKUP(C729,PivotGHRF!A:B,2,FALSE),\" \")","v":" "},"Not in TDSSA",0,{"$f":"IFERROR(VLOOKUP(C729,PivotGH!A:C,3,FALSE),\" \")","v":" "},0,{"$f":"IFERROR(VLOOKUP(C729,PivotGHRF!A:B,2,FALSE),\" \")","v":" "},"Not in TDSSA",0,{"$f":"IFERROR(VLOOKUP(C729,PivotGHRF!A:C,3,FALSE),\" \")","v":" "},0]
["School Sports","Skiing Cross Country","School Sports - Skiing Cross Country",{"$f":"IFERROR(VLOOKUP(C730,PivotGHRF!A:B,2,FALSE),\" \")","v":" "},"Not in TDSSA",0,{"$f":"IFERROR(VLOOKUP(C730,PivotESA!A:C,3,FALSE),\" \")","v":" "},0,{"$f":"IFERROR(VLOOKUP(C730,PivotGHRF!A:B,2,FALSE),\" \")","v":" "},"Not in TDSSA",0,{"$f":"IFERROR(VLOOKUP(C730,PivotGH!A:C,3,FALSE),\" \")","v":" "},0,{"$f":"IFERROR(VLOOKUP(C730,PivotGHRF!A:B,2,FALSE),\" \")","v":" "},"Not in TDSSA",0,{"$f":"IFERROR(VLOOKUP(C730,PivotGHRF!A:C,3,FALSE),\" \")","v":" "},0]
["School Sports","Skiing Freestyle","School Sports - Skiing Freestyle",{"$f":"IFERROR(VLOOKUP(C731,PivotGHRF!A:B,2,FALSE),\" \")","v":" "},"Not in TDSSA",0,{"$f":"IFERROR(VLOOKUP(C731,PivotESA!A:C,3,FALSE),\" \")","v":" "},0,{"$f":"IFERROR(VLOOKUP(C731,PivotGHRF!A:B,2,FALSE),\" \")","v":" "},"Not in TDSSA",0,{"$f":"IFERROR(VLOOKUP(C731,PivotGH!A:C,3,FALSE),\" \")","v":" "},0,{"$f":"IFERROR(VLOOKUP(C731,PivotGHRF!A:B,2,FALSE),\" \")","v":" "},"Not in TDSSA",0,{"$f":"IFERROR(VLOOKUP(C731,PivotGHRF!A:C,3,FALSE),\" \")","v":" "},0]
["School Sports","Ski Jumping","School Sports - Ski Jumping",{"$f":"IFERROR(VLOOKUP(C732,PivotGHRF!A:B,2,FALSE),\" \")","v":" "},"Not in TDSSA",0,{"$f":"IFERROR(VLOOKUP(C732,PivotESA!A:C,3,FALSE),\" \")","v":" "},0,{"$f":"IFERROR(VLOOKUP(C732,PivotGHRF!A:B,2,FALSE),\" \")","v":" "},"Not in TDSSA",0,{"$f":"IFERROR(VLOOKUP(C732,PivotGH!A:C,3,FALSE),\" \")","v":" "},0,{"$f":"IFERROR(VLOOKUP(C732,PivotGHRF!A:B,2,FALSE),\" \")","v":" "},"Not in TDSSA",0,{"$f":"IFERROR(VLOOKUP(C732,PivotGHRF!A:C,3,FALSE),\" \")","v":" "},0]
["School Sports","Swimming Long Distance 800m or greater","School Sports - Swimming Long Distance 800m or greater",{"$f":"IFERROR(VLOOKUP(C733,PivotGHRF!A:B,2,FALSE),\" \")","v":" "},"Not in TDSSA",0,{"$f":"IFERROR(VLOOKUP(C733,PivotESA!A:C,3,FALSE),\" \")","v":" "},0,{"$f":"IFERROR(VLOOKUP(C733,PivotGHRF!A:B,2,FALSE),\" \")","v":" "},"Not in TDSSA",0,{"$f":"IFERROR(VLOOKUP(C733,PivotGH!A:C,3,FALSE),\" \")","v":" "},0,{"$f":"IFERROR(VLOOKUP(C733,PivotGHRF!A:B,2,FALSE),\" \")","v":" "},"Not in TDSSA",0,{"$f":"IFERROR(VLOOKUP(C733,PivotGHRF!A:C,3,FALSE),\" \")","v":" "},0]
["School Sports","Swimming Middle Distance 200-400m","School Sports - Swimming Middle Distance 200-400m",{"$f":"IFERROR(VLOOKUP(C734,PivotGHRF!A:B,2,FALSE),\" \")","v":" "},"Not in TDSSA",0,{"$f":"IFERROR(VLOOKUP(C734,PivotESA!A:C,3,FALSE),\" \")","v":" "},0,{"$f":"IFERROR(VLOOKUP(C734,PivotGHRF!A:B,2,FALSE),\" \")","v":" "},"Not in TDSSA",0,{"$f":"IFERROR(VLOOKUP(C734,PivotGH!A:C,3,FALSE),\" \")","v":" "},0,{"$f":"IFERROR(VLOOKUP(C734,PivotGHRF!A:B,2,FALSE),\" \")","v":" "},"Not in TDSSA",0,{"$f":"IFERROR(VLOOKUP(C734,PivotGHRF!A:C,3,FALSE),\" \")","v":" "},0]
["School Sports","Skiing Nordic Combined","School Sports - Skiing Nordic Combined",{"$f":"IFERROR(VLOOKUP(C735,PivotGHRF!A:B,2,FALSE),\" \")","v":" "},"Not in TDSSA",0,{"$f":"IFERROR(VLOOKUP(C735,PivotESA!A:C,3,FALSE),\" \")","v":" "},0,{"$f":"IFERROR(VLOOKUP(C735,PivotGHRF!A:B,2,FALSE),\" \")","v":" "},"Not in TDSSA",0,{"$f":"IFERROR(VLOOKUP(C735,PivotGH!A:C,3,FALSE),\" \")","v":" "},0,{"$f":"IFERROR(VLOOKUP(C735,PivotGHRF!A:B,2,FALSE),\" \")","v":" "},"Not in TDSSA",0,{"$f":"IFERROR(VLOOKUP(C735,PivotGHRF!A:C,3,FALSE),\" \")","v":" "},0]
["School Sports","Swimming Sprint 100m or less","School Sports - Swimming Sprint 100m or less",{"$f":"IFERROR(VLOOKUP(C736,PivotGHRF!A:B,2,FALSE),\" \")","v":" "},"Not in TDSSA",0,{"$f":"IFERROR(VLOOKUP(C736,PivotESA!A:C,3,FALSE),\" \")","v":" "},0,{"$f":"IFERROR(VLOOKUP(C736,PivotGHRF!A:B,2,FALSE),\" \")","v":" "},"Not in TDSSA",0,{"$f":"IFERROR(VLOOKUP(C736,PivotGH!A:C,3,FALSE),\" \")","v":" "},0,{"$f":"IFERROR(VLOOKUP(C736,PivotGHRF!A:B,2,FALSE),\" \")","v":" "},"Not in TDSSA",0,{"$f":"IFERROR(VLOOKUP(C736,PivotGHRF!A:C,3,FALSE),\" \")","v":" "},0]
["School Sports","Tennis","School Sports - Tennis",{"$f":"IFERROR(VLOOKUP(C737,PivotGHRF!A:B,2,FALSE),\" \")","v":" "},"Not in TDSSA",0,{"$f":"IFERROR(VLOOKUP(C737,PivotESA!A:C,3,FALSE),\" \")","v":" "},0,{"$f":"IFERROR(VLOOKUP(C737,PivotGHRF!A:B,2,FALSE),\" \")","v":" "},"Not in TDSSA",0,{"$f":"IFERROR(VLOOKUP(C737,PivotGH!A:C,3,FALSE),\" \")","v":" "},0,{"$f":"IFERROR(VLOOKUP(C737,PivotGHRF!A:B,2,FALSE),\" \")","v":" "},"Not in TDSSA",0,{"$f":"IFERROR(VLOOKUP(C737,PivotGHRF!A:C,3,FALSE),\" \")","v":" "},0]
["School Sports","Table Tennis","School Sports - Table Tennis",{"$f":"IFERROR(VLOOKUP(C738,PivotGHRF!A:B,2,FALSE),\" \")","v":" "},"Not in TDSSA",0,{"$f":"IFERROR(VLOOKUP(C738,PivotESA!A:C,3,FALSE),\" \")","v":" "},0,{"$f":"IFERROR(VLOOKUP(C738,PivotGHRF!A:B,2,FALSE),\" \")","v":" "},"Not in TDSSA",0,{"$f":"IFERROR(VLOOKUP(C738,PivotGH!A:C,3,FALSE),\" \")","v":" "},0,{"$f":"IFERROR(VLOOKUP(C738,PivotGHRF!A:B,2,FALSE),\" \")","v":" "},"Not in TDSSA",0,{"$f":"IFERROR(VLOOKUP(C738,PivotGHRF!A:C,3,FALSE),\" \")","v":" "},0]
["School Sports","Volleyball","School Sports - Volleyball",{"$f":"IFERROR(VLOOKUP(C739,PivotGHRF!A:B,2,FALSE),\" \")","v":" "},"Not in TDSSA",0,{"$f":"IFERROR(VLOOKUP(C739,PivotESA!A:C,3,FALSE),\" \")","v":" "},0,{"$f":"IFERROR(VLOOKUP(C739,PivotGHRF!A:B,2,FALSE),\" \")","v":" "},"Not in TDSSA",0,{"$f":"IFERROR(VLOOKUP(C739,PivotGH!A:C,3,FALSE),\" \")","v":" "},0,{"$f":"IFERROR(VLOOKUP(C739,PivotGHRF!A:B,2,FALSE),\" \")","v":" "},"Not in TDSSA",0,{"$f":"IFERROR(VLOOKUP(C739,PivotGHRF!A:C,3,FALSE),\" \")","v":" "},0]
["Sepaktakraw","Beach Sepaktakraw","Sepaktakraw - Beach Sepaktakraw",{"$f":"IFERROR(VLOOKUP(C740,PivotGHRF!A:B,2,FALSE),\" \")","v":" "},0,0,{"$f":"IFERROR(VLOOKUP(C740,PivotESA!A:C,3,FALSE),\" \")","v":" "},0,{"$f":"IFERROR(VLOOKUP(C740,PivotGHRF!A:B,2,FALSE),\" \")","v":" "},0,0,{"$f":"IFERROR(VLOOKUP(C740,PivotGH!A:C,3,FALSE),\" \")","v":" "},0,{"$f":"IFERROR(VLOOKUP(C740,PivotGHRF!A:B,2,FALSE),\" \")","v":" "},0,0,{"$f":"IFERROR(VLOOKUP(C740,PivotGHRF!A:C,3,FALSE),\" \")","v":" "},0]
["Sepaktakraw","Hoop Sepaktakraw","Sepaktakraw - Hoop Sepaktakraw",{"$f":"IFERROR(VLOOKUP(C741,PivotGHRF!A:B,2,FALSE),\" \")","v":" "},0,0,{"$f":"IFERROR(VLOOKUP(C741,PivotESA!A:C,3,FALSE),\" \")","v":" "},0,{"$f":"IFERROR(VLOOKUP(C741,PivotGHRF!A:B,2,FALSE),\" \")","v":" "},0,0,{"$f":"IFERROR(VLOOKUP(C741,PivotGH!A:C,3,FALSE),\" \")","v":" "},0,{"$f":"IFERROR(VLOOKUP(C741,PivotGHRF!A:B,2,FALSE),\" \")","v":" "},0,0,{"$f":"IFERROR(VLOOKUP(C741,PivotGHRF!A:C,3,FALSE),\" \")","v":" "},0]
["Sepaktakraw","Sepaktakraw","Sepaktakraw - Sepaktakraw",{"$f":"IFERROR(VLOOKUP(C742,PivotGHRF!A:B,2,FALSE),\" \")","v":" "},0,0,{"$f":"IFERROR(VLOOKUP(C742,PivotESA!A:C,3,FALSE),\" \")","v":" "},0,{"$f":"IFERROR(VLOOKUP(C742,PivotGHRF!A:B,2,FALSE),\" \")","v":" "},0,0,{"$f":"IFERROR(VLOOKUP(C742,PivotGH!A:C,3,FALSE),\" \")","v":" "},0,{"$f":"IFERROR(VLOOKUP(C742,PivotGHRF!A:B,2,FALSE),\" \")","v":" "},0,0,{"$f":"IFERROR(VLOOKUP(C742,PivotGHRF!A:C,3,FALSE),\" \")","v":" "},0]
["Shearing Sports","Shearing Sports","Shearing Sports - Shearing Sports",{"$f":"IFERROR(VLOOKUP(C743,PivotGHRF!A:B,2,FALSE),\" \")","v":" "},"Not in TDSSA",0,{"$f":"IFERROR(VLOOKUP(C743,PivotESA!A:C,3,FALSE),\" \")","v":" "},0,{"$f":"IFERROR(VLOOKUP(C743,PivotGHRF!A:B,2,FALSE),\" \")","v":" "},"Not in TDSSA",0,{"$f":"IFERROR(VLOOKUP(C743,PivotGH!A:C,3,FALSE),\" \")","v":" "},0,{"$f":"IFERROR(VLOOKUP(C743,PivotGHRF!A:B,2,FALSE),\" \")","v":" "},"Not in TDSSA",0,{"$f":"IFERROR(VLOOKUP(C743,PivotGHRF!A:C,3,FALSE),\" \")","v":" "},0]
["Shooting","CISS Shooting","Shooting - CISS Shooting",{"$f":"IFERROR(VLOOKUP(C744,PivotGHRF!A:B,2,FALSE),\" \")","v":" "},"Not in TDSSA",0,{"$f":"IFERROR(VLOOKUP(C744,PivotESA!A:C,3,FALSE),\" \")","v":" "},0,{"$f":"IFERROR(VLOOKUP(C744,PivotGHRF!A:B,2,FALSE),\" \")","v":" "},"Not in TDSSA",0,{"$f":"IFERROR(VLOOKUP(C744,PivotGH!A:C,3,FALSE),\" \")","v":" "},0,{"$f":"IFERROR(VLOOKUP(C744,PivotGHRF!A:B,2,FALSE),\" \")","v":" "},"Not in TDSSA",0,{"$f":"IFERROR(VLOOKUP(C744,PivotGHRF!A:C,3,FALSE),\" \")","v":" "},0]
["Shooting","FICEP Shooting","Shooting - FICEP Shooting",{"$f":"IFERROR(VLOOKUP(C745,PivotGHRF!A:B,2,FALSE),\" \")","v":" "},"Not in TDSSA",0,{"$f":"IFERROR(VLOOKUP(C745,PivotESA!A:C,3,FALSE),\" \")","v":" "},0,{"$f":"IFERROR(VLOOKUP(C745,PivotGHRF!A:B,2,FALSE),\" \")","v":" "},"Not in TDSSA",0,{"$f":"IFERROR(VLOOKUP(C745,PivotGH!A:C,3,FALSE),\" \")","v":" "},0,{"$f":"IFERROR(VLOOKUP(C745,PivotGHRF!A:B,2,FALSE),\" \")","v":" "},"Not in TDSSA",0,{"$f":"IFERROR(VLOOKUP(C745,PivotGHRF!A:C,3,FALSE),\" \")","v":" "},0]
["Shooting","IPC Shooting (R)","Shooting - IPC Shooting (R)",{"$f":"IFERROR(VLOOKUP(C746,PivotGHRF!A:B,2,FALSE),\" \")","v":" "},0,0,{"$f":"IFERROR(VLOOKUP(C746,PivotESA!A:C,3,FALSE),\" \")","v":" "},0,{"$f":"IFERROR(VLOOKUP(C746,PivotGHRF!A:B,2,FALSE),\" \")","v":" "},0,0,{"$f":"IFERROR(VLOOKUP(C746,PivotGH!A:C,3,FALSE),\" \")","v":" "},0,{"$f":"IFERROR(VLOOKUP(C746,PivotGHRF!A:B,2,FALSE),\" \")","v":" "},0,0,{"$f":"IFERROR(VLOOKUP(C746,PivotGHRF!A:C,3,FALSE),\" \")","v":" "},0]
["Shooting","Military Shotgun","Shooting - Military Shotgun",{"$f":"IFERROR(VLOOKUP(C747,PivotGHRF!A:B,2,FALSE),\" \")","v":" "},"Not in TDSSA",0,{"$f":"IFERROR(VLOOKUP(C747,PivotESA!A:C,3,FALSE),\" \")","v":" "},0,{"$f":"IFERROR(VLOOKUP(C747,PivotGHRF!A:B,2,FALSE),\" \")","v":" "},"Not in TDSSA",0,{"$f":"IFERROR(VLOOKUP(C747,PivotGH!A:C,3,FALSE),\" \")","v":" "},0,{"$f":"IFERROR(VLOOKUP(C747,PivotGHRF!A:B,2,FALSE),\" \")","v":" "},"Not in TDSSA",0,{"$f":"IFERROR(VLOOKUP(C747,PivotGHRF!A:C,3,FALSE),\" \")","v":" "},0]
["Shooting","Military Shooting","Shooting - Military Shooting",{"$f":"IFERROR(VLOOKUP(C748,PivotGHRF!A:B,2,FALSE),\" \")","v":" "},"Not in TDSSA",0,{"$f":"IFERROR(VLOOKUP(C748,PivotESA!A:C,3,FALSE),\" \")","v":" "},0,{"$f":"IFERROR(VLOOKUP(C748,PivotGHRF!A:B,2,FALSE),\" \")","v":" "},"Not in TDSSA",0,{"$f":"IFERROR(VLOOKUP(C748,PivotGH!A:C,3,FALSE),\" \")","v":" "},0,{"$f":"IFERROR(VLOOKUP(C748,PivotGHRF!A:B,2,FALSE),\" \")","v":" "},"Not in TDSSA",0,{"$f":"IFERROR(VLOOKUP(C748,PivotGHRF!A:C,3,FALSE),\" \")","v":" "},0]
["Shooting","Ball-Trap","Shooting - Ball-Trap",{"$f":"IFERROR(VLOOKUP(C749,PivotGHRF!A:B,2,FALSE),\" \")","v":" "},0,0,{"$f":"IFERROR(VLOOKUP(C749,PivotESA!A:C,3,FALSE),\" \")","v":" "},0,{"$f":"IFERROR(VLOOKUP(C749,PivotGHRF!A:B,2,FALSE),\" \")","v":" "},0,0,{"$f":"IFERROR(VLOOKUP(C749,PivotGH!A:C,3,FALSE),\" \")","v":" "},0,{"$f":"IFERROR(VLOOKUP(C749,PivotGHRF!A:B,2,FALSE),\" \")","v":" "},0,0,{"$f":"IFERROR(VLOOKUP(C749,PivotGHRF!A:C,3,FALSE),\" \")","v":" "},0]
["Shooting","Shooting","Shooting - Shooting",{"$f":"IFERROR(VLOOKUP(C750,PivotGHRF!A:B,2,FALSE),\" \")","v":" "},0,0,{"$f":"IFERROR(VLOOKUP(C750,PivotESA!A:C,3,FALSE),\" \")","v":" "},0,{"$f":"IFERROR(VLOOKUP(C750,PivotGHRF!A:B,2,FALSE),\" \")","v":" "},0,0,{"$f":"IFERROR(VLOOKUP(C750,PivotGH!A:C,3,FALSE),\" \")","v":" "},0,{"$f":"IFERROR(VLOOKUP(C750,PivotGHRF!A:B,2,FALSE),\" \")","v":" "},0,0,{"$f":"IFERROR(VLOOKUP(C750,PivotGHRF!A:C,3,FALSE),\" \")","v":" "},0]
["Shooting","Pistol","Shooting - Pistol",{"$f":"IFERROR(VLOOKUP(C751,PivotGHRF!A:B,2,FALSE),\" \")","v":" "},0,0,{"$f":"IFERROR(VLOOKUP(C751,PivotESA!A:C,3,FALSE),\" \")","v":" "},0,{"$f":"IFERROR(VLOOKUP(C751,PivotGHRF!A:B,2,FALSE),\" \")","v":" "},0,0,{"$f":"IFERROR(VLOOKUP(C751,PivotGH!A:C,3,FALSE),\" \")","v":" "},0,{"$f":"IFERROR(VLOOKUP(C751,PivotGHRF!A:B,2,FALSE),\" \")","v":" "},0,0,{"$f":"IFERROR(VLOOKUP(C751,PivotGHRF!A:C,3,FALSE),\" \")","v":" "},0]
["Shooting","Rifle","Shooting - Rifle",{"$f":"IFERROR(VLOOKUP(C752,PivotGHRF!A:B,2,FALSE),\" \")","v":" "},0,0,{"$f":"IFERROR(VLOOKUP(C752,PivotESA!A:C,3,FALSE),\" \")","v":" "},0,{"$f":"IFERROR(VLOOKUP(C752,PivotGHRF!A:B,2,FALSE),\" \")","v":" "},0,0,{"$f":"IFERROR(VLOOKUP(C752,PivotGH!A:C,3,FALSE),\" \")","v":" "},0,{"$f":"IFERROR(VLOOKUP(C752,PivotGHRF!A:B,2,FALSE),\" \")","v":" "},0,0,{"$f":"IFERROR(VLOOKUP(C752,PivotGHRF!A:C,3,FALSE),\" \")","v":" "},0]
["Shooting","Running Target","Shooting - Running Target",{"$f":"IFERROR(VLOOKUP(C753,PivotGHRF!A:B,2,FALSE),\" \")","v":" "},0,0,{"$f":"IFERROR(VLOOKUP(C753,PivotESA!A:C,3,FALSE),\" \")","v":" "},0,{"$f":"IFERROR(VLOOKUP(C753,PivotGHRF!A:B,2,FALSE),\" \")","v":" "},0,0,{"$f":"IFERROR(VLOOKUP(C753,PivotGH!A:C,3,FALSE),\" \")","v":" "},0,{"$f":"IFERROR(VLOOKUP(C753,PivotGHRF!A:B,2,FALSE),\" \")","v":" "},0,0,{"$f":"IFERROR(VLOOKUP(C753,PivotGHRF!A:C,3,FALSE),\" \")","v":" "},0]
["Shooting","Shotgun","Shooting - Shotgun",{"$f":"IFERROR(VLOOKUP(C754,PivotGHRF!A:B,2,FALSE),\" \")","v":" "},0,0,{"$f":"IFERROR(VLOOKUP(C754,PivotESA!A:C,3,FALSE),\" \")","v":" "},0,{"$f":"IFERROR(VLOOKUP(C754,PivotGHRF!A:B,2,FALSE),\" \")","v":" "},0,0,{"$f":"IFERROR(VLOOKUP(C754,PivotGH!A:C,3,FALSE),\" \")","v":" "},0,{"$f":"IFERROR(VLOOKUP(C754,PivotGHRF!A:B,2,FALSE),\" \")","v":" "},0,0,{"$f":"IFERROR(VLOOKUP(C754,PivotGHRF!A:C,3,FALSE),\" \")","v":" "},0]
["Shooting","Target sprint","Shooting - Target sprint",{"$f":"IFERROR(VLOOKUP(C755,PivotGHRF!A:B,2,FALSE),\" \")","v":" "},0,0,{"$f":"IFERROR(VLOOKUP(C755,PivotESA!A:C,3,FALSE),\" \")","v":" "},0,{"$f":"IFERROR(VLOOKUP(C755,PivotGHRF!A:B,2,FALSE),\" \")","v":" "},0,0,{"$f":"IFERROR(VLOOKUP(C755,PivotGH!A:C,3,FALSE),\" \")","v":" "},0,{"$f":"IFERROR(VLOOKUP(C755,PivotGHRF!A:B,2,FALSE),\" \")","v":" "},0,0,{"$f":"IFERROR(VLOOKUP(C755,PivotGHRF!A:C,3,FALSE),\" \")","v":" "},0]
["Shooting","University","Shooting - University",{"$f":"IFERROR(VLOOKUP(C756,PivotGHRF!A:B,2,FALSE),\" \")","v":" "},"Not in TDSSA",0,{"$f":"IFERROR(VLOOKUP(C756,PivotESA!A:C,3,FALSE),\" \")","v":" "},0,{"$f":"IFERROR(VLOOKUP(C756,PivotGHRF!A:B,2,FALSE),\" \")","v":" "},"Not in TDSSA",0,{"$f":"IFERROR(VLOOKUP(C756,PivotGH!A:C,3,FALSE),\" \")","v":" "},0,{"$f":"IFERROR(VLOOKUP(C756,PivotGHRF!A:B,2,FALSE),\" \")","v":" "},"Not in TDSSA",0,{"$f":"IFERROR(VLOOKUP(C756,PivotGHRF!A:C,3,FALSE),\" \")","v":" "},0]
["Shooting","IBSA Shooting","Shooting - IBSA Shooting",{"$f":"IFERROR(VLOOKUP(C757,PivotGHRF!A:B,2,FALSE),\" \")","v":" "},"Not in TDSSA",0,{"$f":"IFERROR(VLOOKUP(C757,PivotESA!A:C,3,FALSE),\" \")","v":" "},0,{"$f":"IFERROR(VLOOKUP(C757,PivotGHRF!A:B,2,FALSE),\" \")","v":" "},"Not in TDSSA",0,{"$f":"IFERROR(VLOOKUP(C757,PivotGH!A:C,3,FALSE),\" \")","v":" "},0,{"$f":"IFERROR(VLOOKUP(C757,PivotGHRF!A:B,2,FALSE),\" \")","v":" "},"Not in TDSSA",0,{"$f":"IFERROR(VLOOKUP(C757,PivotGHRF!A:C,3,FALSE),\" \")","v":" "},0]
["Shooting Para Sport","Shooting Para Sport","Shooting Para Sport - Shooting Para Sport",{"$f":"IFERROR(VLOOKUP(C758,PivotGHRF!A:B,2,FALSE),\" \")","v":" "},0,0,{"$f":"IFERROR(VLOOKUP(C758,PivotESA!A:C,3,FALSE),\" \")","v":" "},0,{"$f":"IFERROR(VLOOKUP(C758,PivotGHRF!A:B,2,FALSE),\" \")","v":" "},0,0,{"$f":"IFERROR(VLOOKUP(C758,PivotGH!A:C,3,FALSE),\" \")","v":" "},0,{"$f":"IFERROR(VLOOKUP(C758,PivotGHRF!A:B,2,FALSE),\" \")","v":" "},0,0,{"$f":"IFERROR(VLOOKUP(C758,PivotGHRF!A:C,3,FALSE),\" \")","v":" "},0]
["Showdown","Showdown","Showdown - Showdown",{"$f":"IFERROR(VLOOKUP(C759,PivotGHRF!A:B,2,FALSE),\" \")","v":" "},"Not in TDSSA",0,{"$f":"IFERROR(VLOOKUP(C759,PivotESA!A:C,3,FALSE),\" \")","v":" "},0,{"$f":"IFERROR(VLOOKUP(C759,PivotGHRF!A:B,2,FALSE),\" \")","v":" "},"Not in TDSSA",0,{"$f":"IFERROR(VLOOKUP(C759,PivotGH!A:C,3,FALSE),\" \")","v":" "},0,{"$f":"IFERROR(VLOOKUP(C759,PivotGHRF!A:B,2,FALSE),\" \")","v":" "},"Not in TDSSA",0,{"$f":"IFERROR(VLOOKUP(C759,PivotGHRF!A:C,3,FALSE),\" \")","v":" "},0]
["Shuttlecock","Shuttlecock","Shuttlecock - Shuttlecock",{"$f":"IFERROR(VLOOKUP(C760,PivotGHRF!A:B,2,FALSE),\" \")","v":" "},"Not in TDSSA",0,{"$f":"IFERROR(VLOOKUP(C760,PivotESA!A:C,3,FALSE),\" \")","v":" "},0,{"$f":"IFERROR(VLOOKUP(C760,PivotGHRF!A:B,2,FALSE),\" \")","v":" "},"Not in TDSSA",0,{"$f":"IFERROR(VLOOKUP(C760,PivotGH!A:C,3,FALSE),\" \")","v":" "},0,{"$f":"IFERROR(VLOOKUP(C760,PivotGHRF!A:B,2,FALSE),\" \")","v":" "},"Not in TDSSA",0,{"$f":"IFERROR(VLOOKUP(C760,PivotGHRF!A:C,3,FALSE),\" \")","v":" "},0]
["Sitball","Sitball","Sitball - Sitball",{"$f":"IFERROR(VLOOKUP(C761,PivotGHRF!A:B,2,FALSE),\" \")","v":" "},"Not in TDSSA",0,{"$f":"IFERROR(VLOOKUP(C761,PivotESA!A:C,3,FALSE),\" \")","v":" "},0,{"$f":"IFERROR(VLOOKUP(C761,PivotGHRF!A:B,2,FALSE),\" \")","v":" "},"Not in TDSSA",0,{"$f":"IFERROR(VLOOKUP(C761,PivotGH!A:C,3,FALSE),\" \")","v":" "},0,{"$f":"IFERROR(VLOOKUP(C761,PivotGHRF!A:B,2,FALSE),\" \")","v":" "},"Not in TDSSA",0,{"$f":"IFERROR(VLOOKUP(C761,PivotGHRF!A:C,3,FALSE),\" \")","v":" "},0]
["Sitting Volleyball","Sitting Volleyball","Sitting Volleyball - Sitting Volleyball",{"$f":"IFERROR(VLOOKUP(C762,PivotGHRF!A:B,2,FALSE),\" \")","v":" "},0.05,0,{"$f":"IFERROR(VLOOKUP(C762,PivotESA!A:C,3,FALSE),\" \")","v":" "},0,{"$f":"IFERROR(VLOOKUP(C762,PivotGHRF!A:B,2,FALSE),\" \")","v":" "},0.05,0,{"$f":"IFERROR(VLOOKUP(C762,PivotGH!A:C,3,FALSE),\" \")","v":" "},0,{"$f":"IFERROR(VLOOKUP(C762,PivotGHRF!A:B,2,FALSE),\" \")","v":" "},0.05,0,{"$f":"IFERROR(VLOOKUP(C762,PivotGHRF!A:C,3,FALSE),\" \")","v":" "},0]
["Skating","Figure Skating","Skating - Figure Skating",{"$f":"IFERROR(VLOOKUP(C763,PivotGHRF!A:B,2,FALSE),\" \")","v":" "},0.1,0,{"$f":"IFERROR(VLOOKUP(C763,PivotESA!A:C,3,FALSE),\" \")","v":" "},0,{"$f":"IFERROR(VLOOKUP(C763,PivotGHRF!A:B,2,FALSE),\" \")","v":" "},0.1,0,{"$f":"IFERROR(VLOOKUP(C763,PivotGH!A:C,3,FALSE),\" \")","v":" "},0,{"$f":"IFERROR(VLOOKUP(C763,PivotGHRF!A:B,2,FALSE),\" \")","v":" "},0.1,0,{"$f":"IFERROR(VLOOKUP(C763,PivotGHRF!A:C,3,FALSE),\" \")","v":" "},0]
["Skating","Military Short Track Skating","Skating - Military Short Track Skating",{"$f":"IFERROR(VLOOKUP(C764,PivotGHRF!A:B,2,FALSE),\" \")","v":" "},"Not in TDSSA",0,{"$f":"IFERROR(VLOOKUP(C764,PivotESA!A:C,3,FALSE),\" \")","v":" "},0,{"$f":"IFERROR(VLOOKUP(C764,PivotGHRF!A:B,2,FALSE),\" \")","v":" "},"Not in TDSSA",0,{"$f":"IFERROR(VLOOKUP(C764,PivotGH!A:C,3,FALSE),\" \")","v":" "},0,{"$f":"IFERROR(VLOOKUP(C764,PivotGHRF!A:B,2,FALSE),\" \")","v":" "},"Not in TDSSA",0,{"$f":"IFERROR(VLOOKUP(C764,PivotGHRF!A:C,3,FALSE),\" \")","v":" "},0]
["Skating","Military Speed Skating 1500m or less","Skating - Military Speed Skating 1500m or less",{"$f":"IFERROR(VLOOKUP(C765,PivotGHRF!A:B,2,FALSE),\" \")","v":" "},"Not in TDSSA",0,{"$f":"IFERROR(VLOOKUP(C765,PivotESA!A:C,3,FALSE),\" \")","v":" "},0,{"$f":"IFERROR(VLOOKUP(C765,PivotGHRF!A:B,2,FALSE),\" \")","v":" "},"Not in TDSSA",0,{"$f":"IFERROR(VLOOKUP(C765,PivotGH!A:C,3,FALSE),\" \")","v":" "},0,{"$f":"IFERROR(VLOOKUP(C765,PivotGHRF!A:B,2,FALSE),\" \")","v":" "},"Not in TDSSA",0,{"$f":"IFERROR(VLOOKUP(C765,PivotGHRF!A:C,3,FALSE),\" \")","v":" "},0]
["Skating","Military Speed Skating greater than 1500m","Skating - Military Speed Skating greater than 1500m",{"$f":"IFERROR(VLOOKUP(C766,PivotGHRF!A:B,2,FALSE),\" \")","v":" "},"Not in TDSSA",0,{"$f":"IFERROR(VLOOKUP(C766,PivotESA!A:C,3,FALSE),\" \")","v":" "},0,{"$f":"IFERROR(VLOOKUP(C766,PivotGHRF!A:B,2,FALSE),\" \")","v":" "},"Not in TDSSA",0,{"$f":"IFERROR(VLOOKUP(C766,PivotGH!A:C,3,FALSE),\" \")","v":" "},0,{"$f":"IFERROR(VLOOKUP(C766,PivotGHRF!A:B,2,FALSE),\" \")","v":" "},"Not in TDSSA",0,{"$f":"IFERROR(VLOOKUP(C766,PivotGHRF!A:C,3,FALSE),\" \")","v":" "},0]
["Skating","Synchronized Skating","Skating - Synchronized Skating",{"$f":"IFERROR(VLOOKUP(C767,PivotGHRF!A:B,2,FALSE),\" \")","v":" "},0.1,0,{"$f":"IFERROR(VLOOKUP(C767,PivotESA!A:C,3,FALSE),\" \")","v":" "},0,{"$f":"IFERROR(VLOOKUP(C767,PivotGHRF!A:B,2,FALSE),\" \")","v":" "},0.05,0,{"$f":"IFERROR(VLOOKUP(C767,PivotGH!A:C,3,FALSE),\" \")","v":" "},0,{"$f":"IFERROR(VLOOKUP(C767,PivotGHRF!A:B,2,FALSE),\" \")","v":" "},0.05,0,{"$f":"IFERROR(VLOOKUP(C767,PivotGHRF!A:C,3,FALSE),\" \")","v":" "},0]
["Skating","Speed Skating greater than 1500m","Skating - Speed Skating greater than 1500m",{"$f":"IFERROR(VLOOKUP(C768,PivotGHRF!A:B,2,FALSE),\" \")","v":" "},0.3,0,{"$f":"IFERROR(VLOOKUP(C768,PivotESA!A:C,3,FALSE),\" \")","v":" "},0,{"$f":"IFERROR(VLOOKUP(C768,PivotGHRF!A:B,2,FALSE),\" \")","v":" "},0.1,0,{"$f":"IFERROR(VLOOKUP(C768,PivotGH!A:C,3,FALSE),\" \")","v":" "},0,{"$f":"IFERROR(VLOOKUP(C768,PivotGHRF!A:B,2,FALSE),\" \")","v":" "},0.1,0,{"$f":"IFERROR(VLOOKUP(C768,PivotGHRF!A:C,3,FALSE),\" \")","v":" "},0]
["Skating","Speed Skating 1500m or less","Skating - Speed Skating 1500m or less",{"$f":"IFERROR(VLOOKUP(C769,PivotGHRF!A:B,2,FALSE),\" \")","v":" "},0.15,0,{"$f":"IFERROR(VLOOKUP(C769,PivotESA!A:C,3,FALSE),\" \")","v":" "},0,{"$f":"IFERROR(VLOOKUP(C769,PivotGHRF!A:B,2,FALSE),\" \")","v":" "},0.1,0,{"$f":"IFERROR(VLOOKUP(C769,PivotGH!A:C,3,FALSE),\" \")","v":" "},0,{"$f":"IFERROR(VLOOKUP(C769,PivotGHRF!A:B,2,FALSE),\" \")","v":" "},0.1,0,{"$f":"IFERROR(VLOOKUP(C769,PivotGHRF!A:C,3,FALSE),\" \")","v":" "},0]
["Skating","Short Track","Skating - Short Track",{"$f":"IFERROR(VLOOKUP(C770,PivotGHRF!A:B,2,FALSE),\" \")","v":" "},0.15,0,{"$f":"IFERROR(VLOOKUP(C770,PivotESA!A:C,3,FALSE),\" \")","v":" "},0,{"$f":"IFERROR(VLOOKUP(C770,PivotGHRF!A:B,2,FALSE),\" \")","v":" "},0.1,0,{"$f":"IFERROR(VLOOKUP(C770,PivotGH!A:C,3,FALSE),\" \")","v":" "},0,{"$f":"IFERROR(VLOOKUP(C770,PivotGHRF!A:B,2,FALSE),\" \")","v":" "},0.1,0,{"$f":"IFERROR(VLOOKUP(C770,PivotGHRF!A:C,3,FALSE),\" \")","v":" "},0]
["Skating","Short Track (>1500m) (R)","Skating - Short Track (>1500m) (R)",{"$f":"IFERROR(VLOOKUP(C771,PivotGHRF!A:B,2,FALSE),\" \")","v":" "},0.15,0,{"$f":"IFERROR(VLOOKUP(C771,PivotESA!A:C,3,FALSE),\" \")","v":" "},0,{"$f":"IFERROR(VLOOKUP(C771,PivotGHRF!A:B,2,FALSE),\" \")","v":" "},0.1,0,{"$f":"IFERROR(VLOOKUP(C771,PivotGH!A:C,3,FALSE),\" \")","v":" "},0,{"$f":"IFERROR(VLOOKUP(C771,PivotGHRF!A:B,2,FALSE),\" \")","v":" "},0.1,0,{"$f":"IFERROR(VLOOKUP(C771,PivotGHRF!A:C,3,FALSE),\" \")","v":" "},0]
["Skating","Short Track (1500m or less) (R)","Skating - Short Track (1500m or less) (R)",{"$f":"IFERROR(VLOOKUP(C772,PivotGHRF!A:B,2,FALSE),\" \")","v":" "},0.15,0,{"$f":"IFERROR(VLOOKUP(C772,PivotESA!A:C,3,FALSE),\" \")","v":" "},0,{"$f":"IFERROR(VLOOKUP(C772,PivotGHRF!A:B,2,FALSE),\" \")","v":" "},0.1,0,{"$f":"IFERROR(VLOOKUP(C772,PivotGH!A:C,3,FALSE),\" \")","v":" "},0,{"$f":"IFERROR(VLOOKUP(C772,PivotGHRF!A:B,2,FALSE),\" \")","v":" "},0.1,0,{"$f":"IFERROR(VLOOKUP(C772,PivotGHRF!A:C,3,FALSE),\" \")","v":" "},0]
["Skating","University Figure Skating","Skating - University Figure Skating",{"$f":"IFERROR(VLOOKUP(C773,PivotGHRF!A:B,2,FALSE),\" \")","v":" "},"Not in TDSSA",0,{"$f":"IFERROR(VLOOKUP(C773,PivotESA!A:C,3,FALSE),\" \")","v":" "},0,{"$f":"IFERROR(VLOOKUP(C773,PivotGHRF!A:B,2,FALSE),\" \")","v":" "},"Not in TDSSA",0,{"$f":"IFERROR(VLOOKUP(C773,PivotGH!A:C,3,FALSE),\" \")","v":" "},0,{"$f":"IFERROR(VLOOKUP(C773,PivotGHRF!A:B,2,FALSE),\" \")","v":" "},"Not in TDSSA",0,{"$f":"IFERROR(VLOOKUP(C773,PivotGHRF!A:C,3,FALSE),\" \")","v":" "},0]
["Skating","University Synchronised Skating","Skating - University Synchronised Skating",{"$f":"IFERROR(VLOOKUP(C774,PivotGHRF!A:B,2,FALSE),\" \")","v":" "},"Not in TDSSA",0,{"$f":"IFERROR(VLOOKUP(C774,PivotESA!A:C,3,FALSE),\" \")","v":" "},0,{"$f":"IFERROR(VLOOKUP(C774,PivotGHRF!A:B,2,FALSE),\" \")","v":" "},"Not in TDSSA",0,{"$f":"IFERROR(VLOOKUP(C774,PivotGH!A:C,3,FALSE),\" \")","v":" "},0,{"$f":"IFERROR(VLOOKUP(C774,PivotGHRF!A:B,2,FALSE),\" \")","v":" "},"Not in TDSSA",0,{"$f":"IFERROR(VLOOKUP(C774,PivotGHRF!A:C,3,FALSE),\" \")","v":" "},0]
["Skating","University Speed Skating","Skating - University Speed Skating",{"$f":"IFERROR(VLOOKUP(C775,PivotGHRF!A:B,2,FALSE),\" \")","v":" "},"Not in TDSSA",0,{"$f":"IFERROR(VLOOKUP(C775,PivotESA!A:C,3,FALSE),\" \")","v":" "},{"$f":"IFERROR(F775-G775,0)","v":0},{"$f":"IFERROR(VLOOKUP(C775,PivotGHRF!A:B,2,FALSE),\" \")","v":" "},"Not in TDSSA",0,{"$f":"IFERROR(VLOOKUP(C775,PivotGH!A:C,3,FALSE),\" \")","v":" "},{"$f":"IFERROR(K775-L775,0)","v":0},{"$f":"IFERROR(VLOOKUP(C775,PivotGHRF!A:B,2,FALSE),\" \")","v":" "},"Not in TDSSA",0,{"$f":"IFERROR(VLOOKUP(C775,PivotGHRF!A:C,3,FALSE),\" \")","v":" "},{"$f":"IFERROR(P775-Q775,0)","v":0}]
["Skating","University Short Track","Skating - University Short Track",{"$f":"IFERROR(VLOOKUP(C776,PivotGHRF!A:B,2,FALSE),\" \")","v":" "},"Not in TDSSA",{"$f":"IFERROR(ROUNDUP(E776*D776,0),0)","v":0},{"$f":"IFERROR(VLOOKUP(C776,PivotESA!A:C,3,FALSE),\" \")","v":" "},0,{"$f":"IFERROR(VLOOKUP(C776,PivotGHRF!A:B,2,FALSE),\" \")","v":" "},"Not in TDSSA",{"$f":"IFERROR(ROUNDUP(J776*I776,0),0)","v":0},{"$f":"IFERROR(VLOOKUP(C776,PivotGH!A:C,3,FALSE),\" \")","v":" "},0,{"$f":"IFERROR(VLOOKUP(C776,PivotGHRF!A:B,2,FALSE),\" \")","v":" "},"Not in TDSSA",{"$f":"IFERROR(ROUNDUP(O776*N776,0),0)","v":0},{"$f":"IFERROR(VLOOKUP(C776,PivotGHRF!A:C,3,FALSE),\" \")","v":" "},0]
["Ski Mountaineering","Military Ski Mountaineering","Ski Mountaineering - Military Ski Mountaineering",{"$f":"IFERROR(VLOOKUP(C777,PivotGHRF!A:B,2,FALSE),\" \")","v":" "},"Not in TDSSA",0,{"$f":"IFERROR(VLOOKUP(C777,PivotESA!A:C,3,FALSE),\" \")","v":" "},0,{"$f":"IFERROR(VLOOKUP(C777,PivotGHRF!A:B,2,FALSE),\" \")","v":" "},"Not in TDSSA",0,{"$f":"IFERROR(VLOOKUP(C777,PivotGH!A:C,3,FALSE),\" \")","v":" "},0,{"$f":"IFERROR(VLOOKUP(C777,PivotGHRF!A:B,2,FALSE),\" \")","v":" "},"Not in TDSSA",0,{"$f":"IFERROR(VLOOKUP(C777,PivotGHRF!A:C,3,FALSE),\" \")","v":" "},0]
["Ski Mountaineering","Ski Mountaineering","Ski Mountaineering - Ski Mountaineering",{"$f":"IFERROR(VLOOKUP(C778,PivotGHRF!A:B,2,FALSE),\" \")","v":" "},0.3,0,{"$f":"IFERROR(VLOOKUP(C778,PivotESA!A:C,3,FALSE),\" \")","v":" "},0,{"$f":"IFERROR(VLOOKUP(C778,PivotGHRF!A:B,2,FALSE),\" \")","v":" "},0.05,0,{"$f":"IFERROR(VLOOKUP(C778,PivotGH!A:C,3,FALSE),\" \")","v":" "},0,{"$f":"IFERROR(VLOOKUP(C778,PivotGHRF!A:B,2,FALSE),\" \")","v":" "},0.05,0,{"$f":"IFERROR(VLOOKUP(C778,PivotGHRF!A:C,3,FALSE),\" \")","v":" "},0]
["Skibob","Skibob","Skibob - Skibob",{"$f":"IFERROR(VLOOKUP(C779,PivotGHRF!A:B,2,FALSE),\" \")","v":" "},"Not in TDSSA",0,{"$f":"IFERROR(VLOOKUP(C779,PivotESA!A:C,3,FALSE),\" \")","v":" "},0,{"$f":"IFERROR(VLOOKUP(C779,PivotGHRF!A:B,2,FALSE),\" \")","v":" "},"Not in TDSSA",0,{"$f":"IFERROR(VLOOKUP(C779,PivotGH!A:C,3,FALSE),\" \")","v":" "},0,{"$f":"IFERROR(VLOOKUP(C779,PivotGHRF!A:B,2,FALSE),\" \")","v":" "},"Not in TDSSA",0,{"$f":"IFERROR(VLOOKUP(C779,PivotGHRF!A:C,3,FALSE),\" \")","v":" "},0]
["Skiing","Alpine","Skiing - Alpine",{"$f":"IFERROR(VLOOKUP(C780,PivotGHRF!A:B,2,FALSE),\" \")","v":" "},0.15,0,{"$f":"IFERROR(VLOOKUP(C780,PivotESA!A:C,3,FALSE),\" \")","v":" "},0,{"$f":"IFERROR(VLOOKUP(C780,PivotGHRF!A:B,2,FALSE),\" \")","v":" "},0.1,0,{"$f":"IFERROR(VLOOKUP(C780,PivotGH!A:C,3,FALSE),\" \")","v":" "},0,{"$f":"IFERROR(VLOOKUP(C780,PivotGHRF!A:B,2,FALSE),\" \")","v":" "},0.1,0,{"$f":"IFERROR(VLOOKUP(C780,PivotGHRF!A:C,3,FALSE),\" \")","v":" "},0]
["Skiing","CISS Alpine Skiing","Skiing - CISS Alpine Skiing",{"$f":"IFERROR(VLOOKUP(C781,PivotGHRF!A:B,2,FALSE),\" \")","v":" "},"Not in TDSSA",0,{"$f":"IFERROR(VLOOKUP(C781,PivotESA!A:C,3,FALSE),\" \")","v":" "},0,{"$f":"IFERROR(VLOOKUP(C781,PivotGHRF!A:B,2,FALSE),\" \")","v":" "},"Not in TDSSA",0,{"$f":"IFERROR(VLOOKUP(C781,PivotGH!A:C,3,FALSE),\" \")","v":" "},0,{"$f":"IFERROR(VLOOKUP(C781,PivotGHRF!A:B,2,FALSE),\" \")","v":" "},"Not in TDSSA",0,{"$f":"IFERROR(VLOOKUP(C781,PivotGHRF!A:C,3,FALSE),\" \")","v":" "},0]
["Skiing","Cross-Country","Skiing - Cross-Country",{"$f":"IFERROR(VLOOKUP(C782,PivotGHRF!A:B,2,FALSE),\" \")","v":" "},0.6,0,{"$f":"IFERROR(VLOOKUP(C782,PivotESA!A:C,3,FALSE),\" \")","v":" "},0,{"$f":"IFERROR(VLOOKUP(C782,PivotGHRF!A:B,2,FALSE),\" \")","v":" "},0.1,0,{"$f":"IFERROR(VLOOKUP(C782,PivotGH!A:C,3,FALSE),\" \")","v":" "},0,{"$f":"IFERROR(VLOOKUP(C782,PivotGHRF!A:B,2,FALSE),\" \")","v":" "},0.1,0,{"$f":"IFERROR(VLOOKUP(C782,PivotGHRF!A:C,3,FALSE),\" \")","v":" "},0]
["Skiing","CISS Cross Country Skiing","Skiing - CISS Cross Country Skiing",{"$f":"IFERROR(VLOOKUP(C783,PivotGHRF!A:B,2,FALSE),\" \")","v":" "},"Not in TDSSA",0,{"$f":"IFERROR(VLOOKUP(C783,PivotESA!A:C,3,FALSE),\" \")","v":" "},0,{"$f":"IFERROR(VLOOKUP(C783,PivotGHRF!A:B,2,FALSE),\" \")","v":" "},"Not in TDSSA",0,{"$f":"IFERROR(VLOOKUP(C783,PivotGH!A:C,3,FALSE),\" \")","v":" "},0,{"$f":"IFERROR(VLOOKUP(C783,PivotGHRF!A:B,2,FALSE),\" \")","v":" "},"Not in TDSSA",0,{"$f":"IFERROR(VLOOKUP(C783,PivotGHRF!A:C,3,FALSE),\" \")","v":" "},0]
["Skiing","University Cross Country","Skiing - University Cross Country",{"$f":"IFERROR(VLOOKUP(C784,PivotGHRF!A:B,2,FALSE),\" \")","v":" "},"Not in TDSSA",0,{"$f":"IFERROR(VLOOKUP(C784,PivotESA!A:C,3,FALSE),\" \")","v":" "},0,{"$f":"IFERROR(VLOOKUP(C784,PivotGHRF!A:B,2,FALSE),\" \")","v":" "},"Not in TDSSA",0,{"$f":"IFERROR(VLOOKUP(C784,PivotGH!A:C,3,FALSE),\" \")","v":" "},0,{"$f":"IFERROR(VLOOKUP(C784,PivotGHRF!A:B,2,FALSE),\" \")","v":" "},"Not in TDSSA",0,{"$f":"IFERROR(VLOOKUP(C784,PivotGHRF!A:C,3,FALSE),\" \")","v":" "},0]
["Skiing","CISS Snowboard","Skiing - CISS Snowboard",{"$f":"IFERROR(VLOOKUP(C785,PivotGHRF!A:B,2,FALSE),\" \")","v":" "},"Not in TDSSA",0,{"$f":"IFERROR(VLOOKUP(C785,PivotESA!A:C,3,FALSE),\" \")","v":" "},0,{"$f":"IFERROR(VLOOKUP(C785,PivotGHRF!A:B,2,FALSE),\" \")","v":" "},"Not in TDSSA",0,{"$f":"IFERROR(VLOOKUP(C785,PivotGH!A:C,3,FALSE),\" \")","v":" "},0,{"$f":"IFERROR(VLOOKUP(C785,PivotGHRF!A:B,2,FALSE),\" \")","v":" "},"Not in TDSSA",0,{"$f":"IFERROR(VLOOKUP(C785,PivotGHRF!A:C,3,FALSE),\" \")","v":" "},0]
["Skiing","Freestyle","Skiing - Freestyle",{"$f":"IFERROR(VLOOKUP(C786,PivotGHRF!A:B,2,FALSE),\" \")","v":" "},0.1,0,{"$f":"IFERROR(VLOOKUP(C786,PivotESA!A:C,3,FALSE),\" \")","v":" "},0,{"$f":"IFERROR(VLOOKUP(C786,PivotGHRF!A:B,2,FALSE),\" \")","v":" "},0.05,0,{"$f":"IFERROR(VLOOKUP(C786,PivotGH!A:C,3,FALSE),\" \")","v":" "},0,{"$f":"IFERROR(VLOOKUP(C786,PivotGHRF!A:B,2,FALSE),\" \")","v":" "},0.05,0,{"$f":"IFERROR(VLOOKUP(C786,PivotGHRF!A:C,3,FALSE),\" \")","v":" "},0]
["Skiing","IBSA Alpine Skiing","Skiing - IBSA Alpine Skiing",{"$f":"IFERROR(VLOOKUP(C787,PivotGHRF!A:B,2,FALSE),\" \")","v":" "},"Not in TDSSA",0,{"$f":"IFERROR(VLOOKUP(C787,PivotESA!A:C,3,FALSE),\" \")","v":" "},0,{"$f":"IFERROR(VLOOKUP(C787,PivotGHRF!A:B,2,FALSE),\" \")","v":" "},"Not in TDSSA",0,{"$f":"IFERROR(VLOOKUP(C787,PivotGH!A:C,3,FALSE),\" \")","v":" "},0,{"$f":"IFERROR(VLOOKUP(C787,PivotGHRF!A:B,2,FALSE),\" \")","v":" "},"Not in TDSSA",0,{"$f":"IFERROR(VLOOKUP(C787,PivotGHRF!A:C,3,FALSE),\" \")","v":" "},0]
["Skiing","INAS Alpine","Skiing - INAS Alpine",{"$f":"IFERROR(VLOOKUP(C788,PivotGHRF!A:B,2,FALSE),\" \")","v":" "},"Not in TDSSA",0,{"$f":"IFERROR(VLOOKUP(C788,PivotESA!A:C,3,FALSE),\" \")","v":" "},0,{"$f":"IFERROR(VLOOKUP(C788,PivotGHRF!A:B,2,FALSE),\" \")","v":" "},"Not in TDSSA",0,{"$f":"IFERROR(VLOOKUP(C788,PivotGH!A:C,3,FALSE),\" \")","v":" "},0,{"$f":"IFERROR(VLOOKUP(C788,PivotGHRF!A:B,2,FALSE),\" \")","v":" "},"Not in TDSSA",0,{"$f":"IFERROR(VLOOKUP(C788,PivotGHRF!A:C,3,FALSE),\" \")","v":" "},0]
["Skiing","Military Alpine","Skiing - Military Alpine",{"$f":"IFERROR(VLOOKUP(C789,PivotGHRF!A:B,2,FALSE),\" \")","v":" "},"Not in TDSSA",0,{"$f":"IFERROR(VLOOKUP(C789,PivotESA!A:C,3,FALSE),\" \")","v":" "},0,{"$f":"IFERROR(VLOOKUP(C789,PivotGHRF!A:B,2,FALSE),\" \")","v":" "},"Not in TDSSA",0,{"$f":"IFERROR(VLOOKUP(C789,PivotGH!A:C,3,FALSE),\" \")","v":" "},0,{"$f":"IFERROR(VLOOKUP(C789,PivotGHRF!A:B,2,FALSE),\" \")","v":" "},"Not in TDSSA",0,{"$f":"IFERROR(VLOOKUP(C789,PivotGHRF!A:C,3,FALSE),\" \")","v":" "},0]
["Skiing","Military Cross-Country","Skiing - Military Cross-Country",{"$f":"IFERROR(VLOOKUP(C790,PivotGHRF!A:B,2,FALSE),\" \")","v":" "},"Not in TDSSA",0,{"$f":"IFERROR(VLOOKUP(C790,PivotESA!A:C,3,FALSE),\" \")","v":" "},0,{"$f":"IFERROR(VLOOKUP(C790,PivotGHRF!A:B,2,FALSE),\" \")","v":" "},"Not in TDSSA",0,{"$f":"IFERROR(VLOOKUP(C790,PivotGH!A:C,3,FALSE),\" \")","v":" "},0,{"$f":"IFERROR(VLOOKUP(C790,PivotGHRF!A:B,2,FALSE),\" \")","v":" "},"Not in TDSSA",0,{"$f":"IFERROR(VLOOKUP(C790,PivotGHRF!A:C,3,FALSE),\" \")","v":" "},0]
["Skiing","Military Freestyle","Skiing - Military Freestyle",{"$f":"IFERROR(VLOOKUP(C791,PivotGHRF!A:B,2,FALSE),\" \")","v":" "},"Not in TDSSA",0,{"$f":"IFERROR(VLOOKUP(C791,PivotESA!A:C,3,FALSE),\" \")","v":" "},0,{"$f":"IFERROR(VLOOKUP(C791,PivotGHRF!A:B,2,FALSE),\" \")","v":" "},"Not in TDSSA",0,{"$f":"IFERROR(VLOOKUP(C791,PivotGH!A:C,3,FALSE),\" \")","v":" "},0,{"$f":"IFERROR(VLOOKUP(C791,PivotGHRF!A:B,2,FALSE),\" \")","v":" "},"Not in TDSSA",0,{"$f":"IFERROR(VLOOKUP(C791,PivotGHRF!A:C,3,FALSE),\" \")","v":" "},0]
["Skiing","Military Skiing","Skiing - Military Skiing",{"$f":"IFERROR(VLOOKUP(C792,PivotGHRF!A:B,2,FALSE),\" \")","v":" "},"Not in TDSSA",0,{"$f":"IFERROR(VLOOKUP(C792,PivotESA!A:C,3,FALSE),\" \")","v":" "},0,{"$f":"IFERROR(VLOOKUP(C792,PivotGHRF!A:B,2,FALSE),\" \")","v":" "},"Not in TDSSA",0,{"$f":"IFERROR(VLOOKUP(C792,PivotGH!A:C,3,FALSE),\" \")","v":" "},0,{"$f":"IFERROR(VLOOKUP(C792,PivotGHRF!A:B,2,FALSE),\" \")","v":" "},"Not in TDSSA",0,{"$f":"IFERROR(VLOOKUP(C792,PivotGHRF!A:C,3,FALSE),\" \")","v":" "},0]
["Skiing","Military Nordic Combined","Skiing - Military Nordic Combined",{"$f":"IFERROR(VLOOKUP(C793,PivotGHRF!A:B,2,FALSE),\" \")","v":" "},"Not in TDSSA",0,{"$f":"IFERROR(VLOOKUP(C793,PivotESA!A:C,3,FALSE),\" \")","v":" "},0,{"$f":"IFERROR(VLOOKUP(C793,PivotGHRF!A:B,2,FALSE),\" \")","v":" "},"Not in TDSSA",0,{"$f":"IFERROR(VLOOKUP(C793,PivotGH!A:C,3,FALSE),\" \")","v":" "},0,{"$f":"IFERROR(VLOOKUP(C793,PivotGHRF!A:B,2,FALSE),\" \")","v":" "},"Not in TDSSA",0,{"$f":"IFERROR(VLOOKUP(C793,PivotGHRF!A:C,3,FALSE),\" \")","v":" "},0]
["Skiing","Military Snowboard","Skiing - Military Snowboard",{"$f":"IFERROR(VLOOKUP(C794,PivotGHRF!A:B,2,FALSE),\" \")","v":" "},"Not in TDSSA",0,{"$f":"IFERROR(VLOOKUP(C794,PivotESA!A:C,3,FALSE),\" \")","v":" "},0,{"$f":"IFERROR(VLOOKUP(C794,PivotGHRF!A:B,2,FALSE),\" \")","v":" "},"Not in TDSSA",0,{"$f":"IFERROR(VLOOKUP(C794,PivotGH!A:C,3,FALSE),\" \")","v":" "},0,{"$f":"IFERROR(VLOOKUP(C794,PivotGHRF!A:B,2,FALSE),\" \")","v":" "},"Not in TDSSA",0,{"$f":"IFERROR(VLOOKUP(C794,PivotGHRF!A:C,3,FALSE),\" \")","v":" "},0]
["Skiing","Military Ski Jump","Skiing - Military Ski Jump",{"$f":"IFERROR(VLOOKUP(C795,PivotGHRF!A:B,2,FALSE),\" \")","v":" "},"Not in TDSSA",0,{"$f":"IFERROR(VLOOKUP(C795,PivotESA!A:C,3,FALSE),\" \")","v":" "},0,{"$f":"IFERROR(VLOOKUP(C795,PivotGHRF!A:B,2,FALSE),\" \")","v":" "},"Not in TDSSA",0,{"$f":"IFERROR(VLOOKUP(C795,PivotGH!A:C,3,FALSE),\" \")","v":" "},0,{"$f":"IFERROR(VLOOKUP(C795,PivotGHRF!A:B,2,FALSE),\" \")","v":" "},"Not in TDSSA",0,{"$f":"IFERROR(VLOOKUP(C795,PivotGHRF!A:C,3,FALSE),\" \")","v":" "},0]
["Skiing","Nordic Combined","Skiing - Nordic Combined",{"$f":"IFERROR(VLOOKUP(C796,PivotGHRF!A:B,2,FALSE),\" \")","v":" "},0.3,0,{"$f":"IFERROR(VLOOKUP(C796,PivotESA!A:C,3,FALSE),\" \")","v":" "},0,{"$f":"IFERROR(VLOOKUP(C796,PivotGHRF!A:B,2,FALSE),\" \")","v":" "},0.1,0,{"$f":"IFERROR(VLOOKUP(C796,PivotGH!A:C,3,FALSE),\" \")","v":" "},0,{"$f":"IFERROR(VLOOKUP(C796,PivotGHRF!A:B,2,FALSE),\" \")","v":" "},0.1,0,{"$f":"IFERROR(VLOOKUP(C796,PivotGHRF!A:C,3,FALSE),\" \")","v":" "},0]
["Skiing","IPC Cross-Country (R)","Skiing - IPC Cross-Country (R)",{"$f":"IFERROR(VLOOKUP(C797,PivotGHRF!A:B,2,FALSE),\" \")","v":" "},0.3,0,{"$f":"IFERROR(VLOOKUP(C797,PivotESA!A:C,3,FALSE),\" \")","v":" "},0,{"$f":"IFERROR(VLOOKUP(C797,PivotGHRF!A:B,2,FALSE),\" \")","v":" "},0.1,0,{"$f":"IFERROR(VLOOKUP(C797,PivotGH!A:C,3,FALSE),\" \")","v":" "},0,{"$f":"IFERROR(VLOOKUP(C797,PivotGHRF!A:B,2,FALSE),\" \")","v":" "},0.1,0,{"$f":"IFERROR(VLOOKUP(C797,PivotGHRF!A:C,3,FALSE),\" \")","v":" "},0]
["Skiing","IPC Cross-Country Middle/Long Distance (R)","Skiing - IPC Cross-Country Middle/Long Distance (R)",{"$f":"IFERROR(VLOOKUP(C798,PivotGHRF!A:B,2,FALSE),\" \")","v":" "},0.3,0,{"$f":"IFERROR(VLOOKUP(C798,PivotESA!A:C,3,FALSE),\" \")","v":" "},0,{"$f":"IFERROR(VLOOKUP(C798,PivotGHRF!A:B,2,FALSE),\" \")","v":" "},0.1,0,{"$f":"IFERROR(VLOOKUP(C798,PivotGH!A:C,3,FALSE),\" \")","v":" "},0,{"$f":"IFERROR(VLOOKUP(C798,PivotGHRF!A:B,2,FALSE),\" \")","v":" "},0.1,0,{"$f":"IFERROR(VLOOKUP(C798,PivotGHRF!A:C,3,FALSE),\" \")","v":" "},0]
["Skiing","IPC Biathlon (R)","Skiing - IPC Biathlon (R)",{"$f":"IFERROR(VLOOKUP(C799,PivotGHRF!A:B,2,FALSE),\" \")","v":" "},0.3,0,{"$f":"IFERROR(VLOOKUP(C799,PivotESA!A:C,3,FALSE),\" \")","v":" "},0,{"$f":"IFERROR(VLOOKUP(C799,PivotGHRF!A:B,2,FALSE),\" \")","v":" "},0.1,0,{"$f":"IFERROR(VLOOKUP(C799,PivotGH!A:C,3,FALSE),\" \")","v":" "},0,{"$f":"IFERROR(VLOOKUP(C799,PivotGHRF!A:B,2,FALSE),\" \")","v":" "},0.1,0,{"$f":"IFERROR(VLOOKUP(C799,PivotGHRF!A:C,3,FALSE),\" \")","v":" "},0]
["Skiing","IPC Alpine (R)","Skiing - IPC Alpine (R)",{"$f":"IFERROR(VLOOKUP(C800,PivotGHRF!A:B,2,FALSE),\" \")","v":" "},0.1,0,{"$f":"IFERROR(VLOOKUP(C800,PivotESA!A:C,3,FALSE),\" \")","v":" "},0,{"$f":"IFERROR(VLOOKUP(C800,PivotGHRF!A:B,2,FALSE),\" \")","v":" "},0.05,0,{"$f":"IFERROR(VLOOKUP(C800,PivotGH!A:C,3,FALSE),\" \")","v":" "},0,{"$f":"IFERROR(VLOOKUP(C800,PivotGHRF!A:B,2,FALSE),\" \")","v":" "},0.05,0,{"$f":"IFERROR(VLOOKUP(C800,PivotGHRF!A:C,3,FALSE),\" \")","v":" "},0]
["Skiing","IPC Cross-Country Sprint/Short Distance (R)","Skiing - IPC Cross-Country Sprint/Short Distance (R)",{"$f":"IFERROR(VLOOKUP(C801,PivotGHRF!A:B,2,FALSE),\" \")","v":" "},0.3,0,{"$f":"IFERROR(VLOOKUP(C801,PivotESA!A:C,3,FALSE),\" \")","v":" "},0,{"$f":"IFERROR(VLOOKUP(C801,PivotGHRF!A:B,2,FALSE),\" \")","v":" "},0.1,0,{"$f":"IFERROR(VLOOKUP(C801,PivotGH!A:C,3,FALSE),\" \")","v":" "},0,{"$f":"IFERROR(VLOOKUP(C801,PivotGHRF!A:B,2,FALSE),\" \")","v":" "},0.1,0,{"$f":"IFERROR(VLOOKUP(C801,PivotGHRF!A:C,3,FALSE),\" \")","v":" "},0]
["Skiing","Para-Snowboard (R)","Skiing - Para-Snowboard (R)",{"$f":"IFERROR(VLOOKUP(C802,PivotGHRF!A:B,2,FALSE),\" \")","v":" "},0.05,0,{"$f":"IFERROR(VLOOKUP(C802,PivotESA!A:C,3,FALSE),\" \")","v":" "},0,{"$f":"IFERROR(VLOOKUP(C802,PivotGHRF!A:B,2,FALSE),\" \")","v":" "},0.05,0,{"$f":"IFERROR(VLOOKUP(C802,PivotGH!A:C,3,FALSE),\" \")","v":" "},0,{"$f":"IFERROR(VLOOKUP(C802,PivotGHRF!A:B,2,FALSE),\" \")","v":" "},0.05,0,{"$f":"IFERROR(VLOOKUP(C802,PivotGHRF!A:C,3,FALSE),\" \")","v":" "},0]
["Skiing","Roller Skiing","Skiing - Roller Skiing",{"$f":"IFERROR(VLOOKUP(C803,PivotGHRF!A:B,2,FALSE),\" \")","v":" "},"Not in TDSSA",0,{"$f":"IFERROR(VLOOKUP(C803,PivotESA!A:C,3,FALSE),\" \")","v":" "},0,{"$f":"IFERROR(VLOOKUP(C803,PivotGHRF!A:B,2,FALSE),\" \")","v":" "},"Not in TDSSA",0,{"$f":"IFERROR(VLOOKUP(C803,PivotGH!A:C,3,FALSE),\" \")","v":" "},0,{"$f":"IFERROR(VLOOKUP(C803,PivotGHRF!A:B,2,FALSE),\" \")","v":" "},"Not in TDSSA",0,{"$f":"IFERROR(VLOOKUP(C803,PivotGHRF!A:C,3,FALSE),\" \")","v":" "},0]
["Skiing","Snowboard","Skiing - Snowboard",{"$f":"IFERROR(VLOOKUP(C804,PivotGHRF!A:B,2,FALSE),\" \")","v":" "},0.1,0,{"$f":"IFERROR(VLOOKUP(C804,PivotESA!A:C,3,FALSE),\" \")","v":" "},0,{"$f":"IFERROR(VLOOKUP(C804,PivotGHRF!A:B,2,FALSE),\" \")","v":" "},0.05,0,{"$f":"IFERROR(VLOOKUP(C804,PivotGH!A:C,3,FALSE),\" \")","v":" "},0,{"$f":"IFERROR(VLOOKUP(C804,PivotGHRF!A:B,2,FALSE),\" \")","v":" "},0.05,0,{"$f":"IFERROR(VLOOKUP(C804,PivotGHRF!A:C,3,FALSE),\" \")","v":" "},0]
["Skiing","Ski Jumping","Skiing - Ski Jumping",{"$f":"IFERROR(VLOOKUP(C805,PivotGHRF!A:B,2,FALSE),\" \")","v":" "},0,0,{"$f":"IFERROR(VLOOKUP(C805,PivotESA!A:C,3,FALSE),\" \")","v":" "},0,{"$f":"IFERROR(VLOOKUP(C805,PivotGHRF!A:B,2,FALSE),\" \")","v":" "},0.05,0,{"$f":"IFERROR(VLOOKUP(C805,PivotGH!A:C,3,FALSE),\" \")","v":" "},0,{"$f":"IFERROR(VLOOKUP(C805,PivotGHRF!A:B,2,FALSE),\" \")","v":" "},0.05,0,{"$f":"IFERROR(VLOOKUP(C805,PivotGHRF!A:C,3,FALSE),\" \")","v":" "},0]
["Skiing","Ski Cross (R)","Skiing - Ski Cross (R)",{"$f":"IFERROR(VLOOKUP(C806,PivotGHRF!A:B,2,FALSE),\" \")","v":" "},"Not in TDSSA",0,{"$f":"IFERROR(VLOOKUP(C806,PivotESA!A:C,3,FALSE),\" \")","v":" "},0,{"$f":"IFERROR(VLOOKUP(C806,PivotGHRF!A:B,2,FALSE),\" \")","v":" "},"Not in TDSSA",0,{"$f":"IFERROR(VLOOKUP(C806,PivotGH!A:C,3,FALSE),\" \")","v":" "},0,{"$f":"IFERROR(VLOOKUP(C806,PivotGHRF!A:B,2,FALSE),\" \")","v":" "},"Not in TDSSA",0,{"$f":"IFERROR(VLOOKUP(C806,PivotGHRF!A:C,3,FALSE),\" \")","v":" "},0]
["Skiing","Slopestyle","Skiing - Slopestyle",{"$f":"IFERROR(VLOOKUP(C807,PivotGHRF!A:B,2,FALSE),\" \")","v":" "},"Not in TDSSA",0,{"$f":"IFERROR(VLOOKUP(C807,PivotESA!A:C,3,FALSE),\" \")","v":" "},0,{"$f":"IFERROR(VLOOKUP(C807,PivotGHRF!A:B,2,FALSE),\" \")","v":" "},"Not in TDSSA",0,{"$f":"IFERROR(VLOOKUP(C807,PivotGH!A:C,3,FALSE),\" \")","v":" "},0,{"$f":"IFERROR(VLOOKUP(C807,PivotGHRF!A:B,2,FALSE),\" \")","v":" "},"Not in TDSSA",0,{"$f":"IFERROR(VLOOKUP(C807,PivotGHRF!A:C,3,FALSE),\" \")","v":" "},0]
["Skiing","Telemark","Skiing - Telemark",{"$f":"IFERROR(VLOOKUP(C808,PivotGHRF!A:B,2,FALSE),\" \")","v":" "},"Not in TDSSA",0,{"$f":"IFERROR(VLOOKUP(C808,PivotESA!A:C,3,FALSE),\" \")","v":" "},0,{"$f":"IFERROR(VLOOKUP(C808,PivotGHRF!A:B,2,FALSE),\" \")","v":" "},"Not in TDSSA",0,{"$f":"IFERROR(VLOOKUP(C808,PivotGH!A:C,3,FALSE),\" \")","v":" "},0,{"$f":"IFERROR(VLOOKUP(C808,PivotGHRF!A:B,2,FALSE),\" \")","v":" "},"Not in TDSSA",0,{"$f":"IFERROR(VLOOKUP(C808,PivotGHRF!A:C,3,FALSE),\" \")","v":" "},0]
["Skiing","University Alpine Skiing","Skiing - University Alpine Skiing",{"$f":"IFERROR(VLOOKUP(C809,PivotGHRF!A:B,2,FALSE),\" \")","v":" "},"Not in TDSSA",0,{"$f":"IFERROR(VLOOKUP(C809,PivotESA!A:C,3,FALSE),\" \")","v":" "},0,{"$f":"IFERROR(VLOOKUP(C809,PivotGHRF!A:B,2,FALSE),\" \")","v":" "},"Not in TDSSA",0,{"$f":"IFERROR(VLOOKUP(C809,PivotGH!A:C,3,FALSE),\" \")","v":" "},0,{"$f":"IFERROR(VLOOKUP(C809,PivotGHRF!A:B,2,FALSE),\" \")","v":" "},"Not in TDSSA",0,{"$f":"IFERROR(VLOOKUP(C809,PivotGHRF!A:C,3,FALSE),\" \")","v":" "},0]
["Skiing","University Freestyle Skiing","Skiing - University Freestyle Skiing",{"$f":"IFERROR(VLOOKUP(C810,PivotGHRF!A:B,2,FALSE),\" \")","v":" "},"Not in TDSSA",0,{"$f":"IFERROR(VLOOKUP(C810,PivotESA!A:C,3,FALSE),\" \")","v":" "},0,{"$f":"IFERROR(VLOOKUP(C810,PivotGHRF!A:B,2,FALSE),\" \")","v":" "},"Not in TDSSA",0,{"$f":"IFERROR(VLOOKUP(C810,PivotGH!A:C,3,FALSE),\" \")","v":" "},0,{"$f":"IFERROR(VLOOKUP(C810,PivotGHRF!A:B,2,FALSE),\" \")","v":" "},"Not in TDSSA",0,{"$f":"IFERROR(VLOOKUP(C810,PivotGHRF!A:C,3,FALSE),\" \")","v":" "},0]
["Skiing","University Nordic Combined","Skiing - University Nordic Combined",{"$f":"IFERROR(VLOOKUP(C811,PivotGHRF!A:B,2,FALSE),\" \")","v":" "},"Not in TDSSA",0,{"$f":"IFERROR(VLOOKUP(C811,PivotESA!A:C,3,FALSE),\" \")","v":" "},0,{"$f":"IFERROR(VLOOKUP(C811,PivotGHRF!A:B,2,FALSE),\" \")","v":" "},"Not in TDSSA",0,{"$f":"IFERROR(VLOOKUP(C811,PivotGH!A:C,3,FALSE),\" \")","v":" "},0,{"$f":"IFERROR(VLOOKUP(C811,PivotGHRF!A:B,2,FALSE),\" \")","v":" "},"Not in TDSSA",0,{"$f":"IFERROR(VLOOKUP(C811,PivotGHRF!A:C,3,FALSE),\" \")","v":" "},0]
["Skiing","University Snowboard","Skiing - University Snowboard",{"$f":"IFERROR(VLOOKUP(C812,PivotGHRF!A:B,2,FALSE),\" \")","v":" "},"Not in TDSSA",0,{"$f":"IFERROR(VLOOKUP(C812,PivotESA!A:C,3,FALSE),\" \")","v":" "},0,{"$f":"IFERROR(VLOOKUP(C812,PivotGHRF!A:B,2,FALSE),\" \")","v":" "},"Not in TDSSA",0,{"$f":"IFERROR(VLOOKUP(C812,PivotGH!A:C,3,FALSE),\" \")","v":" "},0,{"$f":"IFERROR(VLOOKUP(C812,PivotGHRF!A:B,2,FALSE),\" \")","v":" "},"Not in TDSSA",0,{"$f":"IFERROR(VLOOKUP(C812,PivotGHRF!A:C,3,FALSE),\" \")","v":" "},0]
["Skiing","University Ski Jumping","Skiing - University Ski Jumping",{"$f":"IFERROR(VLOOKUP(C813,PivotGHRF!A:B,2,FALSE),\" \")","v":" "},"Not in TDSSA",0,{"$f":"IFERROR(VLOOKUP(C813,PivotESA!A:C,3,FALSE),\" \")","v":" "},0,{"$f":"IFERROR(VLOOKUP(C813,PivotGHRF!A:B,2,FALSE),\" \")","v":" "},"Not in TDSSA",0,{"$f":"IFERROR(VLOOKUP(C813,PivotGH!A:C,3,FALSE),\" \")","v":" "},0,{"$f":"IFERROR(VLOOKUP(C813,PivotGHRF!A:B,2,FALSE),\" \")","v":" "},"Not in TDSSA",0,{"$f":"IFERROR(VLOOKUP(C813,PivotGHRF!A:C,3,FALSE),\" \")","v":" "},0]
["Sleddog","Sleddog","Sleddog - Sleddog",{"$f":"IFERROR(VLOOKUP(C814,PivotGHRF!A:B,2,FALSE),\" \")","v":" "},0,0,{"$f":"IFERROR(VLOOKUP(C814,PivotESA!A:C,3,FALSE),\" \")","v":" "},0,{"$f":"IFERROR(VLOOKUP(C814,PivotGHRF!A:B,2,FALSE),\" \")","v":" "},0,0,{"$f":"IFERROR(VLOOKUP(C814,PivotGH!A:C,3,FALSE),\" \")","v":" "},0,{"$f":"IFERROR(VLOOKUP(C814,PivotGHRF!A:B,2,FALSE),\" \")","v":" "},0,0,{"$f":"IFERROR(VLOOKUP(C814,PivotGHRF!A:C,3,FALSE),\" \")","v":" "},0]
["Snowmobile","Snowmobile","Snowmobile - Snowmobile",{"$f":"IFERROR(VLOOKUP(C815,PivotGHRF!A:B,2,FALSE),\" \")","v":" "},"Not in TDSSA",0,{"$f":"IFERROR(VLOOKUP(C815,PivotESA!A:C,3,FALSE),\" \")","v":" "},0,{"$f":"IFERROR(VLOOKUP(C815,PivotGHRF!A:B,2,FALSE),\" \")","v":" "},"Not in TDSSA",0,{"$f":"IFERROR(VLOOKUP(C815,PivotGH!A:C,3,FALSE),\" \")","v":" "},0,{"$f":"IFERROR(VLOOKUP(C815,PivotGHRF!A:B,2,FALSE),\" \")","v":" "},"Not in TDSSA",0,{"$f":"IFERROR(VLOOKUP(C815,PivotGHRF!A:C,3,FALSE),\" \")","v":" "},0]
["Soft Tennis","Soft Tennis","Soft Tennis - Soft Tennis",{"$f":"IFERROR(VLOOKUP(C816,PivotGHRF!A:B,2,FALSE),\" \")","v":" "},0.05,0,{"$f":"IFERROR(VLOOKUP(C816,PivotESA!A:C,3,FALSE),\" \")","v":" "},0,{"$f":"IFERROR(VLOOKUP(C816,PivotGHRF!A:B,2,FALSE),\" \")","v":" "},0.05,0,{"$f":"IFERROR(VLOOKUP(C816,PivotGH!A:C,3,FALSE),\" \")","v":" "},0,{"$f":"IFERROR(VLOOKUP(C816,PivotGHRF!A:B,2,FALSE),\" \")","v":" "},0.05,0,{"$f":"IFERROR(VLOOKUP(C816,PivotGHRF!A:C,3,FALSE),\" \")","v":" "},0]
["Softball","Softball","Softball - Softball",{"$f":"IFERROR(VLOOKUP(C817,PivotGHRF!A:B,2,FALSE),\" \")","v":" "},0.05,0,{"$f":"IFERROR(VLOOKUP(C817,PivotESA!A:C,3,FALSE),\" \")","v":" "},0,{"$f":"IFERROR(VLOOKUP(C817,PivotGHRF!A:B,2,FALSE),\" \")","v":" "},0.1,0,{"$f":"IFERROR(VLOOKUP(C817,PivotGH!A:C,3,FALSE),\" \")","v":" "},0,{"$f":"IFERROR(VLOOKUP(C817,PivotGHRF!A:B,2,FALSE),\" \")","v":" "},0.1,0,{"$f":"IFERROR(VLOOKUP(C817,PivotGHRF!A:C,3,FALSE),\" \")","v":" "},0]
["Softball","University","Softball - University",{"$f":"IFERROR(VLOOKUP(C818,PivotGHRF!A:B,2,FALSE),\" \")","v":" "},"Not in TDSSA",0,{"$f":"IFERROR(VLOOKUP(C818,PivotESA!A:C,3,FALSE),\" \")","v":" "},0,{"$f":"IFERROR(VLOOKUP(C818,PivotGHRF!A:B,2,FALSE),\" \")","v":" "},"Not in TDSSA",0,{"$f":"IFERROR(VLOOKUP(C818,PivotGH!A:C,3,FALSE),\" \")","v":" "},0,{"$f":"IFERROR(VLOOKUP(C818,PivotGHRF!A:B,2,FALSE),\" \")","v":" "},"Not in TDSSA",0,{"$f":"IFERROR(VLOOKUP(C818,PivotGHRF!A:C,3,FALSE),\" \")","v":" "},0]
["Speedball","Speedball","Speedball - Speedball",{"$f":"IFERROR(VLOOKUP(C819,PivotGHRF!A:B,2,FALSE),\" \")","v":" "},"Not in TDSSA",0,{"$f":"IFERROR(VLOOKUP(C819,PivotESA!A:C,3,FALSE),\" \")","v":" "},0,{"$f":"IFERROR(VLOOKUP(C819,PivotGHRF!A:B,2,FALSE),\" \")","v":" "},"Not in TDSSA",0,{"$f":"IFERROR(VLOOKUP(C819,PivotGH!A:C,3,FALSE),\" \")","v":" "},0,{"$f":"IFERROR(VLOOKUP(C819,PivotGHRF!A:B,2,FALSE),\" \")","v":" "},"Not in TDSSA",0,{"$f":"IFERROR(VLOOKUP(C819,PivotGHRF!A:C,3,FALSE),\" \")","v":" "},0]
["Speleology","Speleology","Speleology - Speleology",{"$f":"IFERROR(VLOOKUP(C820,PivotGHRF!A:B,2,FALSE),\" \")","v":" "},"Not in TDSSA",0,{"$f":"IFERROR(VLOOKUP(C820,PivotESA!A:C,3,FALSE),\" \")","v":" "},0,{"$f":"IFERROR(VLOOKUP(C820,PivotGHRF!A:B,2,FALSE),\" \")","v":" "},"Not in TDSSA",0,{"$f":"IFERROR(VLOOKUP(C820,PivotGH!A:C,3,FALSE),\" \")","v":" "},0,{"$f":"IFERROR(VLOOKUP(C820,PivotGHRF!A:B,2,FALSE),\" \")","v":" "},"Not in TDSSA",0,{"$f":"IFERROR(VLOOKUP(C820,PivotGHRF!A:C,3,FALSE),\" \")","v":" "},0]
["Sport Climbing","Boulder","Sport Climbing - Boulder",{"$f":"IFERROR(VLOOKUP(C821,PivotGHRF!A:B,2,FALSE),\" \")","v":" "},0.1,0,{"$f":"IFERROR(VLOOKUP(C821,PivotESA!A:C,3,FALSE),\" \")","v":" "},0,{"$f":"IFERROR(VLOOKUP(C821,PivotGHRF!A:B,2,FALSE),\" \")","v":" "},0.1,0,{"$f":"IFERROR(VLOOKUP(C821,PivotGH!A:C,3,FALSE),\" \")","v":" "},0,{"$f":"IFERROR(VLOOKUP(C821,PivotGHRF!A:B,2,FALSE),\" \")","v":" "},0.1,0,{"$f":"IFERROR(VLOOKUP(C821,PivotGHRF!A:C,3,FALSE),\" \")","v":" "},0]
["Sport Climbing","Lead","Sport Climbing - Lead",{"$f":"IFERROR(VLOOKUP(C822,PivotGHRF!A:B,2,FALSE),\" \")","v":" "},0.1,0,{"$f":"IFERROR(VLOOKUP(C822,PivotESA!A:C,3,FALSE),\" \")","v":" "},0,{"$f":"IFERROR(VLOOKUP(C822,PivotGHRF!A:B,2,FALSE),\" \")","v":" "},0.05,0,{"$f":"IFERROR(VLOOKUP(C822,PivotGH!A:C,3,FALSE),\" \")","v":" "},0,{"$f":"IFERROR(VLOOKUP(C822,PivotGHRF!A:B,2,FALSE),\" \")","v":" "},0.05,0,{"$f":"IFERROR(VLOOKUP(C822,PivotGHRF!A:C,3,FALSE),\" \")","v":" "},0]
["Sport Climbing","Military Sport Climbing","Sport Climbing - Military Sport Climbing",{"$f":"IFERROR(VLOOKUP(C823,PivotGHRF!A:B,2,FALSE),\" \")","v":" "},"Not in TDSSA",0,{"$f":"IFERROR(VLOOKUP(C823,PivotESA!A:C,3,FALSE),\" \")","v":" "},0,{"$f":"IFERROR(VLOOKUP(C823,PivotGHRF!A:B,2,FALSE),\" \")","v":" "},"Not in TDSSA",0,{"$f":"IFERROR(VLOOKUP(C823,PivotGH!A:C,3,FALSE),\" \")","v":" "},0,{"$f":"IFERROR(VLOOKUP(C823,PivotGHRF!A:B,2,FALSE),\" \")","v":" "},"Not in TDSSA",0,{"$f":"IFERROR(VLOOKUP(C823,PivotGHRF!A:C,3,FALSE),\" \")","v":" "},0]
["Sport Climbing","Mountain Running","Sport Climbing - Mountain Running",{"$f":"IFERROR(VLOOKUP(C824,PivotGHRF!A:B,2,FALSE),\" \")","v":" "},"Not in TDSSA",0,{"$f":"IFERROR(VLOOKUP(C824,PivotESA!A:C,3,FALSE),\" \")","v":" "},0,{"$f":"IFERROR(VLOOKUP(C824,PivotGHRF!A:B,2,FALSE),\" \")","v":" "},"Not in TDSSA",0,{"$f":"IFERROR(VLOOKUP(C824,PivotGH!A:C,3,FALSE),\" \")","v":" "},0,{"$f":"IFERROR(VLOOKUP(C824,PivotGHRF!A:B,2,FALSE),\" \")","v":" "},"Not in TDSSA",0,{"$f":"IFERROR(VLOOKUP(C824,PivotGHRF!A:C,3,FALSE),\" \")","v":" "},0]
["Sport Climbing","Para-Climbing","Sport Climbing - Para-Climbing",{"$f":"IFERROR(VLOOKUP(C825,PivotGHRF!A:B,2,FALSE),\" \")","v":" "},"Not in TDSSA",0,{"$f":"IFERROR(VLOOKUP(C825,PivotESA!A:C,3,FALSE),\" \")","v":" "},0,{"$f":"IFERROR(VLOOKUP(C825,PivotGHRF!A:B,2,FALSE),\" \")","v":" "},"Not in TDSSA",0,{"$f":"IFERROR(VLOOKUP(C825,PivotGH!A:C,3,FALSE),\" \")","v":" "},0,{"$f":"IFERROR(VLOOKUP(C825,PivotGHRF!A:B,2,FALSE),\" \")","v":" "},"Not in TDSSA",0,{"$f":"IFERROR(VLOOKUP(C825,PivotGHRF!A:C,3,FALSE),\" \")","v":" "},0]
["Sport Climbing","Combined","Sport Climbing - Combined",{"$f":"IFERROR(VLOOKUP(C826,PivotGHRF!A:B,2,FALSE),\" \")","v":" "},"Not in TDSSA",0,{"$f":"IFERROR(VLOOKUP(C826,PivotESA!A:C,3,FALSE),\" \")","v":" "},0,{"$f":"IFERROR(VLOOKUP(C826,PivotGHRF!A:B,2,FALSE),\" \")","v":" "},"Not in TDSSA",0,{"$f":"IFERROR(VLOOKUP(C826,PivotGH!A:C,3,FALSE),\" \")","v":" "},0,{"$f":"IFERROR(VLOOKUP(C826,PivotGHRF!A:B,2,FALSE),\" \")","v":" "},"Not in TDSSA",0,{"$f":"IFERROR(VLOOKUP(C826,PivotGHRF!A:C,3,FALSE),\" \")","v":" "},0]
["Sport Climbing","Speed","Sport Climbing - Speed",{"$f":"IFERROR(VLOOKUP(C827,PivotGHRF!A:B,2,FALSE),\" \")","v":" "},0.1,0,{"$f":"IFERROR(VLOOKUP(C827,PivotESA!A:C,3,FALSE),\" \")","v":" "},0,{"$f":"IFERROR(VLOOKUP(C827,PivotGHRF!A:B,2,FALSE),\" \")","v":" "},0.05,0,{"$f":"IFERROR(VLOOKUP(C827,PivotGH!A:C,3,FALSE),\" \")","v":" "},0,{"$f":"IFERROR(VLOOKUP(C827,PivotGHRF!A:B,2,FALSE),\" \")","v":" "},0.05,0,{"$f":"IFERROR(VLOOKUP(C827,PivotGHRF!A:C,3,FALSE),\" \")","v":" "},0]
["Sport Climbing","University Sport Climbing","Sport Climbing - University Sport Climbing",{"$f":"IFERROR(VLOOKUP(C828,PivotGHRF!A:B,2,FALSE),\" \")","v":" "},"Not in TDSSA",0,{"$f":"IFERROR(VLOOKUP(C828,PivotESA!A:C,3,FALSE),\" \")","v":" "},0,{"$f":"IFERROR(VLOOKUP(C828,PivotGHRF!A:B,2,FALSE),\" \")","v":" "},"Not in TDSSA",0,{"$f":"IFERROR(VLOOKUP(C828,PivotGH!A:C,3,FALSE),\" \")","v":" "},0,{"$f":"IFERROR(VLOOKUP(C828,PivotGHRF!A:B,2,FALSE),\" \")","v":" "},"Not in TDSSA",0,{"$f":"IFERROR(VLOOKUP(C828,PivotGHRF!A:C,3,FALSE),\" \")","v":" "},0]
["Sport Fishing","Fly Sport Fishing","Sport Fishing - Fly Sport Fishing",{"$f":"IFERROR(VLOOKUP(C829,PivotGHRF!A:B,2,FALSE),\" \")","v":" "},0,0,{"$f":"IFERROR(VLOOKUP(C829,PivotESA!A:C,3,FALSE),\" \")","v":" "},0,{"$f":"IFERROR(VLOOKUP(C829,PivotGHRF!A:B,2,FALSE),\" \")","v":" "},0,0,{"$f":"IFERROR(VLOOKUP(C829,PivotGH!A:C,3,FALSE),\" \")","v":" "},0,{"$f":"IFERROR(VLOOKUP(C829,PivotGHRF!A:B,2,FALSE),\" \")","v":" "},0,0,{"$f":"IFERROR(VLOOKUP(C829,PivotGHRF!A:C,3,FALSE),\" \")","v":" "},0]
["Sport Fishing","Fresh Water Sport Fishing","Sport Fishing - Fresh Water Sport Fishing",{"$f":"IFERROR(VLOOKUP(C830,PivotGHRF!A:B,2,FALSE),\" \")","v":" "},0,0,{"$f":"IFERROR(VLOOKUP(C830,PivotESA!A:C,3,FALSE),\" \")","v":" "},0,{"$f":"IFERROR(VLOOKUP(C830,PivotGHRF!A:B,2,FALSE),\" \")","v":" "},0,0,{"$f":"IFERROR(VLOOKUP(C830,PivotGH!A:C,3,FALSE),\" \")","v":" "},0,{"$f":"IFERROR(VLOOKUP(C830,PivotGHRF!A:B,2,FALSE),\" \")","v":" "},0,0,{"$f":"IFERROR(VLOOKUP(C830,PivotGHRF!A:C,3,FALSE),\" \")","v":" "},0]
["Sport Fishing","Sport Fishing","Sport Fishing - Sport Fishing",{"$f":"IFERROR(VLOOKUP(C831,PivotGHRF!A:B,2,FALSE),\" \")","v":" "},0,0,{"$f":"IFERROR(VLOOKUP(C831,PivotESA!A:C,3,FALSE),\" \")","v":" "},0,{"$f":"IFERROR(VLOOKUP(C831,PivotGHRF!A:B,2,FALSE),\" \")","v":" "},0,0,{"$f":"IFERROR(VLOOKUP(C831,PivotGH!A:C,3,FALSE),\" \")","v":" "},0,{"$f":"IFERROR(VLOOKUP(C831,PivotGHRF!A:B,2,FALSE),\" \")","v":" "},0,0,{"$f":"IFERROR(VLOOKUP(C831,PivotGHRF!A:C,3,FALSE),\" \")","v":" "},0]
["Sport Fishing","Sea Angling","Sport Fishing - Sea Angling",{"$f":"IFERROR(VLOOKUP(C832,PivotGHRF!A:B,2,FALSE),\" \")","v":" "},0,0,{"$f":"IFERROR(VLOOKUP(C832,PivotESA!A:C,3,FALSE),\" \")","v":" "},0,{"$f":"IFERROR(VLOOKUP(C832,PivotGHRF!A:B,2,FALSE),\" \")","v":" "},0,0,{"$f":"IFERROR(VLOOKUP(C832,PivotGH!A:C,3,FALSE),\" \")","v":" "},0,{"$f":"IFERROR(VLOOKUP(C832,PivotGHRF!A:B,2,FALSE),\" \")","v":" "},0,0,{"$f":"IFERROR(VLOOKUP(C832,PivotGHRF!A:C,3,FALSE),\" \")","v":" "},0]
["Squash","Squash","Squash - Squash",{"$f":"IFERROR(VLOOKUP(C833,PivotGHRF!A:B,2,FALSE),\" \")","v":" "},0.1,0,{"$f":"IFERROR(VLOOKUP(C833,PivotESA!A:C,3,FALSE),\" \")","v":" "},0,{"$f":"IFERROR(VLOOKUP(C833,PivotGHRF!A:B,2,FALSE),\" \")","v":" "},0.05,0,{"$f":"IFERROR(VLOOKUP(C833,PivotGH!A:C,3,FALSE),\" \")","v":" "},0,{"$f":"IFERROR(VLOOKUP(C833,PivotGHRF!A:B,2,FALSE),\" \")","v":" "},0.05,0,{"$f":"IFERROR(VLOOKUP(C833,PivotGHRF!A:C,3,FALSE),\" \")","v":" "},0]
["Squash","University","Squash - University",{"$f":"IFERROR(VLOOKUP(C834,PivotGHRF!A:B,2,FALSE),\" \")","v":" "},"Not in TDSSA",0,{"$f":"IFERROR(VLOOKUP(C834,PivotESA!A:C,3,FALSE),\" \")","v":" "},0,{"$f":"IFERROR(VLOOKUP(C834,PivotGHRF!A:B,2,FALSE),\" \")","v":" "},"Not in TDSSA",0,{"$f":"IFERROR(VLOOKUP(C834,PivotGH!A:C,3,FALSE),\" \")","v":" "},0,{"$f":"IFERROR(VLOOKUP(C834,PivotGHRF!A:B,2,FALSE),\" \")","v":" "},"Not in TDSSA",0,{"$f":"IFERROR(VLOOKUP(C834,PivotGHRF!A:C,3,FALSE),\" \")","v":" "},0]
["Street and Ball Hockey","Street and Ball Hockey","Street and Ball Hockey - Street and Ball Hockey",{"$f":"IFERROR(VLOOKUP(C835,PivotGHRF!A:B,2,FALSE),\" \")","v":" "},"Not in TDSSA",0,{"$f":"IFERROR(VLOOKUP(C835,PivotESA!A:C,3,FALSE),\" \")","v":" "},0,{"$f":"IFERROR(VLOOKUP(C835,PivotGHRF!A:B,2,FALSE),\" \")","v":" "},"Not in TDSSA",0,{"$f":"IFERROR(VLOOKUP(C835,PivotGH!A:C,3,FALSE),\" \")","v":" "},0,{"$f":"IFERROR(VLOOKUP(C835,PivotGHRF!A:B,2,FALSE),\" \")","v":" "},"Not in TDSSA",0,{"$f":"IFERROR(VLOOKUP(C835,PivotGHRF!A:C,3,FALSE),\" \")","v":" "},0]
["Strongman","Strongman","Strongman - Strongman",{"$f":"IFERROR(VLOOKUP(C836,PivotGHRF!A:B,2,FALSE),\" \")","v":" "},"Not in TDSSA",0,{"$f":"IFERROR(VLOOKUP(C836,PivotESA!A:C,3,FALSE),\" \")","v":" "},0,{"$f":"IFERROR(VLOOKUP(C836,PivotGHRF!A:B,2,FALSE),\" \")","v":" "},"Not in TDSSA",0,{"$f":"IFERROR(VLOOKUP(C836,PivotGH!A:C,3,FALSE),\" \")","v":" "},0,{"$f":"IFERROR(VLOOKUP(C836,PivotGHRF!A:B,2,FALSE),\" \")","v":" "},"Not in TDSSA",0,{"$f":"IFERROR(VLOOKUP(C836,PivotGHRF!A:C,3,FALSE),\" \")","v":" "},0]
["Sumo","Sumo","Sumo - Sumo",{"$f":"IFERROR(VLOOKUP(C837,PivotGHRF!A:B,2,FALSE),\" \")","v":" "},0.1,0,{"$f":"IFERROR(VLOOKUP(C837,PivotESA!A:C,3,FALSE),\" \")","v":" "},0,{"$f":"IFERROR(VLOOKUP(C837,PivotGHRF!A:B,2,FALSE),\" \")","v":" "},0.1,0,{"$f":"IFERROR(VLOOKUP(C837,PivotGH!A:C,3,FALSE),\" \")","v":" "},0,{"$f":"IFERROR(VLOOKUP(C837,PivotGHRF!A:B,2,FALSE),\" \")","v":" "},0.1,0,{"$f":"IFERROR(VLOOKUP(C837,PivotGHRF!A:C,3,FALSE),\" \")","v":" "},0]
["Surfing","Body Board","Surfing - Body Board",{"$f":"IFERROR(VLOOKUP(C838,PivotGHRF!A:B,2,FALSE),\" \")","v":" "},0.1,0,{"$f":"IFERROR(VLOOKUP(C838,PivotESA!A:C,3,FALSE),\" \")","v":" "},0,{"$f":"IFERROR(VLOOKUP(C838,PivotGHRF!A:B,2,FALSE),\" \")","v":" "},0.05,0,{"$f":"IFERROR(VLOOKUP(C838,PivotGH!A:C,3,FALSE),\" \")","v":" "},0,{"$f":"IFERROR(VLOOKUP(C838,PivotGHRF!A:B,2,FALSE),\" \")","v":" "},0.05,0,{"$f":"IFERROR(VLOOKUP(C838,PivotGHRF!A:C,3,FALSE),\" \")","v":" "},0]
["Surfing","Professional Surfing","Surfing - Professional Surfing",{"$f":"IFERROR(VLOOKUP(C839,PivotGHRF!A:B,2,FALSE),\" \")","v":" "},"Not in TDSSA",0,{"$f":"IFERROR(VLOOKUP(C839,PivotESA!A:C,3,FALSE),\" \")","v":" "},{"$f":"IFERROR(F839-G839,0)","v":0},{"$f":"IFERROR(VLOOKUP(C839,PivotGHRF!A:B,2,FALSE),\" \")","v":" "},"Not in TDSSA",0,{"$f":"IFERROR(VLOOKUP(C839,PivotGH!A:C,3,FALSE),\" \")","v":" "},{"$f":"IFERROR(K839-L839,0)","v":0},{"$f":"IFERROR(VLOOKUP(C839,PivotGHRF!A:B,2,FALSE),\" \")","v":" "},"Not in TDSSA",0,{"$f":"IFERROR(VLOOKUP(C839,PivotGHRF!A:C,3,FALSE),\" \")","v":" "},{"$f":"IFERROR(P839-Q839,0)","v":0}]
["Surfing","Surfing","Surfing - Surfing",{"$f":"IFERROR(VLOOKUP(C840,PivotGHRF!A:B,2,FALSE),\" \")","v":" "},0.1,{"$f":"IFERROR(ROUNDUP(E840*D840,0),0)","v":0},{"$f":"IFERROR(VLOOKUP(C840,PivotESA!A:C,3,FALSE),\" \")","v":" "},0,{"$f":"IFERROR(VLOOKUP(C840,PivotGHRF!A:B,2,FALSE),\" \")","v":" "},0.05,{"$f":"IFERROR(ROUNDUP(J840*I840,0),0)","v":0},{"$f":"IFERROR(VLOOKUP(C840,PivotGH!A:C,3,FALSE),\" \")","v":" "},0,{"$f":"IFERROR(VLOOKUP(C840,PivotGHRF!A:B,2,FALSE),\" \")","v":" "},0.05,{"$f":"IFERROR(ROUNDUP(O840*N840,0),0)","v":0},{"$f":"IFERROR(VLOOKUP(C840,PivotGHRF!A:C,3,FALSE),\" \")","v":" "},0]
["Surfing","Stand Up Paddle","Surfing - Stand Up Paddle",{"$f":"IFERROR(VLOOKUP(C841,PivotGHRF!A:B,2,FALSE),\" \")","v":" "},0.1,0,{"$f":"IFERROR(VLOOKUP(C841,PivotESA!A:C,3,FALSE),\" \")","v":" "},0,{"$f":"IFERROR(VLOOKUP(C841,PivotGHRF!A:B,2,FALSE),\" \")","v":" "},0.05,0,{"$f":"IFERROR(VLOOKUP(C841,PivotGH!A:C,3,FALSE),\" \")","v":" "},0,{"$f":"IFERROR(VLOOKUP(C841,PivotGHRF!A:B,2,FALSE),\" \")","v":" "},0.05,0,{"$f":"IFERROR(VLOOKUP(C841,PivotGHRF!A:C,3,FALSE),\" \")","v":" "},0]
["Surfing","Wind Surfing","Surfing - Wind Surfing",{"$f":"IFERROR(VLOOKUP(C842,PivotGHRF!A:B,2,FALSE),\" \")","v":" "},0.1,0,{"$f":"IFERROR(VLOOKUP(C842,PivotESA!A:C,3,FALSE),\" \")","v":" "},0,{"$f":"IFERROR(VLOOKUP(C842,PivotGHRF!A:B,2,FALSE),\" \")","v":" "},0.05,0,{"$f":"IFERROR(VLOOKUP(C842,PivotGH!A:C,3,FALSE),\" \")","v":" "},0,{"$f":"IFERROR(VLOOKUP(C842,PivotGHRF!A:B,2,FALSE),\" \")","v":" "},0.05,0,{"$f":"IFERROR(VLOOKUP(C842,PivotGHRF!A:C,3,FALSE),\" \")","v":" "},0]
["Table Tennis","CISS Table Tennis","Table Tennis - CISS Table Tennis",{"$f":"IFERROR(VLOOKUP(C843,PivotGHRF!A:B,2,FALSE),\" \")","v":" "},"Not in TDSSA",0,{"$f":"IFERROR(VLOOKUP(C843,PivotESA!A:C,3,FALSE),\" \")","v":" "},0,{"$f":"IFERROR(VLOOKUP(C843,PivotGHRF!A:B,2,FALSE),\" \")","v":" "},"Not in TDSSA",0,{"$f":"IFERROR(VLOOKUP(C843,PivotGH!A:C,3,FALSE),\" \")","v":" "},0,{"$f":"IFERROR(VLOOKUP(C843,PivotGHRF!A:B,2,FALSE),\" \")","v":" "},"Not in TDSSA",0,{"$f":"IFERROR(VLOOKUP(C843,PivotGHRF!A:C,3,FALSE),\" \")","v":" "},0]
["Table Tennis","INAS Table Tennis","Table Tennis - INAS Table Tennis",{"$f":"IFERROR(VLOOKUP(C844,PivotGHRF!A:B,2,FALSE),\" \")","v":" "},"Not in TDSSA",0,{"$f":"IFERROR(VLOOKUP(C844,PivotESA!A:C,3,FALSE),\" \")","v":" "},0,{"$f":"IFERROR(VLOOKUP(C844,PivotGHRF!A:B,2,FALSE),\" \")","v":" "},"Not in TDSSA",0,{"$f":"IFERROR(VLOOKUP(C844,PivotGH!A:C,3,FALSE),\" \")","v":" "},0,{"$f":"IFERROR(VLOOKUP(C844,PivotGHRF!A:B,2,FALSE),\" \")","v":" "},"Not in TDSSA",0,{"$f":"IFERROR(VLOOKUP(C844,PivotGHRF!A:C,3,FALSE),\" \")","v":" "},0]
["Table Tennis","Para-Table Tennis","Table Tennis - Para-Table Tennis",{"$f":"IFERROR(VLOOKUP(C845,PivotGHRF!A:B,2,FALSE),\" \")","v":" "},0.05,0,{"$f":"IFERROR(VLOOKUP(C845,PivotESA!A:C,3,FALSE),\" \")","v":" "},0,{"$f":"IFERROR(VLOOKUP(C845,PivotGHRF!A:B,2,FALSE),\" \")","v":" "},0.05,0,{"$f":"IFERROR(VLOOKUP(C845,PivotGH!A:C,3,FALSE),\" \")","v":" "},0,{"$f":"IFERROR(VLOOKUP(C845,PivotGHRF!A:B,2,FALSE),\" \")","v":" "},0.05,0,{"$f":"IFERROR(VLOOKUP(C845,PivotGHRF!A:C,3,FALSE),\" \")","v":" "},0]
["Table Tennis","Table Tennis","Table Tennis - Table Tennis",{"$f":"IFERROR(VLOOKUP(C846,PivotGHRF!A:B,2,FALSE),\" \")","v":" "},0.05,0,{"$f":"IFERROR(VLOOKUP(C846,PivotESA!A:C,3,FALSE),\" \")","v":" "},0,{"$f":"IFERROR(VLOOKUP(C846,PivotGHRF!A:B,2,FALSE),\" \")","v":" "},0.05,0,{"$f":"IFERROR(VLOOKUP(C846,PivotGH!A:C,3,FALSE),\" \")","v":" "},0,{"$f":"IFERROR(VLOOKUP(C846,PivotGHRF!A:B,2,FALSE),\" \")","v":" "},0.05,0,{"$f":"IFERROR(VLOOKUP(C846,PivotGHRF!A:C,3,FALSE),\" \")","v":" "},0]
["Table Tennis","University","Table Tennis - University",{"$f":"IFERROR(VLOOKUP(C847,PivotGHRF!A:B,2,FALSE),\" \")","v":" "},"Not in TDSSA",0,{"$f":"IFERROR(VLOOKUP(C847,PivotESA!A:C,3,FALSE),\" \")","v":" "},0,{"$f":"IFERROR(VLOOKUP(C847,PivotGHRF!A:B,2,FALSE),\" \")","v":" "},"Not in TDSSA",0,{"$f":"IFERROR(VLOOKUP(C847,PivotGH!A:C,3,FALSE),\" \")","v":" "},0,{"$f":"IFERROR(VLOOKUP(C847,PivotGHRF!A:B,2,FALSE),\" \")","v":" "},"Not in TDSSA",0,{"$f":"IFERROR(VLOOKUP(C847,PivotGHRF!A:C,3,FALSE),\" \")","v":" "},0]
["Taekwondo","CISS Taekwondo","Taekwondo - CISS Taekwondo",{"$f":"IFERROR(VLOOKUP(C848,PivotGHRF!A:B,2,FALSE),\" \")","v":" "},"Not in TDSSA",0,{"$f":"IFERROR(VLOOKUP(C848,PivotESA!A:C,3,FALSE),\" \")","v":" "},0,{"$f":"IFERROR(VLOOKUP(C848,PivotGHRF!A:B,2,FALSE),\" \")","v":" "},"Not in TDSSA",0,{"$f":"IFERROR(VLOOKUP(C848,PivotGH!A:C,3,FALSE),\" \")","v":" "},0,{"$f":"IFERROR(VLOOKUP(C848,PivotGHRF!A:B,2,FALSE),\" \")","v":" "},"Not in TDSSA",0,{"$f":"IFERROR(VLOOKUP(C848,PivotGHRF!A:C,3,FALSE),\" \")","v":" "},0]
["Taekwondo","ITF Taekwondo","Taekwondo - ITF Taekwondo",{"$f":"IFERROR(VLOOKUP(C849,PivotGHRF!A:B,2,FALSE),\" \")","v":" "},"Not in TDSSA",0,{"$f":"IFERROR(VLOOKUP(C849,PivotESA!A:C,3,FALSE),\" \")","v":" "},0,{"$f":"IFERROR(VLOOKUP(C849,PivotGHRF!A:B,2,FALSE),\" \")","v":" "},"Not in TDSSA",0,{"$f":"IFERROR(VLOOKUP(C849,PivotGH!A:C,3,FALSE),\" \")","v":" "},0,{"$f":"IFERROR(VLOOKUP(C849,PivotGHRF!A:B,2,FALSE),\" \")","v":" "},"Not in TDSSA",0,{"$f":"IFERROR(VLOOKUP(C849,PivotGHRF!A:C,3,FALSE),\" \")","v":" "},0]
["Taekwondo","Military Taekwondo","Taekwondo - Military Taekwondo",{"$f":"IFERROR(VLOOKUP(C850,PivotGHRF!A:B,2,FALSE),\" \")","v":" "},"Not in TDSSA",0,{"$f":"IFERROR(VLOOKUP(C850,PivotESA!A:C,3,FALSE),\" \")","v":" "},0,{"$f":"IFERROR(VLOOKUP(C850,PivotGHRF!A:B,2,FALSE),\" \")","v":" "},"Not in TDSSA",0,{"$f":"IFERROR(VLOOKUP(C850,PivotGH!A:C,3,FALSE),\" \")","v":" "},0,{"$f":"IFERROR(VLOOKUP(C850,PivotGHRF!A:B,2,FALSE),\" \")","v":" "},"Not in TDSSA",0,{"$f":"IFERROR(VLOOKUP(C850,PivotGHRF!A:C,3,FALSE),\" \")","v":" "},0]
["Taekwondo","Military Taekwondo Poomsae","Taekwondo - Military Taekwondo Poomsae",{"$f":"IFERROR(VLOOKUP(C851,PivotGHRF!A:B,2,FALSE),\" \")","v":" "},"Not in TDSSA",0,{"$f":"IFERROR(VLOOKUP(C851,PivotESA!A:C,3,FALSE),\" \")","v":" "},0,{"$f":"IFERROR(VLOOKUP(C851,PivotGHRF!A:B,2,FALSE),\" \")","v":" "},"Not in TDSSA",0,{"$f":"IFERROR(VLOOKUP(C851,PivotGH!A:C,3,FALSE),\" \")","v":" "},0,{"$f":"IFERROR(VLOOKUP(C851,PivotGHRF!A:B,2,FALSE),\" \")","v":" "},"Not in TDSSA",0,{"$f":"IFERROR(VLOOKUP(C851,PivotGHRF!A:C,3,FALSE),\" \")","v":" "},0]
["Taekwondo","Military Taekwondo Sparring","Taekwondo - Military Taekwondo Sparring",{"$f":"IFERROR(VLOOKUP(C852,PivotGHRF!A:B,2,FALSE),\" \")","v":" "},"Not in TDSSA",0,{"$f":"IFERROR(VLOOKUP(C852,PivotESA!A:C,3,FALSE),\" \")","v":" "},0,{"$f":"IFERROR(VLOOKUP(C852,PivotGHRF!A:B,2,FALSE),\" \")","v":" "},"Not in TDSSA",0,{"$f":"IFERROR(VLOOKUP(C852,PivotGH!A:C,3,FALSE),\" \")","v":" "},0,{"$f":"IFERROR(VLOOKUP(C852,PivotGHRF!A:B,2,FALSE),\" \")","v":" "},"Not in TDSSA",0,{"$f":"IFERROR(VLOOKUP(C852,PivotGHRF!A:C,3,FALSE),\" \")","v":" "},0]
["Taekwondo","Para-Taekwondo-Kyorugi","Taekwondo - Para-Taekwondo-Kyorugi",{"$f":"IFERROR(VLOOKUP(C853,PivotGHRF!A:B,2,FALSE),\" \")","v":" "},0.1,0,{"$f":"IFERROR(VLOOKUP(C853,PivotESA!A:C,3,FALSE),\" \")","v":" "},0,{"$f":"IFERROR(VLOOKUP(C853,PivotGHRF!A:B,2,FALSE),\" \")","v":" "},0.1,0,{"$f":"IFERROR(VLOOKUP(C853,PivotGH!A:C,3,FALSE),\" \")","v":" "},0,{"$f":"IFERROR(VLOOKUP(C853,PivotGHRF!A:B,2,FALSE),\" \")","v":" "},0.1,0,{"$f":"IFERROR(VLOOKUP(C853,PivotGHRF!A:C,3,FALSE),\" \")","v":" "},0]
["Taekwondo","Para-Taekwondo Poomsae","Taekwondo - Para-Taekwondo Poomsae",{"$f":"IFERROR(VLOOKUP(C854,PivotGHRF!A:B,2,FALSE),\" \")","v":" "},"Not in TDSSA",0,{"$f":"IFERROR(VLOOKUP(C854,PivotESA!A:C,3,FALSE),\" \")","v":" "},0,{"$f":"IFERROR(VLOOKUP(C854,PivotGHRF!A:B,2,FALSE),\" \")","v":" "},"Not in TDSSA",0,{"$f":"IFERROR(VLOOKUP(C854,PivotGH!A:C,3,FALSE),\" \")","v":" "},0,{"$f":"IFERROR(VLOOKUP(C854,PivotGHRF!A:B,2,FALSE),\" \")","v":" "},"Not in TDSSA",0,{"$f":"IFERROR(VLOOKUP(C854,PivotGHRF!A:C,3,FALSE),\" \")","v":" "},0]
["Taekwondo","Poomsae","Taekwondo - Poomsae",{"$f":"IFERROR(VLOOKUP(C855,PivotGHRF!A:B,2,FALSE),\" \")","v":" "},0.05,0,{"$f":"IFERROR(VLOOKUP(C855,PivotESA!A:C,3,FALSE),\" \")","v":" "},0,{"$f":"IFERROR(VLOOKUP(C855,PivotGHRF!A:B,2,FALSE),\" \")","v":" "},0.05,0,{"$f":"IFERROR(VLOOKUP(C855,PivotGH!A:C,3,FALSE),\" \")","v":" "},0,{"$f":"IFERROR(VLOOKUP(C855,PivotGHRF!A:B,2,FALSE),\" \")","v":" "},0.05,0,{"$f":"IFERROR(VLOOKUP(C855,PivotGHRF!A:C,3,FALSE),\" \")","v":" "},0]
["Taekwondo","Sparring","Taekwondo - Sparring",{"$f":"IFERROR(VLOOKUP(C856,PivotGHRF!A:B,2,FALSE),\" \")","v":" "},0.1,0,{"$f":"IFERROR(VLOOKUP(C856,PivotESA!A:C,3,FALSE),\" \")","v":" "},0,{"$f":"IFERROR(VLOOKUP(C856,PivotGHRF!A:B,2,FALSE),\" \")","v":" "},0.1,0,{"$f":"IFERROR(VLOOKUP(C856,PivotGH!A:C,3,FALSE),\" \")","v":" "},0,{"$f":"IFERROR(VLOOKUP(C856,PivotGHRF!A:B,2,FALSE),\" \")","v":" "},0.1,0,{"$f":"IFERROR(VLOOKUP(C856,PivotGHRF!A:C,3,FALSE),\" \")","v":" "},0]
["Taekwondo","University","Taekwondo - University",{"$f":"IFERROR(VLOOKUP(C857,PivotGHRF!A:B,2,FALSE),\" \")","v":" "},"Not in TDSSA",0,{"$f":"IFERROR(VLOOKUP(C857,PivotESA!A:C,3,FALSE),\" \")","v":" "},0,{"$f":"IFERROR(VLOOKUP(C857,PivotGHRF!A:B,2,FALSE),\" \")","v":" "},"Not in TDSSA",0,{"$f":"IFERROR(VLOOKUP(C857,PivotGH!A:C,3,FALSE),\" \")","v":" "},0,{"$f":"IFERROR(VLOOKUP(C857,PivotGHRF!A:B,2,FALSE),\" \")","v":" "},"Not in TDSSA",0,{"$f":"IFERROR(VLOOKUP(C857,PivotGHRF!A:C,3,FALSE),\" \")","v":" "},0]
["Taekwondo","University Poomsae","Taekwondo - University Poomsae",{"$f":"IFERROR(VLOOKUP(C858,PivotGHRF!A:B,2,FALSE),\" \")","v":" "},"Not in TDSSA",0,{"$f":"IFERROR(VLOOKUP(C858,PivotESA!A:C,3,FALSE),\" \")","v":" "},0,{"$f":"IFERROR(VLOOKUP(C858,PivotGHRF!A:B,2,FALSE),\" \")","v":" "},"Not in TDSSA",0,{"$f":"IFERROR(VLOOKUP(C858,PivotGH!A:C,3,FALSE),\" \")","v":" "},0,{"$f":"IFERROR(VLOOKUP(C858,PivotGHRF!A:B,2,FALSE),\" \")","v":" "},"Not in TDSSA",0,{"$f":"IFERROR(VLOOKUP(C858,PivotGHRF!A:C,3,FALSE),\" \")","v":" "},0]
["Taekwondo","University Sparring","Taekwondo - University Sparring",{"$f":"IFERROR(VLOOKUP(C859,PivotGHRF!A:B,2,FALSE),\" \")","v":" "},"Not in TDSSA",0,{"$f":"IFERROR(VLOOKUP(C859,PivotESA!A:C,3,FALSE),\" \")","v":" "},0,{"$f":"IFERROR(VLOOKUP(C859,PivotGHRF!A:B,2,FALSE),\" \")","v":" "},"Not in TDSSA",0,{"$f":"IFERROR(VLOOKUP(C859,PivotGH!A:C,3,FALSE),\" \")","v":" "},0,{"$f":"IFERROR(VLOOKUP(C859,PivotGHRF!A:B,2,FALSE),\" \")","v":" "},"Not in TDSSA",0,{"$f":"IFERROR(VLOOKUP(C859,PivotGHRF!A:C,3,FALSE),\" \")","v":" "},0]
["Taekwondo - AUT","Taekwondo - AUT","Taekwondo - AUT - Taekwondo - AUT",{"$f":"IFERROR(VLOOKUP(C860,PivotGHRF!A:B,2,FALSE),\" \")","v":" "},"Not in TDSSA",0,{"$f":"IFERROR(VLOOKUP(C860,PivotESA!A:C,3,FALSE),\" \")","v":" "},0,{"$f":"IFERROR(VLOOKUP(C860,PivotGHRF!A:B,2,FALSE),\" \")","v":" "},"Not in TDSSA",0,{"$f":"IFERROR(VLOOKUP(C860,PivotGH!A:C,3,FALSE),\" \")","v":" "},0,{"$f":"IFERROR(VLOOKUP(C860,PivotGHRF!A:B,2,FALSE),\" \")","v":" "},"Not in TDSSA",0,{"$f":"IFERROR(VLOOKUP(C860,PivotGHRF!A:C,3,FALSE),\" \")","v":" "},0]
["Taido","Taido","Taido - Taido",{"$f":"IFERROR(VLOOKUP(C861,PivotGHRF!A:B,2,FALSE),\" \")","v":" "},"Not in TDSSA",0,{"$f":"IFERROR(VLOOKUP(C861,PivotESA!A:C,3,FALSE),\" \")","v":" "},0,{"$f":"IFERROR(VLOOKUP(C861,PivotGHRF!A:B,2,FALSE),\" \")","v":" "},"Not in TDSSA",0,{"$f":"IFERROR(VLOOKUP(C861,PivotGH!A:C,3,FALSE),\" \")","v":" "},0,{"$f":"IFERROR(VLOOKUP(C861,PivotGHRF!A:B,2,FALSE),\" \")","v":" "},"Not in TDSSA",0,{"$f":"IFERROR(VLOOKUP(C861,PivotGHRF!A:C,3,FALSE),\" \")","v":" "},0]
["Tarung Derajat","Tarung Derajat","Tarung Derajat - Tarung Derajat",{"$f":"IFERROR(VLOOKUP(C862,PivotGHRF!A:B,2,FALSE),\" \")","v":" "},"Not in TDSSA",0,{"$f":"IFERROR(VLOOKUP(C862,PivotESA!A:C,3,FALSE),\" \")","v":" "},0,{"$f":"IFERROR(VLOOKUP(C862,PivotGHRF!A:B,2,FALSE),\" \")","v":" "},"Not in TDSSA",0,{"$f":"IFERROR(VLOOKUP(C862,PivotGH!A:C,3,FALSE),\" \")","v":" "},0,{"$f":"IFERROR(VLOOKUP(C862,PivotGHRF!A:B,2,FALSE),\" \")","v":" "},"Not in TDSSA",0,{"$f":"IFERROR(VLOOKUP(C862,PivotGHRF!A:C,3,FALSE),\" \")","v":" "},0]
["Tchoukball","Tchoukball","Tchoukball - Tchoukball",{"$f":"IFERROR(VLOOKUP(C863,PivotGHRF!A:B,2,FALSE),\" \")","v":" "},"Not in TDSSA",0,{"$f":"IFERROR(VLOOKUP(C863,PivotESA!A:C,3,FALSE),\" \")","v":" "},0,{"$f":"IFERROR(VLOOKUP(C863,PivotGHRF!A:B,2,FALSE),\" \")","v":" "},"Not in TDSSA",0,{"$f":"IFERROR(VLOOKUP(C863,PivotGH!A:C,3,FALSE),\" \")","v":" "},0,{"$f":"IFERROR(VLOOKUP(C863,PivotGHRF!A:B,2,FALSE),\" \")","v":" "},"Not in TDSSA",0,{"$f":"IFERROR(VLOOKUP(C863,PivotGHRF!A:C,3,FALSE),\" \")","v":" "},0]
["Tennis","CISS Tennis","Tennis - CISS Tennis",{"$f":"IFERROR(VLOOKUP(C864,PivotGHRF!A:B,2,FALSE),\" \")","v":" "},"Not in TDSSA",0,{"$f":"IFERROR(VLOOKUP(C864,PivotESA!A:C,3,FALSE),\" \")","v":" "},0,{"$f":"IFERROR(VLOOKUP(C864,PivotGHRF!A:B,2,FALSE),\" \")","v":" "},"Not in TDSSA",0,{"$f":"IFERROR(VLOOKUP(C864,PivotGH!A:C,3,FALSE),\" \")","v":" "},0,{"$f":"IFERROR(VLOOKUP(C864,PivotGHRF!A:B,2,FALSE),\" \")","v":" "},"Not in TDSSA",0,{"$f":"IFERROR(VLOOKUP(C864,PivotGHRF!A:C,3,FALSE),\" \")","v":" "},0]
["Tennis","Football Tennis","Tennis - Football Tennis",{"$f":"IFERROR(VLOOKUP(C865,PivotGHRF!A:B,2,FALSE),\" \")","v":" "},"Not in TDSSA",0,{"$f":"IFERROR(VLOOKUP(C865,PivotESA!A:C,3,FALSE),\" \")","v":" "},0,{"$f":"IFERROR(VLOOKUP(C865,PivotGHRF!A:B,2,FALSE),\" \")","v":" "},"Not in TDSSA",0,{"$f":"IFERROR(VLOOKUP(C865,PivotGH!A:C,3,FALSE),\" \")","v":" "},0,{"$f":"IFERROR(VLOOKUP(C865,PivotGHRF!A:B,2,FALSE),\" \")","v":" "},"Not in TDSSA",0,{"$f":"IFERROR(VLOOKUP(C865,PivotGHRF!A:C,3,FALSE),\" \")","v":" "},0]
["Tennis","INAS Tennis","Tennis - INAS Tennis",{"$f":"IFERROR(VLOOKUP(C866,PivotGHRF!A:B,2,FALSE),\" \")","v":" "},"Not in TDSSA",0,{"$f":"IFERROR(VLOOKUP(C866,PivotESA!A:C,3,FALSE),\" \")","v":" "},0,{"$f":"IFERROR(VLOOKUP(C866,PivotGHRF!A:B,2,FALSE),\" \")","v":" "},"Not in TDSSA",0,{"$f":"IFERROR(VLOOKUP(C866,PivotGH!A:C,3,FALSE),\" \")","v":" "},0,{"$f":"IFERROR(VLOOKUP(C866,PivotGHRF!A:B,2,FALSE),\" \")","v":" "},"Not in TDSSA",0,{"$f":"IFERROR(VLOOKUP(C866,PivotGHRF!A:C,3,FALSE),\" \")","v":" "},0]
["Tennis","Para-Football Tennis","Tennis - Para-Football Tennis",{"$f":"IFERROR(VLOOKUP(C867,PivotGHRF!A:B,2,FALSE),\" \")","v":" "},"Not in TDSSA",0,{"$f":"IFERROR(VLOOKUP(C867,PivotESA!A:C,3,FALSE),\" \")","v":" "},0,{"$f":"IFERROR(VLOOKUP(C867,PivotGHRF!A:B,2,FALSE),\" \")","v":" "},"Not in TDSSA",0,{"$f":"IFERROR(VLOOKUP(C867,PivotGH!A:C,3,FALSE),\" \")","v":" "},0,{"$f":"IFERROR(VLOOKUP(C867,PivotGHRF!A:B,2,FALSE),\" \")","v":" "},"Not in TDSSA",0,{"$f":"IFERROR(VLOOKUP(C867,PivotGHRF!A:C,3,FALSE),\" \")","v":" "},0]
["Tennis","Tennis","Tennis - Tennis",{"$f":"IFERROR(VLOOKUP(C868,PivotGHRF!A:B,2,FALSE),\" \")","v":" "},0.1,0,{"$f":"IFERROR(VLOOKUP(C868,PivotESA!A:C,3,FALSE),\" \")","v":" "},0,{"$f":"IFERROR(VLOOKUP(C868,PivotGHRF!A:B,2,FALSE),\" \")","v":" "},0.05,0,{"$f":"IFERROR(VLOOKUP(C868,PivotGH!A:C,3,FALSE),\" \")","v":" "},0,{"$f":"IFERROR(VLOOKUP(C868,PivotGHRF!A:B,2,FALSE),\" \")","v":" "},0.05,0,{"$f":"IFERROR(VLOOKUP(C868,PivotGHRF!A:C,3,FALSE),\" \")","v":" "},0]
["Tennis","Futnet","Tennis - Futnet",{"$f":"IFERROR(VLOOKUP(C869,PivotGHRF!A:B,2,FALSE),\" \")","v":" "},"Not in TDSSA",0,{"$f":"IFERROR(VLOOKUP(C869,PivotESA!A:C,3,FALSE),\" \")","v":" "},0,{"$f":"IFERROR(VLOOKUP(C869,PivotGHRF!A:B,2,FALSE),\" \")","v":" "},"Not in TDSSA",0,{"$f":"IFERROR(VLOOKUP(C869,PivotGH!A:C,3,FALSE),\" \")","v":" "},0,{"$f":"IFERROR(VLOOKUP(C869,PivotGHRF!A:B,2,FALSE),\" \")","v":" "},"Not in TDSSA",0,{"$f":"IFERROR(VLOOKUP(C869,PivotGHRF!A:C,3,FALSE),\" \")","v":" "},0]
["Tennis","University","Tennis - University",{"$f":"IFERROR(VLOOKUP(C870,PivotGHRF!A:B,2,FALSE),\" \")","v":" "},"Not in TDSSA",0,{"$f":"IFERROR(VLOOKUP(C870,PivotESA!A:C,3,FALSE),\" \")","v":" "},0,{"$f":"IFERROR(VLOOKUP(C870,PivotGHRF!A:B,2,FALSE),\" \")","v":" "},"Not in TDSSA",0,{"$f":"IFERROR(VLOOKUP(C870,PivotGH!A:C,3,FALSE),\" \")","v":" "},0,{"$f":"IFERROR(VLOOKUP(C870,PivotGHRF!A:B,2,FALSE),\" \")","v":" "},"Not in TDSSA",0,{"$f":"IFERROR(VLOOKUP(C870,PivotGHRF!A:C,3,FALSE),\" \")","v":" "},0]
["Tennis","Wheelchair Tennis","Tennis - Wheelchair Tennis",{"$f":"IFERROR(VLOOKUP(C871,PivotGHRF!A:B,2,FALSE),\" \")","v":" "},0.05,0,{"$f":"IFERROR(VLOOKUP(C871,PivotESA!A:C,3,FALSE),\" \")","v":" "},0,{"$f":"IFERROR(VLOOKUP(C871,PivotGHRF!A:B,2,FALSE),\" \")","v":" "},0.05,0,{"$f":"IFERROR(VLOOKUP(C871,PivotGH!A:C,3,FALSE),\" \")","v":" "},0,{"$f":"IFERROR(VLOOKUP(C871,PivotGHRF!A:B,2,FALSE),\" \")","v":" "},0.05,0,{"$f":"IFERROR(VLOOKUP(C871,PivotGHRF!A:C,3,FALSE),\" \")","v":" "},0]
["Thai Traditional Sports","Thai Traditional Sports","Thai Traditional Sports - Thai Traditional Sports",{"$f":"IFERROR(VLOOKUP(C872,PivotGHRF!A:B,2,FALSE),\" \")","v":" "},"Not in TDSSA",0,{"$f":"IFERROR(VLOOKUP(C872,PivotESA!A:C,3,FALSE),\" \")","v":" "},0,{"$f":"IFERROR(VLOOKUP(C872,PivotGHRF!A:B,2,FALSE),\" \")","v":" "},"Not in TDSSA",0,{"$f":"IFERROR(VLOOKUP(C872,PivotGH!A:C,3,FALSE),\" \")","v":" "},0,{"$f":"IFERROR(VLOOKUP(C872,PivotGHRF!A:B,2,FALSE),\" \")","v":" "},"Not in TDSSA",0,{"$f":"IFERROR(VLOOKUP(C872,PivotGHRF!A:C,3,FALSE),\" \")","v":" "},0]
["Touch Football","Touch Football","Touch Football - Touch Football",{"$f":"IFERROR(VLOOKUP(C873,PivotGHRF!A:B,2,FALSE),\" \")","v":" "},"Not in TDSSA",0,{"$f":"IFERROR(VLOOKUP(C873,PivotESA!A:C,3,FALSE),\" \")","v":" "},0,{"$f":"IFERROR(VLOOKUP(C873,PivotGHRF!A:B,2,FALSE),\" \")","v":" "},"Not in TDSSA",0,{"$f":"IFERROR(VLOOKUP(C873,PivotGH!A:C,3,FALSE),\" \")","v":" "},0,{"$f":"IFERROR(VLOOKUP(C873,PivotGHRF!A:B,2,FALSE),\" \")","v":" "},"Not in TDSSA",0,{"$f":"IFERROR(VLOOKUP(C873,PivotGHRF!A:C,3,FALSE),\" \")","v":" "},0]
["Traditional Archery","Traditional Archery","Traditional Archery - Traditional Archery",{"$f":"IFERROR(VLOOKUP(C874,PivotGHRF!A:B,2,FALSE),\" \")","v":" "},"Not in TDSSA",0,{"$f":"IFERROR(VLOOKUP(C874,PivotESA!A:C,3,FALSE),\" \")","v":" "},0,{"$f":"IFERROR(VLOOKUP(C874,PivotGHRF!A:B,2,FALSE),\" \")","v":" "},"Not in TDSSA",0,{"$f":"IFERROR(VLOOKUP(C874,PivotGH!A:C,3,FALSE),\" \")","v":" "},0,{"$f":"IFERROR(VLOOKUP(C874,PivotGHRF!A:B,2,FALSE),\" \")","v":" "},"Not in TDSSA",0,{"$f":"IFERROR(VLOOKUP(C874,PivotGHRF!A:C,3,FALSE),\" \")","v":" "},0]
["Traditional Karate","Traditional Karate","Traditional Karate - Traditional Karate",{"$f":"IFERROR(VLOOKUP(C875,PivotGHRF!A:B,2,FALSE),\" \")","v":" "},"Not in TDSSA",0,{"$f":"IFERROR(VLOOKUP(C875,PivotESA!A:C,3,FALSE),\" \")","v":" "},0,{"$f":"IFERROR(VLOOKUP(C875,PivotGHRF!A:B,2,FALSE),\" \")","v":" "},"Not in TDSSA",0,{"$f":"IFERROR(VLOOKUP(C875,PivotGH!A:C,3,FALSE),\" \")","v":" "},0,{"$f":"IFERROR(VLOOKUP(C875,PivotGHRF!A:B,2,FALSE),\" \")","v":" "},"Not in TDSSA",0,{"$f":"IFERROR(VLOOKUP(C875,PivotGHRF!A:C,3,FALSE),\" \")","v":" "},0]
["Traditional Martial Arts","Traditional Martial Arts","Traditional Martial Arts - Traditional Martial Arts",{"$f":"IFERROR(VLOOKUP(C876,PivotGHRF!A:B,2,FALSE),\" \")","v":" "},"Not in TDSSA",0,{"$f":"IFERROR(VLOOKUP(C876,PivotESA!A:C,3,FALSE),\" \")","v":" "},0,{"$f":"IFERROR(VLOOKUP(C876,PivotGHRF!A:B,2,FALSE),\" \")","v":" "},"Not in TDSSA",0,{"$f":"IFERROR(VLOOKUP(C876,PivotGH!A:C,3,FALSE),\" \")","v":" "},0,{"$f":"IFERROR(VLOOKUP(C876,PivotGHRF!A:B,2,FALSE),\" \")","v":" "},"Not in TDSSA",0,{"$f":"IFERROR(VLOOKUP(C876,PivotGHRF!A:C,3,FALSE),\" \")","v":" "},0]
["Triathlon","Aquathlon","Triathlon - Aquathlon",{"$f":"IFERROR(VLOOKUP(C877,PivotGHRF!A:B,2,FALSE),\" \")","v":" "},0.6,0,{"$f":"IFERROR(VLOOKUP(C877,PivotESA!A:C,3,FALSE),\" \")","v":" "},0,{"$f":"IFERROR(VLOOKUP(C877,PivotGHRF!A:B,2,FALSE),\" \")","v":" "},0.1,0,{"$f":"IFERROR(VLOOKUP(C877,PivotGH!A:C,3,FALSE),\" \")","v":" "},0,{"$f":"IFERROR(VLOOKUP(C877,PivotGHRF!A:B,2,FALSE),\" \")","v":" "},0.1,0,{"$f":"IFERROR(VLOOKUP(C877,PivotGHRF!A:C,3,FALSE),\" \")","v":" "},0]
["Triathlon","Ironman","Triathlon - Ironman",{"$f":"IFERROR(VLOOKUP(C878,PivotGHRF!A:B,2,FALSE),\" \")","v":" "},"Not in TDSSA",0,{"$f":"IFERROR(VLOOKUP(C878,PivotESA!A:C,3,FALSE),\" \")","v":" "},0,{"$f":"IFERROR(VLOOKUP(C878,PivotGHRF!A:B,2,FALSE),\" \")","v":" "},"Not in TDSSA",0,{"$f":"IFERROR(VLOOKUP(C878,PivotGH!A:C,3,FALSE),\" \")","v":" "},0,{"$f":"IFERROR(VLOOKUP(C878,PivotGHRF!A:B,2,FALSE),\" \")","v":" "},"Not in TDSSA",0,{"$f":"IFERROR(VLOOKUP(C878,PivotGHRF!A:C,3,FALSE),\" \")","v":" "},0]
["Triathlon","70.3 Distance Ironman (R)","Triathlon - 70.3 Distance Ironman (R)",{"$f":"IFERROR(VLOOKUP(C879,PivotGHRF!A:B,2,FALSE),\" \")","v":" "},"Not in TDSSA",0,{"$f":"IFERROR(VLOOKUP(C879,PivotESA!A:C,3,FALSE),\" \")","v":" "},0,{"$f":"IFERROR(VLOOKUP(C879,PivotGHRF!A:B,2,FALSE),\" \")","v":" "},"Not in TDSSA",0,{"$f":"IFERROR(VLOOKUP(C879,PivotGH!A:C,3,FALSE),\" \")","v":" "},0,{"$f":"IFERROR(VLOOKUP(C879,PivotGHRF!A:B,2,FALSE),\" \")","v":" "},"Not in TDSSA",0,{"$f":"IFERROR(VLOOKUP(C879,PivotGHRF!A:C,3,FALSE),\" \")","v":" "},0]
["Triathlon","Military Triathlon","Triathlon - Military Triathlon",{"$f":"IFERROR(VLOOKUP(C880,PivotGHRF!A:B,2,FALSE),\" \")","v":" "},"Not in TDSSA",0,{"$f":"IFERROR(VLOOKUP(C880,PivotESA!A:C,3,FALSE),\" \")","v":" "},0,{"$f":"IFERROR(VLOOKUP(C880,PivotGHRF!A:B,2,FALSE),\" \")","v":" "},"Not in TDSSA",0,{"$f":"IFERROR(VLOOKUP(C880,PivotGH!A:C,3,FALSE),\" \")","v":" "},0,{"$f":"IFERROR(VLOOKUP(C880,PivotGHRF!A:B,2,FALSE),\" \")","v":" "},"Not in TDSSA",0,{"$f":"IFERROR(VLOOKUP(C880,PivotGHRF!A:C,3,FALSE),\" \")","v":" "},0]
["Triathlon","Para-Triathlon","Triathlon - Para-Triathlon",{"$f":"IFERROR(VLOOKUP(C881,PivotGHRF!A:B,2,FALSE),\" \")","v":" "},0.3,0,{"$f":"IFERROR(VLOOKUP(C881,PivotESA!A:C,3,FALSE),\" \")","v":" "},0,{"$f":"IFERROR(VLOOKUP(C881,PivotGHRF!A:B,2,FALSE),\" \")","v":" "},0.1,0,{"$f":"IFERROR(VLOOKUP(C881,PivotGH!A:C,3,FALSE),\" \")","v":" "},0,{"$f":"IFERROR(VLOOKUP(C881,PivotGHRF!A:B,2,FALSE),\" \")","v":" "},0.1,0,{"$f":"IFERROR(VLOOKUP(C881,PivotGHRF!A:C,3,FALSE),\" \")","v":" "},0]
["Triathlon","Triathlon","Triathlon - Triathlon",{"$f":"IFERROR(VLOOKUP(C882,PivotGHRF!A:B,2,FALSE),\" \")","v":" "},0.6,0,{"$f":"IFERROR(VLOOKUP(C882,PivotESA!A:C,3,FALSE),\" \")","v":" "},0,{"$f":"IFERROR(VLOOKUP(C882,PivotGHRF!A:B,2,FALSE),\" \")","v":" "},0.1,0,{"$f":"IFERROR(VLOOKUP(C882,PivotGH!A:C,3,FALSE),\" \")","v":" "},0,{"$f":"IFERROR(VLOOKUP(C882,PivotGHRF!A:B,2,FALSE),\" \")","v":" "},0.1,0,{"$f":"IFERROR(VLOOKUP(C882,PivotGHRF!A:C,3,FALSE),\" \")","v":" "},0]
["Triathlon","Cross Triathlon","Triathlon - Cross Triathlon",{"$f":"IFERROR(VLOOKUP(C883,PivotGHRF!A:B,2,FALSE),\" \")","v":" "},0.6,0,{"$f":"IFERROR(VLOOKUP(C883,PivotESA!A:C,3,FALSE),\" \")","v":" "},0,{"$f":"IFERROR(VLOOKUP(C883,PivotGHRF!A:B,2,FALSE),\" \")","v":" "},0.1,0,{"$f":"IFERROR(VLOOKUP(C883,PivotGH!A:C,3,FALSE),\" \")","v":" "},0,{"$f":"IFERROR(VLOOKUP(C883,PivotGHRF!A:B,2,FALSE),\" \")","v":" "},0.1,0,{"$f":"IFERROR(VLOOKUP(C883,PivotGHRF!A:C,3,FALSE),\" \")","v":" "},0]
["Triathlon","Duathlon","Triathlon - Duathlon",{"$f":"IFERROR(VLOOKUP(C884,PivotGHRF!A:B,2,FALSE),\" \")","v":" "},0.6,0,{"$f":"IFERROR(VLOOKUP(C884,PivotESA!A:C,3,FALSE),\" \")","v":" "},0,{"$f":"IFERROR(VLOOKUP(C884,PivotGHRF!A:B,2,FALSE),\" \")","v":" "},0.1,0,{"$f":"IFERROR(VLOOKUP(C884,PivotGH!A:C,3,FALSE),\" \")","v":" "},0,{"$f":"IFERROR(VLOOKUP(C884,PivotGHRF!A:B,2,FALSE),\" \")","v":" "},0.1,0,{"$f":"IFERROR(VLOOKUP(C884,PivotGHRF!A:C,3,FALSE),\" \")","v":" "},0]
["Triathlon","Long Distance","Triathlon - Long Distance",{"$f":"IFERROR(VLOOKUP(C885,PivotGHRF!A:B,2,FALSE),\" \")","v":" "},0.6,0,{"$f":"IFERROR(VLOOKUP(C885,PivotESA!A:C,3,FALSE),\" \")","v":" "},0,{"$f":"IFERROR(VLOOKUP(C885,PivotGHRF!A:B,2,FALSE),\" \")","v":" "},0.1,0,{"$f":"IFERROR(VLOOKUP(C885,PivotGH!A:C,3,FALSE),\" \")","v":" "},0,{"$f":"IFERROR(VLOOKUP(C885,PivotGHRF!A:B,2,FALSE),\" \")","v":" "},0.1,0,{"$f":"IFERROR(VLOOKUP(C885,PivotGHRF!A:C,3,FALSE),\" \")","v":" "},0]
["Triathlon","University","Triathlon - University",{"$f":"IFERROR(VLOOKUP(C886,PivotGHRF!A:B,2,FALSE),\" \")","v":" "},"Not in TDSSA",0,{"$f":"IFERROR(VLOOKUP(C886,PivotESA!A:C,3,FALSE),\" \")","v":" "},0,{"$f":"IFERROR(VLOOKUP(C886,PivotGHRF!A:B,2,FALSE),\" \")","v":" "},"Not in TDSSA",0,{"$f":"IFERROR(VLOOKUP(C886,PivotGH!A:C,3,FALSE),\" \")","v":" "},0,{"$f":"IFERROR(VLOOKUP(C886,PivotGHRF!A:B,2,FALSE),\" \")","v":" "},"Not in TDSSA",0,{"$f":"IFERROR(VLOOKUP(C886,PivotGHRF!A:C,3,FALSE),\" \")","v":" "},0]
["Triathlon","Winter Triathlon","Triathlon - Winter Triathlon",{"$f":"IFERROR(VLOOKUP(C887,PivotGHRF!A:B,2,FALSE),\" \")","v":" "},0.6,0,{"$f":"IFERROR(VLOOKUP(C887,PivotESA!A:C,3,FALSE),\" \")","v":" "},0,{"$f":"IFERROR(VLOOKUP(C887,PivotGHRF!A:B,2,FALSE),\" \")","v":" "},0.1,0,{"$f":"IFERROR(VLOOKUP(C887,PivotGH!A:C,3,FALSE),\" \")","v":" "},0,{"$f":"IFERROR(VLOOKUP(C887,PivotGHRF!A:B,2,FALSE),\" \")","v":" "},0.1,0,{"$f":"IFERROR(VLOOKUP(C887,PivotGHRF!A:C,3,FALSE),\" \")","v":" "},0]
["Tug of War","Tug of War","Tug of War - Tug of War",{"$f":"IFERROR(VLOOKUP(C888,PivotGHRF!A:B,2,FALSE),\" \")","v":" "},0.05,0,{"$f":"IFERROR(VLOOKUP(C888,PivotESA!A:C,3,FALSE),\" \")","v":" "},0,{"$f":"IFERROR(VLOOKUP(C888,PivotGHRF!A:B,2,FALSE),\" \")","v":" "},0.1,0,{"$f":"IFERROR(VLOOKUP(C888,PivotGH!A:C,3,FALSE),\" \")","v":" "},0,{"$f":"IFERROR(VLOOKUP(C888,PivotGHRF!A:B,2,FALSE),\" \")","v":" "},0.1,0,{"$f":"IFERROR(VLOOKUP(C888,PivotGHRF!A:C,3,FALSE),\" \")","v":" "},0]
["Twirling","Twirling","Twirling - Twirling",{"$f":"IFERROR(VLOOKUP(C889,PivotGHRF!A:B,2,FALSE),\" \")","v":" "},"Not in TDSSA",0,{"$f":"IFERROR(VLOOKUP(C889,PivotESA!A:C,3,FALSE),\" \")","v":" "},0,{"$f":"IFERROR(VLOOKUP(C889,PivotGHRF!A:B,2,FALSE),\" \")","v":" "},"Not in TDSSA",0,{"$f":"IFERROR(VLOOKUP(C889,PivotGH!A:C,3,FALSE),\" \")","v":" "},0,{"$f":"IFERROR(VLOOKUP(C889,PivotGHRF!A:B,2,FALSE),\" \")","v":" "},"Not in TDSSA",0,{"$f":"IFERROR(VLOOKUP(C889,PivotGHRF!A:C,3,FALSE),\" \")","v":" "},0]
["Ultimate Fighting","Military Ultimate Fighting","Ultimate Fighting - Military Ultimate Fighting",{"$f":"IFERROR(VLOOKUP(C890,PivotGHRF!A:B,2,FALSE),\" \")","v":" "},"Not in TDSSA",0,{"$f":"IFERROR(VLOOKUP(C890,PivotESA!A:C,3,FALSE),\" \")","v":" "},0,{"$f":"IFERROR(VLOOKUP(C890,PivotGHRF!A:B,2,FALSE),\" \")","v":" "},"Not in TDSSA",0,{"$f":"IFERROR(VLOOKUP(C890,PivotGH!A:C,3,FALSE),\" \")","v":" "},0,{"$f":"IFERROR(VLOOKUP(C890,PivotGHRF!A:B,2,FALSE),\" \")","v":" "},"Not in TDSSA",0,{"$f":"IFERROR(VLOOKUP(C890,PivotGHRF!A:C,3,FALSE),\" \")","v":" "},0]
["Ultimate Fighting","Ultimate Fighting","Ultimate Fighting - Ultimate Fighting",{"$f":"IFERROR(VLOOKUP(C891,PivotGHRF!A:B,2,FALSE),\" \")","v":" "},"Not in TDSSA",0,{"$f":"IFERROR(VLOOKUP(C891,PivotESA!A:C,3,FALSE),\" \")","v":" "},0,{"$f":"IFERROR(VLOOKUP(C891,PivotGHRF!A:B,2,FALSE),\" \")","v":" "},"Not in TDSSA",0,{"$f":"IFERROR(VLOOKUP(C891,PivotGH!A:C,3,FALSE),\" \")","v":" "},0,{"$f":"IFERROR(VLOOKUP(C891,PivotGHRF!A:B,2,FALSE),\" \")","v":" "},"Not in TDSSA",0,{"$f":"IFERROR(VLOOKUP(C891,PivotGHRF!A:C,3,FALSE),\" \")","v":" "},0]
["Ultra Triathlon","Ultra Trialthlon","Ultra Triathlon - Ultra Trialthlon",{"$f":"IFERROR(VLOOKUP(C892,PivotGHRF!A:B,2,FALSE),\" \")","v":" "},"Not in TDSSA",0,{"$f":"IFERROR(VLOOKUP(C892,PivotESA!A:C,3,FALSE),\" \")","v":" "},0,{"$f":"IFERROR(VLOOKUP(C892,PivotGHRF!A:B,2,FALSE),\" \")","v":" "},"Not in TDSSA",0,{"$f":"IFERROR(VLOOKUP(C892,PivotGH!A:C,3,FALSE),\" \")","v":" "},0,{"$f":"IFERROR(VLOOKUP(C892,PivotGHRF!A:B,2,FALSE),\" \")","v":" "},"Not in TDSSA",0,{"$f":"IFERROR(VLOOKUP(C892,PivotGHRF!A:C,3,FALSE),\" \")","v":" "},0]
["Underwater Sports","Aquathlon (Underwater Wrestling)","Underwater Sports - Aquathlon (Underwater Wrestling)",{"$f":"IFERROR(VLOOKUP(C893,PivotGHRF!A:B,2,FALSE),\" \")","v":" "},0.15,0,{"$f":"IFERROR(VLOOKUP(C893,PivotESA!A:C,3,FALSE),\" \")","v":" "},0,{"$f":"IFERROR(VLOOKUP(C893,PivotGHRF!A:B,2,FALSE),\" \")","v":" "},0.1,0,{"$f":"IFERROR(VLOOKUP(C893,PivotGH!A:C,3,FALSE),\" \")","v":" "},0,{"$f":"IFERROR(VLOOKUP(C893,PivotGHRF!A:B,2,FALSE),\" \")","v":" "},0.1,0,{"$f":"IFERROR(VLOOKUP(C893,PivotGHRF!A:C,3,FALSE),\" \")","v":" "},0]
["Underwater Sports","Sport Diving","Underwater Sports - Sport Diving",{"$f":"IFERROR(VLOOKUP(C894,PivotGHRF!A:B,2,FALSE),\" \")","v":" "},0.15,0,{"$f":"IFERROR(VLOOKUP(C894,PivotESA!A:C,3,FALSE),\" \")","v":" "},0,{"$f":"IFERROR(VLOOKUP(C894,PivotGHRF!A:B,2,FALSE),\" \")","v":" "},0.05,0,{"$f":"IFERROR(VLOOKUP(C894,PivotGH!A:C,3,FALSE),\" \")","v":" "},0,{"$f":"IFERROR(VLOOKUP(C894,PivotGHRF!A:B,2,FALSE),\" \")","v":" "},0.05,0,{"$f":"IFERROR(VLOOKUP(C894,PivotGHRF!A:C,3,FALSE),\" \")","v":" "},0]
["Underwater Sports","Apnoea (all subdisciplines)","Underwater Sports - Apnoea (all subdisciplines)",{"$f":"IFERROR(VLOOKUP(C895,PivotGHRF!A:B,2,FALSE),\" \")","v":" "},0.15,0,{"$f":"IFERROR(VLOOKUP(C895,PivotESA!A:C,3,FALSE),\" \")","v":" "},0,{"$f":"IFERROR(VLOOKUP(C895,PivotGHRF!A:B,2,FALSE),\" \")","v":" "},0.05,0,{"$f":"IFERROR(VLOOKUP(C895,PivotGH!A:C,3,FALSE),\" \")","v":" "},0,{"$f":"IFERROR(VLOOKUP(C895,PivotGHRF!A:B,2,FALSE),\" \")","v":" "},0.05,0,{"$f":"IFERROR(VLOOKUP(C895,PivotGHRF!A:C,3,FALSE),\" \")","v":" "},0]
["Underwater Sports","Spearfishing","Underwater Sports - Spearfishing",{"$f":"IFERROR(VLOOKUP(C896,PivotGHRF!A:B,2,FALSE),\" \")","v":" "},0.15,0,{"$f":"IFERROR(VLOOKUP(C896,PivotESA!A:C,3,FALSE),\" \")","v":" "},0,{"$f":"IFERROR(VLOOKUP(C896,PivotGHRF!A:B,2,FALSE),\" \")","v":" "},0.05,0,{"$f":"IFERROR(VLOOKUP(C896,PivotGH!A:C,3,FALSE),\" \")","v":" "},0,{"$f":"IFERROR(VLOOKUP(C896,PivotGHRF!A:B,2,FALSE),\" \")","v":" "},0.05,0,{"$f":"IFERROR(VLOOKUP(C896,PivotGHRF!A:C,3,FALSE),\" \")","v":" "},0]
["Underwater Sports","UW Hockey","Underwater Sports - UW Hockey",{"$f":"IFERROR(VLOOKUP(C897,PivotGHRF!A:B,2,FALSE),\" \")","v":" "},0.05,0,{"$f":"IFERROR(VLOOKUP(C897,PivotESA!A:C,3,FALSE),\" \")","v":" "},0,{"$f":"IFERROR(VLOOKUP(C897,PivotGHRF!A:B,2,FALSE),\" \")","v":" "},0.05,0,{"$f":"IFERROR(VLOOKUP(C897,PivotGH!A:C,3,FALSE),\" \")","v":" "},0,{"$f":"IFERROR(VLOOKUP(C897,PivotGHRF!A:B,2,FALSE),\" \")","v":" "},0.05,0,{"$f":"IFERROR(VLOOKUP(C897,PivotGHRF!A:C,3,FALSE),\" \")","v":" "},0]
["Underwater Sports","UW Orienteering","Underwater Sports - UW Orienteering",{"$f":"IFERROR(VLOOKUP(C898,PivotGHRF!A:B,2,FALSE),\" \")","v":" "},0.15,0,{"$f":"IFERROR(VLOOKUP(C898,PivotESA!A:C,3,FALSE),\" \")","v":" "},0,{"$f":"IFERROR(VLOOKUP(C898,PivotGHRF!A:B,2,FALSE),\" \")","v":" "},0.05,0,{"$f":"IFERROR(VLOOKUP(C898,PivotGH!A:C,3,FALSE),\" \")","v":" "},0,{"$f":"IFERROR(VLOOKUP(C898,PivotGHRF!A:B,2,FALSE),\" \")","v":" "},0.05,0,{"$f":"IFERROR(VLOOKUP(C898,PivotGHRF!A:C,3,FALSE),\" \")","v":" "},0]
["Underwater Sports","Target Shooting","Underwater Sports - Target Shooting",{"$f":"IFERROR(VLOOKUP(C899,PivotGHRF!A:B,2,FALSE),\" \")","v":" "},0,0,{"$f":"IFERROR(VLOOKUP(C899,PivotESA!A:C,3,FALSE),\" \")","v":" "},0,{"$f":"IFERROR(VLOOKUP(C899,PivotGHRF!A:B,2,FALSE),\" \")","v":" "},0,0,{"$f":"IFERROR(VLOOKUP(C899,PivotGH!A:C,3,FALSE),\" \")","v":" "},0,{"$f":"IFERROR(VLOOKUP(C899,PivotGHRF!A:B,2,FALSE),\" \")","v":" "},0,0,{"$f":"IFERROR(VLOOKUP(C899,PivotGHRF!A:C,3,FALSE),\" \")","v":" "},0]
["Underwater Sports","UW Rugby","Underwater Sports - UW Rugby",{"$f":"IFERROR(VLOOKUP(C900,PivotGHRF!A:B,2,FALSE),\" \")","v":" "},0.05,0,{"$f":"IFERROR(VLOOKUP(C900,PivotESA!A:C,3,FALSE),\" \")","v":" "},0,{"$f":"IFERROR(VLOOKUP(C900,PivotGHRF!A:B,2,FALSE),\" \")","v":" "},0.05,0,{"$f":"IFERROR(VLOOKUP(C900,PivotGH!A:C,3,FALSE),\" \")","v":" "},0,{"$f":"IFERROR(VLOOKUP(C900,PivotGHRF!A:B,2,FALSE),\" \")","v":" "},0.05,0,{"$f":"IFERROR(VLOOKUP(C900,PivotGHRF!A:C,3,FALSE),\" \")","v":" "},0]
["Underwater Sports","Free Immersion","Underwater Sports - Free Immersion",{"$f":"IFERROR(VLOOKUP(C901,PivotGHRF!A:B,2,FALSE),\" \")","v":" "},0.15,0,{"$f":"IFERROR(VLOOKUP(C901,PivotESA!A:C,3,FALSE),\" \")","v":" "},0,{"$f":"IFERROR(VLOOKUP(C901,PivotGHRF!A:B,2,FALSE),\" \")","v":" "},0.05,0,{"$f":"IFERROR(VLOOKUP(C901,PivotGH!A:C,3,FALSE),\" \")","v":" "},0,{"$f":"IFERROR(VLOOKUP(C901,PivotGHRF!A:B,2,FALSE),\" \")","v":" "},0.05,0,{"$f":"IFERROR(VLOOKUP(C901,PivotGHRF!A:C,3,FALSE),\" \")","v":" "},0]
["Underwater Sports","Finswimming Open Water","Underwater Sports - Finswimming Open Water",{"$f":"IFERROR(VLOOKUP(C902,PivotGHRF!A:B,2,FALSE),\" \")","v":" "},0.3,0,{"$f":"IFERROR(VLOOKUP(C902,PivotESA!A:C,3,FALSE),\" \")","v":" "},0,{"$f":"IFERROR(VLOOKUP(C902,PivotGHRF!A:B,2,FALSE),\" \")","v":" "},0.05,0,{"$f":"IFERROR(VLOOKUP(C902,PivotGH!A:C,3,FALSE),\" \")","v":" "},0,{"$f":"IFERROR(VLOOKUP(C902,PivotGHRF!A:B,2,FALSE),\" \")","v":" "},0.05,0,{"$f":"IFERROR(VLOOKUP(C902,PivotGHRF!A:C,3,FALSE),\" \")","v":" "},0]
["Underwater Sports","Finswimming Pool","Underwater Sports - Finswimming Pool",{"$f":"IFERROR(VLOOKUP(C903,PivotGHRF!A:B,2,FALSE),\" \")","v":" "},0.15,0,{"$f":"IFERROR(VLOOKUP(C903,PivotESA!A:C,3,FALSE),\" \")","v":" "},{"$f":"IFERROR(F903-G903,0)","v":0},{"$f":"IFERROR(VLOOKUP(C903,PivotGHRF!A:B,2,FALSE),\" \")","v":" "},0.05,0,{"$f":"IFERROR(VLOOKUP(C903,PivotGH!A:C,3,FALSE),\" \")","v":" "},{"$f":"IFERROR(K903-L903,0)","v":0},{"$f":"IFERROR(VLOOKUP(C903,PivotGHRF!A:B,2,FALSE),\" \")","v":" "},0.05,0,{"$f":"IFERROR(VLOOKUP(C903,PivotGHRF!A:C,3,FALSE),\" \")","v":" "},{"$f":"IFERROR(P903-Q903,0)","v":0}]
["Unicycling","CROSS","Unicycling - CROSS",{"$f":"IFERROR(VLOOKUP(C904,PivotGHRF!A:B,2,FALSE),\" \")","v":" "},"Not in TDSSA",{"$f":"IFERROR(ROUNDUP(E904*D904,0),0)","v":0},{"$f":"IFERROR(VLOOKUP(C904,PivotESA!A:C,3,FALSE),\" \")","v":" "},0,{"$f":"IFERROR(VLOOKUP(C904,PivotGHRF!A:B,2,FALSE),\" \")","v":" "},"Not in TDSSA",{"$f":"IFERROR(ROUNDUP(J904*I904,0),0)","v":0},{"$f":"IFERROR(VLOOKUP(C904,PivotGH!A:C,3,FALSE),\" \")","v":" "},0,{"$f":"IFERROR(VLOOKUP(C904,PivotGHRF!A:B,2,FALSE),\" \")","v":" "},"Not in TDSSA",{"$f":"IFERROR(ROUNDUP(O904*N904,0),0)","v":0},{"$f":"IFERROR(VLOOKUP(C904,PivotGHRF!A:C,3,FALSE),\" \")","v":" "},0]
["Unicycling","Unicycling","Unicycling - Unicycling",{"$f":"IFERROR(VLOOKUP(C905,PivotGHRF!A:B,2,FALSE),\" \")","v":" "},"Not in TDSSA",0,{"$f":"IFERROR(VLOOKUP(C905,PivotESA!A:C,3,FALSE),\" \")","v":" "},0,{"$f":"IFERROR(VLOOKUP(C905,PivotGHRF!A:B,2,FALSE),\" \")","v":" "},"Not in TDSSA",0,{"$f":"IFERROR(VLOOKUP(C905,PivotGH!A:C,3,FALSE),\" \")","v":" "},0,{"$f":"IFERROR(VLOOKUP(C905,PivotGHRF!A:B,2,FALSE),\" \")","v":" "},"Not in TDSSA",0,{"$f":"IFERROR(VLOOKUP(C905,PivotGHRF!A:C,3,FALSE),\" \")","v":" "},0]
["Unicycling","Hockey","Unicycling - Hockey",{"$f":"IFERROR(VLOOKUP(C906,PivotGHRF!A:B,2,FALSE),\" \")","v":" "},"Not in TDSSA",0,{"$f":"IFERROR(VLOOKUP(C906,PivotESA!A:C,3,FALSE),\" \")","v":" "},0,{"$f":"IFERROR(VLOOKUP(C906,PivotGHRF!A:B,2,FALSE),\" \")","v":" "},"Not in TDSSA",0,{"$f":"IFERROR(VLOOKUP(C906,PivotGH!A:C,3,FALSE),\" \")","v":" "},0,{"$f":"IFERROR(VLOOKUP(C906,PivotGHRF!A:B,2,FALSE),\" \")","v":" "},"Not in TDSSA",0,{"$f":"IFERROR(VLOOKUP(C906,PivotGHRF!A:C,3,FALSE),\" \")","v":" "},0]
["Unifight","Unifight","Unifight - Unifight",{"$f":"IFERROR(VLOOKUP(C907,PivotGHRF!A:B,2,FALSE),\" \")","v":" "},"Not in TDSSA",0,{"$f":"IFERROR(VLOOKUP(C907,PivotESA!A:C,3,FALSE),\" \")","v":" "},0,{"$f":"IFERROR(VLOOKUP(C907,PivotGHRF!A:B,2,FALSE),\" \")","v":" "},"Not in TDSSA",0,{"$f":"IFERROR(VLOOKUP(C907,PivotGH!A:C,3,FALSE),\" \")","v":" "},0,{"$f":"IFERROR(VLOOKUP(C907,PivotGHRF!A:B,2,FALSE),\" \")","v":" "},"Not in TDSSA",0,{"$f":"IFERROR(VLOOKUP(C907,PivotGHRF!A:C,3,FALSE),\" \")","v":" "},0]
["VA'A","Outrigger (Sprint)","VA'A - Outrigger (Sprint)",{"$f":"IFERROR(VLOOKUP(C908,PivotGHRF!A:B,2,FALSE),\" \")","v":" "},"Not in TDSSA",0,{"$f":"IFERROR(VLOOKUP(C908,PivotESA!A:C,3,FALSE),\" \")","v":" "},0,{"$f":"IFERROR(VLOOKUP(C908,PivotGHRF!A:B,2,FALSE),\" \")","v":" "},"Not in TDSSA",0,{"$f":"IFERROR(VLOOKUP(C908,PivotGH!A:C,3,FALSE),\" \")","v":" "},0,{"$f":"IFERROR(VLOOKUP(C908,PivotGHRF!A:B,2,FALSE),\" \")","v":" "},"Not in TDSSA",0,{"$f":"IFERROR(VLOOKUP(C908,PivotGHRF!A:C,3,FALSE),\" \")","v":" "},0]
["Volleyball","Beach","Volleyball - Beach",{"$f":"IFERROR(VLOOKUP(C909,PivotGHRF!A:B,2,FALSE),\" \")","v":" "},0.05,0,{"$f":"IFERROR(VLOOKUP(C909,PivotESA!A:C,3,FALSE),\" \")","v":" "},0,{"$f":"IFERROR(VLOOKUP(C909,PivotGHRF!A:B,2,FALSE),\" \")","v":" "},0.05,0,{"$f":"IFERROR(VLOOKUP(C909,PivotGH!A:C,3,FALSE),\" \")","v":" "},0,{"$f":"IFERROR(VLOOKUP(C909,PivotGHRF!A:B,2,FALSE),\" \")","v":" "},0.05,0,{"$f":"IFERROR(VLOOKUP(C909,PivotGHRF!A:C,3,FALSE),\" \")","v":" "},0]
["Volleyball","University Beach Volleyball","Volleyball - University Beach Volleyball",{"$f":"IFERROR(VLOOKUP(C910,PivotGHRF!A:B,2,FALSE),\" \")","v":" "},"Not in TDSSA",0,{"$f":"IFERROR(VLOOKUP(C910,PivotESA!A:C,3,FALSE),\" \")","v":" "},0,{"$f":"IFERROR(VLOOKUP(C910,PivotGHRF!A:B,2,FALSE),\" \")","v":" "},"Not in TDSSA",0,{"$f":"IFERROR(VLOOKUP(C910,PivotGH!A:C,3,FALSE),\" \")","v":" "},0,{"$f":"IFERROR(VLOOKUP(C910,PivotGHRF!A:B,2,FALSE),\" \")","v":" "},"Not in TDSSA",0,{"$f":"IFERROR(VLOOKUP(C910,PivotGHRF!A:C,3,FALSE),\" \")","v":" "},0]
["Volleyball","CISS Beach Volleyball","Volleyball - CISS Beach Volleyball",{"$f":"IFERROR(VLOOKUP(C911,PivotGHRF!A:B,2,FALSE),\" \")","v":" "},"Not in TDSSA",0,{"$f":"IFERROR(VLOOKUP(C911,PivotESA!A:C,3,FALSE),\" \")","v":" "},0,{"$f":"IFERROR(VLOOKUP(C911,PivotGHRF!A:B,2,FALSE),\" \")","v":" "},"Not in TDSSA",0,{"$f":"IFERROR(VLOOKUP(C911,PivotGH!A:C,3,FALSE),\" \")","v":" "},0,{"$f":"IFERROR(VLOOKUP(C911,PivotGHRF!A:B,2,FALSE),\" \")","v":" "},"Not in TDSSA",0,{"$f":"IFERROR(VLOOKUP(C911,PivotGHRF!A:C,3,FALSE),\" \")","v":" "},0]
["Volleyball","College","Volleyball - College",{"$f":"IFERROR(VLOOKUP(C912,PivotGHRF!A:B,2,FALSE),\" \")","v":" "},"Not in TDSSA",0,{"$f":"IFERROR(VLOOKUP(C912,PivotESA!A:C,3,FALSE),\" \")","v":" "},0,{"$f":"IFERROR(VLOOKUP(C912,PivotGHRF!A:B,2,FALSE),\" \")","v":" "},"Not in TDSSA",0,{"$f":"IFERROR(VLOOKUP(C912,PivotGH!A:C,3,FALSE),\" \")","v":" "},0,{"$f":"IFERROR(VLOOKUP(C912,PivotGHRF!A:B,2,FALSE),\" \")","v":" "},"Not in TDSSA",0,{"$f":"IFERROR(VLOOKUP(C912,PivotGHRF!A:C,3,FALSE),\" \")","v":" "},0]
["Volleyball","CISS Volleyball","Volleyball - CISS Volleyball",{"$f":"IFERROR(VLOOKUP(C913,PivotGHRF!A:B,2,FALSE),\" \")","v":" "},"Not in TDSSA",0,{"$f":"IFERROR(VLOOKUP(C913,PivotESA!A:C,3,FALSE),\" \")","v":" "},0,{"$f":"IFERROR(VLOOKUP(C913,PivotGHRF!A:B,2,FALSE),\" \")","v":" "},"Not in TDSSA",0,{"$f":"IFERROR(VLOOKUP(C913,PivotGH!A:C,3,FALSE),\" \")","v":" "},0,{"$f":"IFERROR(VLOOKUP(C913,PivotGHRF!A:B,2,FALSE),\" \")","v":" "},"Not in TDSSA",0,{"$f":"IFERROR(VLOOKUP(C913,PivotGHRF!A:C,3,FALSE),\" \")","v":" "},0]
["Volleyball","Military Beach Volleyball","Volleyball - Military Beach Volleyball",{"$f":"IFERROR(VLOOKUP(C914,PivotGHRF!A:B,2,FALSE),\" \")","v":" "},"Not in TDSSA",0,{"$f":"IFERROR(VLOOKUP(C914,PivotESA!A:C,3,FALSE),\" \")","v":" "},0,{"$f":"IFERROR(VLOOKUP(C914,PivotGHRF!A:B,2,FALSE),\" \")","v":" "},"Not in TDSSA",0,{"$f":"IFERROR(VLOOKUP(C914,PivotGH!A:C,3,FALSE),\" \")","v":" "},0,{"$f":"IFERROR(VLOOKUP(C914,PivotGHRF!A:B,2,FALSE),\" \")","v":" "},"Not in TDSSA",0,{"$f":"IFERROR(VLOOKUP(C914,PivotGHRF!A:C,3,FALSE),\" \")","v":" "},0]
["Volleyball","Military Volleyball","Volleyball - Military Volleyball",{"$f":"IFERROR(VLOOKUP(C915,PivotGHRF!A:B,2,FALSE),\" \")","v":" "},"Not in TDSSA",0,{"$f":"IFERROR(VLOOKUP(C915,PivotESA!A:C,3,FALSE),\" \")","v":" "},0,{"$f":"IFERROR(VLOOKUP(C915,PivotGHRF!A:B,2,FALSE),\" \")","v":" "},"Not in TDSSA",0,{"$f":"IFERROR(VLOOKUP(C915,PivotGH!A:C,3,FALSE),\" \")","v":" "},0,{"$f":"IFERROR(VLOOKUP(C915,PivotGHRF!A:B,2,FALSE),\" \")","v":" "},"Not in TDSSA",0,{"$f":"IFERROR(VLOOKUP(C915,PivotGHRF!A:C,3,FALSE),\" \")","v":" "},0]
["Volleyball","Professional Volleyball","Volleyball - Professional Volleyball",{"$f":"IFERROR(VLOOKUP(C916,PivotGHRF!A:B,2,FALSE),\" \")","v":" "},"Not in TDSSA",0,{"$f":"IFERROR(VLOOKUP(C916,PivotESA!A:C,3,FALSE),\" \")","v":" "},0,{"$f":"IFERROR(VLOOKUP(C916,PivotGHRF!A:B,2,FALSE),\" \")","v":" "},"Not in TDSSA",0,{"$f":"IFERROR(VLOOKUP(C916,PivotGH!A:C,3,FALSE),\" \")","v":" "},0,{"$f":"IFERROR(VLOOKUP(C916,PivotGHRF!A:B,2,FALSE),\" \")","v":" "},"Not in TDSSA",0,{"$f":"IFERROR(VLOOKUP(C916,PivotGHRF!A:C,3,FALSE),\" \")","v":" "},0]
["Volleyball","University Volleyball","Volleyball - University Volleyball",{"$f":"IFERROR(VLOOKUP(C917,PivotGHRF!A:B,2,FALSE),\" \")","v":" "},"Not in TDSSA",0,{"$f":"IFERROR(VLOOKUP(C917,PivotESA!A:C,3,FALSE),\" \")","v":" "},0,{"$f":"IFERROR(VLOOKUP(C917,PivotGHRF!A:B,2,FALSE),\" \")","v":" "},"Not in TDSSA",0,{"$f":"IFERROR(VLOOKUP(C917,PivotGH!A:C,3,FALSE),\" \")","v":" "},0,{"$f":"IFERROR(VLOOKUP(C917,PivotGHRF!A:B,2,FALSE),\" \")","v":" "},"Not in TDSSA",0,{"$f":"IFERROR(VLOOKUP(C917,PivotGHRF!A:C,3,FALSE),\" \")","v":" "},0]
["Volleyball","Volleyball","Volleyball - Volleyball",{"$f":"IFERROR(VLOOKUP(C918,PivotGHRF!A:B,2,FALSE),\" \")","v":" "},0.05,0,{"$f":"IFERROR(VLOOKUP(C918,PivotESA!A:C,3,FALSE),\" \")","v":" "},0,{"$f":"IFERROR(VLOOKUP(C918,PivotGHRF!A:B,2,FALSE),\" \")","v":" "},0.05,0,{"$f":"IFERROR(VLOOKUP(C918,PivotGH!A:C,3,FALSE),\" \")","v":" "},0,{"$f":"IFERROR(VLOOKUP(C918,PivotGHRF!A:B,2,FALSE),\" \")","v":" "},0.05,0,{"$f":"IFERROR(VLOOKUP(C918,PivotGHRF!A:C,3,FALSE),\" \")","v":" "},0]
["Volleyball","Hall (R)","Volleyball - Hall (R)",{"$f":"IFERROR(VLOOKUP(C919,PivotGHRF!A:B,2,FALSE),\" \")","v":" "},0.05,0,{"$f":"IFERROR(VLOOKUP(C919,PivotESA!A:C,3,FALSE),\" \")","v":" "},0,{"$f":"IFERROR(VLOOKUP(C919,PivotGHRF!A:B,2,FALSE),\" \")","v":" "},0.05,0,{"$f":"IFERROR(VLOOKUP(C919,PivotGH!A:C,3,FALSE),\" \")","v":" "},0,{"$f":"IFERROR(VLOOKUP(C919,PivotGHRF!A:B,2,FALSE),\" \")","v":" "},0.05,0,{"$f":"IFERROR(VLOOKUP(C919,PivotGHRF!A:C,3,FALSE),\" \")","v":" "},0]
["Volleyball","Sitting Volleyball (R)","Volleyball - Sitting Volleyball (R)",{"$f":"IFERROR(VLOOKUP(C920,PivotGHRF!A:B,2,FALSE),\" \")","v":" "},0.05,0,{"$f":"IFERROR(VLOOKUP(C920,PivotESA!A:C,3,FALSE),\" \")","v":" "},0,{"$f":"IFERROR(VLOOKUP(C920,PivotGHRF!A:B,2,FALSE),\" \")","v":" "},0.05,0,{"$f":"IFERROR(VLOOKUP(C920,PivotGH!A:C,3,FALSE),\" \")","v":" "},0,{"$f":"IFERROR(VLOOKUP(C920,PivotGHRF!A:B,2,FALSE),\" \")","v":" "},0.05,0,{"$f":"IFERROR(VLOOKUP(C920,PivotGHRF!A:C,3,FALSE),\" \")","v":" "},0]
["Volleyball","WVBF Volleyball","Volleyball - WVBF Volleyball",{"$f":"IFERROR(VLOOKUP(C921,PivotGHRF!A:B,2,FALSE),\" \")","v":" "},"Not in TDSSA",0,{"$f":"IFERROR(VLOOKUP(C921,PivotESA!A:C,3,FALSE),\" \")","v":" "},0,{"$f":"IFERROR(VLOOKUP(C921,PivotGHRF!A:B,2,FALSE),\" \")","v":" "},"Not in TDSSA",0,{"$f":"IFERROR(VLOOKUP(C921,PivotGH!A:C,3,FALSE),\" \")","v":" "},0,{"$f":"IFERROR(VLOOKUP(C921,PivotGHRF!A:B,2,FALSE),\" \")","v":" "},"Not in TDSSA",0,{"$f":"IFERROR(VLOOKUP(C921,PivotGHRF!A:C,3,FALSE),\" \")","v":" "},0]
["Vovinam","Vovinam","Vovinam - Vovinam",{"$f":"IFERROR(VLOOKUP(C922,PivotGHRF!A:B,2,FALSE),\" \")","v":" "},"Not in TDSSA",0,{"$f":"IFERROR(VLOOKUP(C922,PivotESA!A:C,3,FALSE),\" \")","v":" "},0,{"$f":"IFERROR(VLOOKUP(C922,PivotGHRF!A:B,2,FALSE),\" \")","v":" "},"Not in TDSSA",0,{"$f":"IFERROR(VLOOKUP(C922,PivotGH!A:C,3,FALSE),\" \")","v":" "},0,{"$f":"IFERROR(VLOOKUP(C922,PivotGHRF!A:B,2,FALSE),\" \")","v":" "},"Not in TDSSA",0,{"$f":"IFERROR(VLOOKUP(C922,PivotGHRF!A:C,3,FALSE),\" \")","v":" "},0]
["Waterskiing","Barefoot","Waterskiing - Barefoot",{"$f":"IFERROR(VLOOKUP(C923,PivotGHRF!A:B,2,FALSE),\" \")","v":" "},0.05,0,{"$f":"IFERROR(VLOOKUP(C923,PivotESA!A:C,3,FALSE),\" \")","v":" "},0,{"$f":"IFERROR(VLOOKUP(C923,PivotGHRF!A:B,2,FALSE),\" \")","v":" "},0.05,0,{"$f":"IFERROR(VLOOKUP(C923,PivotGH!A:C,3,FALSE),\" \")","v":" "},0,{"$f":"IFERROR(VLOOKUP(C923,PivotGHRF!A:B,2,FALSE),\" \")","v":" "},0.05,0,{"$f":"IFERROR(VLOOKUP(C923,PivotGHRF!A:C,3,FALSE),\" \")","v":" "},0]
["Waterskiing","Cableski","Waterskiing - Cableski",{"$f":"IFERROR(VLOOKUP(C924,PivotGHRF!A:B,2,FALSE),\" \")","v":" "},0.05,0,{"$f":"IFERROR(VLOOKUP(C924,PivotESA!A:C,3,FALSE),\" \")","v":" "},0,{"$f":"IFERROR(VLOOKUP(C924,PivotGHRF!A:B,2,FALSE),\" \")","v":" "},0.05,0,{"$f":"IFERROR(VLOOKUP(C924,PivotGH!A:C,3,FALSE),\" \")","v":" "},0,{"$f":"IFERROR(VLOOKUP(C924,PivotGHRF!A:B,2,FALSE),\" \")","v":" "},0.05,0,{"$f":"IFERROR(VLOOKUP(C924,PivotGHRF!A:C,3,FALSE),\" \")","v":" "},0]
["Waterskiing","Cable Wakeboard","Waterskiing - Cable Wakeboard",{"$f":"IFERROR(VLOOKUP(C925,PivotGHRF!A:B,2,FALSE),\" \")","v":" "},0.05,0,{"$f":"IFERROR(VLOOKUP(C925,PivotESA!A:C,3,FALSE),\" \")","v":" "},0,{"$f":"IFERROR(VLOOKUP(C925,PivotGHRF!A:B,2,FALSE),\" \")","v":" "},0.05,0,{"$f":"IFERROR(VLOOKUP(C925,PivotGH!A:C,3,FALSE),\" \")","v":" "},0,{"$f":"IFERROR(VLOOKUP(C925,PivotGHRF!A:B,2,FALSE),\" \")","v":" "},0.05,0,{"$f":"IFERROR(VLOOKUP(C925,PivotGHRF!A:C,3,FALSE),\" \")","v":" "},0]
["Waterskiing","Disabled","Waterskiing - Disabled",{"$f":"IFERROR(VLOOKUP(C926,PivotGHRF!A:B,2,FALSE),\" \")","v":" "},0,0,{"$f":"IFERROR(VLOOKUP(C926,PivotESA!A:C,3,FALSE),\" \")","v":" "},0,{"$f":"IFERROR(VLOOKUP(C926,PivotGHRF!A:B,2,FALSE),\" \")","v":" "},0,0,{"$f":"IFERROR(VLOOKUP(C926,PivotGH!A:C,3,FALSE),\" \")","v":" "},0,{"$f":"IFERROR(VLOOKUP(C926,PivotGHRF!A:B,2,FALSE),\" \")","v":" "},0,0,{"$f":"IFERROR(VLOOKUP(C926,PivotGHRF!A:C,3,FALSE),\" \")","v":" "},0]
["Waterskiing","Racing Water Ski","Waterskiing - Racing Water Ski",{"$f":"IFERROR(VLOOKUP(C927,PivotGHRF!A:B,2,FALSE),\" \")","v":" "},0.05,0,{"$f":"IFERROR(VLOOKUP(C927,PivotESA!A:C,3,FALSE),\" \")","v":" "},0,{"$f":"IFERROR(VLOOKUP(C927,PivotGHRF!A:B,2,FALSE),\" \")","v":" "},0.05,0,{"$f":"IFERROR(VLOOKUP(C927,PivotGH!A:C,3,FALSE),\" \")","v":" "},0,{"$f":"IFERROR(VLOOKUP(C927,PivotGHRF!A:B,2,FALSE),\" \")","v":" "},0.05,0,{"$f":"IFERROR(VLOOKUP(C927,PivotGHRF!A:C,3,FALSE),\" \")","v":" "},0]
["Waterskiing","University Racing Water Ski","Waterskiing - University Racing Water Ski",{"$f":"IFERROR(VLOOKUP(C928,PivotGHRF!A:B,2,FALSE),\" \")","v":" "},"Not in TDSSA",0,{"$f":"IFERROR(VLOOKUP(C928,PivotESA!A:C,3,FALSE),\" \")","v":" "},0,{"$f":"IFERROR(VLOOKUP(C928,PivotGHRF!A:B,2,FALSE),\" \")","v":" "},"Not in TDSSA",0,{"$f":"IFERROR(VLOOKUP(C928,PivotGH!A:C,3,FALSE),\" \")","v":" "},0,{"$f":"IFERROR(VLOOKUP(C928,PivotGHRF!A:B,2,FALSE),\" \")","v":" "},"Not in TDSSA",0,{"$f":"IFERROR(VLOOKUP(C928,PivotGHRF!A:C,3,FALSE),\" \")","v":" "},0]
["Waterskiing","Slalom (R)","Waterskiing - Slalom (R)",{"$f":"IFERROR(VLOOKUP(C929,PivotGHRF!A:B,2,FALSE),\" \")","v":" "},0.05,0,{"$f":"IFERROR(VLOOKUP(C929,PivotESA!A:C,3,FALSE),\" \")","v":" "},0,{"$f":"IFERROR(VLOOKUP(C929,PivotGHRF!A:B,2,FALSE),\" \")","v":" "},0.05,0,{"$f":"IFERROR(VLOOKUP(C929,PivotGH!A:C,3,FALSE),\" \")","v":" "},0,{"$f":"IFERROR(VLOOKUP(C929,PivotGHRF!A:B,2,FALSE),\" \")","v":" "},0.05,0,{"$f":"IFERROR(VLOOKUP(C929,PivotGHRF!A:C,3,FALSE),\" \")","v":" "},0]
["Waterskiing","University Slalom (R)","Waterskiing - University Slalom (R)",{"$f":"IFERROR(VLOOKUP(C930,PivotGHRF!A:B,2,FALSE),\" \")","v":" "},"Not in TDSSA",0,{"$f":"IFERROR(VLOOKUP(C930,PivotESA!A:C,3,FALSE),\" \")","v":" "},0,{"$f":"IFERROR(VLOOKUP(C930,PivotGHRF!A:B,2,FALSE),\" \")","v":" "},"Not in TDSSA",0,{"$f":"IFERROR(VLOOKUP(C930,PivotGH!A:C,3,FALSE),\" \")","v":" "},0,{"$f":"IFERROR(VLOOKUP(C930,PivotGHRF!A:B,2,FALSE),\" \")","v":" "},"Not in TDSSA",0,{"$f":"IFERROR(VLOOKUP(C930,PivotGHRF!A:C,3,FALSE),\" \")","v":" "},0]
["Waterskiing","Tournament","Waterskiing - Tournament",{"$f":"IFERROR(VLOOKUP(C931,PivotGHRF!A:B,2,FALSE),\" \")","v":" "},0.05,0,{"$f":"IFERROR(VLOOKUP(C931,PivotESA!A:C,3,FALSE),\" \")","v":" "},0,{"$f":"IFERROR(VLOOKUP(C931,PivotGHRF!A:B,2,FALSE),\" \")","v":" "},0.05,0,{"$f":"IFERROR(VLOOKUP(C931,PivotGH!A:C,3,FALSE),\" \")","v":" "},0,{"$f":"IFERROR(VLOOKUP(C931,PivotGHRF!A:B,2,FALSE),\" \")","v":" "},0.05,0,{"$f":"IFERROR(VLOOKUP(C931,PivotGHRF!A:C,3,FALSE),\" \")","v":" "},0]
["Waterskiing","Tricks & Jumps (R)","Waterskiing - Tricks & Jumps (R)",{"$f":"IFERROR(VLOOKUP(C932,PivotGHRF!A:B,2,FALSE),\" \")","v":" "},0.05,0,{"$f":"IFERROR(VLOOKUP(C932,PivotESA!A:C,3,FALSE),\" \")","v":" "},0,{"$f":"IFERROR(VLOOKUP(C932,PivotGHRF!A:B,2,FALSE),\" \")","v":" "},0.05,0,{"$f":"IFERROR(VLOOKUP(C932,PivotGH!A:C,3,FALSE),\" \")","v":" "},0,{"$f":"IFERROR(VLOOKUP(C932,PivotGHRF!A:B,2,FALSE),\" \")","v":" "},0.05,0,{"$f":"IFERROR(VLOOKUP(C932,PivotGHRF!A:C,3,FALSE),\" \")","v":" "},0]
["Waterskiing","University Tricks & Jumps (R)","Waterskiing - University Tricks & Jumps (R)",{"$f":"IFERROR(VLOOKUP(C933,PivotGHRF!A:B,2,FALSE),\" \")","v":" "},"Not in TDSSA",0,{"$f":"IFERROR(VLOOKUP(C933,PivotESA!A:C,3,FALSE),\" \")","v":" "},0,{"$f":"IFERROR(VLOOKUP(C933,PivotGHRF!A:B,2,FALSE),\" \")","v":" "},"Not in TDSSA",0,{"$f":"IFERROR(VLOOKUP(C933,PivotGH!A:C,3,FALSE),\" \")","v":" "},0,{"$f":"IFERROR(VLOOKUP(C933,PivotGHRF!A:B,2,FALSE),\" \")","v":" "},"Not in TDSSA",0,{"$f":"IFERROR(VLOOKUP(C933,PivotGHRF!A:C,3,FALSE),\" \")","v":" "},0]
["Waterskiing","University","Waterskiing - University",{"$f":"IFERROR(VLOOKUP(C934,PivotGHRF!A:B,2,FALSE),\" \")","v":" "},"Not in TDSSA",0,{"$f":"IFERROR(VLOOKUP(C934,PivotESA!A:C,3,FALSE),\" \")","v":" "},0,{"$f":"IFERROR(VLOOKUP(C934,PivotGHRF!A:B,2,FALSE),\" \")","v":" "},"Not in TDSSA",0,{"$f":"IFERROR(VLOOKUP(C934,PivotGH!A:C,3,FALSE),\" \")","v":" "},0,{"$f":"IFERROR(VLOOKUP(C934,PivotGHRF!A:B,2,FALSE),\" \")","v":" "},"Not in TDSSA",0,{"$f":"IFERROR(VLOOKUP(C934,PivotGHRF!A:C,3,FALSE),\" \")","v":" "},0]
["Waterskiing","Wakeboard Boat","Waterskiing - Wakeboard Boat",{"$f":"IFERROR(VLOOKUP(C935,PivotGHRF!A:B,2,FALSE),\" \")","v":" "},0.05,0,{"$f":"IFERROR(VLOOKUP(C935,PivotESA!A:C,3,FALSE),\" \")","v":" "},0,{"$f":"IFERROR(VLOOKUP(C935,PivotGHRF!A:B,2,FALSE),\" \")","v":" "},0.05,0,{"$f":"IFERROR(VLOOKUP(C935,PivotGH!A:C,3,FALSE),\" \")","v":" "},0,{"$f":"IFERROR(VLOOKUP(C935,PivotGHRF!A:B,2,FALSE),\" \")","v":" "},0.05,0,{"$f":"IFERROR(VLOOKUP(C935,PivotGHRF!A:C,3,FALSE),\" \")","v":" "},0]
["Waterskiing","University Wakeboard Boat","Waterskiing - University Wakeboard Boat",{"$f":"IFERROR(VLOOKUP(C936,PivotGHRF!A:B,2,FALSE),\" \")","v":" "},"Not in TDSSA",0,{"$f":"IFERROR(VLOOKUP(C936,PivotESA!A:C,3,FALSE),\" \")","v":" "},0,{"$f":"IFERROR(VLOOKUP(C936,PivotGHRF!A:B,2,FALSE),\" \")","v":" "},"Not in TDSSA",0,{"$f":"IFERROR(VLOOKUP(C936,PivotGH!A:C,3,FALSE),\" \")","v":" "},0,{"$f":"IFERROR(VLOOKUP(C936,PivotGHRF!A:B,2,FALSE),\" \")","v":" "},"Not in TDSSA",0,{"$f":"IFERROR(VLOOKUP(C936,PivotGHRF!A:C,3,FALSE),\" \")","v":" "},0]
["Weightlifting","Weightlifting","Weightlifting - Weightlifting",{"$f":"IFERROR(VLOOKUP(C937,PivotGHRF!A:B,2,FALSE),\" \")","v":" "},0.05,0,{"$f":"IFERROR(VLOOKUP(C937,PivotESA!A:C,3,FALSE),\" \")","v":" "},0,{"$f":"IFERROR(VLOOKUP(C937,PivotGHRF!A:B,2,FALSE),\" \")","v":" "},0.3,0,{"$f":"IFERROR(VLOOKUP(C937,PivotGH!A:C,3,FALSE),\" \")","v":" "},0,{"$f":"IFERROR(VLOOKUP(C937,PivotGHRF!A:B,2,FALSE),\" \")","v":" "},0.3,0,{"$f":"IFERROR(VLOOKUP(C937,PivotGHRF!A:C,3,FALSE),\" \")","v":" "},0]
["Weightlifting","University","Weightlifting - University",{"$f":"IFERROR(VLOOKUP(C938,PivotGHRF!A:B,2,FALSE),\" \")","v":" "},"Not in TDSSA",0,{"$f":"IFERROR(VLOOKUP(C938,PivotESA!A:C,3,FALSE),\" \")","v":" "},0,{"$f":"IFERROR(VLOOKUP(C938,PivotGHRF!A:B,2,FALSE),\" \")","v":" "},"Not in TDSSA",0,{"$f":"IFERROR(VLOOKUP(C938,PivotGH!A:C,3,FALSE),\" \")","v":" "},0,{"$f":"IFERROR(VLOOKUP(C938,PivotGHRF!A:B,2,FALSE),\" \")","v":" "},"Not in TDSSA",0,{"$f":"IFERROR(VLOOKUP(C938,PivotGHRF!A:C,3,FALSE),\" \")","v":" "},0]
["Wheelchair Sports","Slalom","Wheelchair Sports - Slalom",{"$f":"IFERROR(VLOOKUP(C939,PivotGHRF!A:B,2,FALSE),\" \")","v":" "},"Not in TDSSA",0,{"$f":"IFERROR(VLOOKUP(C939,PivotESA!A:C,3,FALSE),\" \")","v":" "},0,{"$f":"IFERROR(VLOOKUP(C939,PivotGHRF!A:B,2,FALSE),\" \")","v":" "},"Not in TDSSA",0,{"$f":"IFERROR(VLOOKUP(C939,PivotGH!A:C,3,FALSE),\" \")","v":" "},0,{"$f":"IFERROR(VLOOKUP(C939,PivotGHRF!A:B,2,FALSE),\" \")","v":" "},"Not in TDSSA",0,{"$f":"IFERROR(VLOOKUP(C939,PivotGHRF!A:C,3,FALSE),\" \")","v":" "},0]
["Woodball","Beach Woodball","Woodball - Beach Woodball",{"$f":"IFERROR(VLOOKUP(C940,PivotGHRF!A:B,2,FALSE),\" \")","v":" "},"Not in TDSSA",0,{"$f":"IFERROR(VLOOKUP(C940,PivotESA!A:C,3,FALSE),\" \")","v":" "},0,{"$f":"IFERROR(VLOOKUP(C940,PivotGHRF!A:B,2,FALSE),\" \")","v":" "},"Not in TDSSA",0,{"$f":"IFERROR(VLOOKUP(C940,PivotGH!A:C,3,FALSE),\" \")","v":" "},0,{"$f":"IFERROR(VLOOKUP(C940,PivotGHRF!A:B,2,FALSE),\" \")","v":" "},"Not in TDSSA",0,{"$f":"IFERROR(VLOOKUP(C940,PivotGHRF!A:C,3,FALSE),\" \")","v":" "},0]
["Woodball","University","Woodball - University",{"$f":"IFERROR(VLOOKUP(C941,PivotGHRF!A:B,2,FALSE),\" \")","v":" "},"Not in TDSSA",0,{"$f":"IFERROR(VLOOKUP(C941,PivotESA!A:C,3,FALSE),\" \")","v":" "},0,{"$f":"IFERROR(VLOOKUP(C941,PivotGHRF!A:B,2,FALSE),\" \")","v":" "},"Not in TDSSA",0,{"$f":"IFERROR(VLOOKUP(C941,PivotGH!A:C,3,FALSE),\" \")","v":" "},0,{"$f":"IFERROR(VLOOKUP(C941,PivotGHRF!A:B,2,FALSE),\" \")","v":" "},"Not in TDSSA",0,{"$f":"IFERROR(VLOOKUP(C941,PivotGHRF!A:C,3,FALSE),\" \")","v":" "},0]
["Woodball","Woodball","Woodball - Woodball",{"$f":"IFERROR(VLOOKUP(C942,PivotGHRF!A:B,2,FALSE),\" \")","v":" "},"Not in TDSSA",0,{"$f":"IFERROR(VLOOKUP(C942,PivotESA!A:C,3,FALSE),\" \")","v":" "},0,{"$f":"IFERROR(VLOOKUP(C942,PivotGHRF!A:B,2,FALSE),\" \")","v":" "},"Not in TDSSA",0,{"$f":"IFERROR(VLOOKUP(C942,PivotGH!A:C,3,FALSE),\" \")","v":" "},0,{"$f":"IFERROR(VLOOKUP(C942,PivotGHRF!A:B,2,FALSE),\" \")","v":" "},"Not in TDSSA",0,{"$f":"IFERROR(VLOOKUP(C942,PivotGHRF!A:C,3,FALSE),\" \")","v":" "},0]
["Woodsman","Woodsman","Woodsman - Woodsman",{"$f":"IFERROR(VLOOKUP(C943,PivotGHRF!A:B,2,FALSE),\" \")","v":" "},"Not in TDSSA",0,{"$f":"IFERROR(VLOOKUP(C943,PivotESA!A:C,3,FALSE),\" \")","v":" "},0,{"$f":"IFERROR(VLOOKUP(C943,PivotGHRF!A:B,2,FALSE),\" \")","v":" "},"Not in TDSSA",0,{"$f":"IFERROR(VLOOKUP(C943,PivotGH!A:C,3,FALSE),\" \")","v":" "},0,{"$f":"IFERROR(VLOOKUP(C943,PivotGHRF!A:B,2,FALSE),\" \")","v":" "},"Not in TDSSA",0,{"$f":"IFERROR(VLOOKUP(C943,PivotGHRF!A:C,3,FALSE),\" \")","v":" "},0]
["Wrestling","Beach Wrestling","Wrestling - Beach Wrestling",{"$f":"IFERROR(VLOOKUP(C944,PivotGHRF!A:B,2,FALSE),\" \")","v":" "},0.15,0,{"$f":"IFERROR(VLOOKUP(C944,PivotESA!A:C,3,FALSE),\" \")","v":" "},0,{"$f":"IFERROR(VLOOKUP(C944,PivotGHRF!A:B,2,FALSE),\" \")","v":" "},0.1,0,{"$f":"IFERROR(VLOOKUP(C944,PivotGH!A:C,3,FALSE),\" \")","v":" "},0,{"$f":"IFERROR(VLOOKUP(C944,PivotGHRF!A:B,2,FALSE),\" \")","v":" "},0.1,0,{"$f":"IFERROR(VLOOKUP(C944,PivotGHRF!A:C,3,FALSE),\" \")","v":" "},0]
["Wrestling","MIlitary Wrestling","Wrestling - MIlitary Wrestling",{"$f":"IFERROR(VLOOKUP(C945,PivotGHRF!A:B,2,FALSE),\" \")","v":" "},"Not in TDSSA",0,{"$f":"IFERROR(VLOOKUP(C945,PivotESA!A:C,3,FALSE),\" \")","v":" "},0,{"$f":"IFERROR(VLOOKUP(C945,PivotGHRF!A:B,2,FALSE),\" \")","v":" "},"Not in TDSSA",0,{"$f":"IFERROR(VLOOKUP(C945,PivotGH!A:C,3,FALSE),\" \")","v":" "},0,{"$f":"IFERROR(VLOOKUP(C945,PivotGHRF!A:B,2,FALSE),\" \")","v":" "},"Not in TDSSA",0,{"$f":"IFERROR(VLOOKUP(C945,PivotGHRF!A:C,3,FALSE),\" \")","v":" "},0]
["Wrestling","CISS Wrestling Freestyle","Wrestling - CISS Wrestling Freestyle",{"$f":"IFERROR(VLOOKUP(C946,PivotGHRF!A:B,2,FALSE),\" \")","v":" "},"Not in TDSSA",0,{"$f":"IFERROR(VLOOKUP(C946,PivotESA!A:C,3,FALSE),\" \")","v":" "},0,{"$f":"IFERROR(VLOOKUP(C946,PivotGHRF!A:B,2,FALSE),\" \")","v":" "},"Not in TDSSA",0,{"$f":"IFERROR(VLOOKUP(C946,PivotGH!A:C,3,FALSE),\" \")","v":" "},0,{"$f":"IFERROR(VLOOKUP(C946,PivotGHRF!A:B,2,FALSE),\" \")","v":" "},"Not in TDSSA",0,{"$f":"IFERROR(VLOOKUP(C946,PivotGHRF!A:C,3,FALSE),\" \")","v":" "},0]
["Wrestling","CISS Greco‐Roman Wrestling","Wrestling - CISS Greco‐Roman Wrestling",{"$f":"IFERROR(VLOOKUP(C947,PivotGHRF!A:B,2,FALSE),\" \")","v":" "},"Not in TDSSA",0,{"$f":"IFERROR(VLOOKUP(C947,PivotESA!A:C,3,FALSE),\" \")","v":" "},0,{"$f":"IFERROR(VLOOKUP(C947,PivotGHRF!A:B,2,FALSE),\" \")","v":" "},"Not in TDSSA",0,{"$f":"IFERROR(VLOOKUP(C947,PivotGH!A:C,3,FALSE),\" \")","v":" "},0,{"$f":"IFERROR(VLOOKUP(C947,PivotGHRF!A:B,2,FALSE),\" \")","v":" "},"Not in TDSSA",0,{"$f":"IFERROR(VLOOKUP(C947,PivotGHRF!A:C,3,FALSE),\" \")","v":" "},0]
["Wrestling","Ssireum","Wrestling - Ssireum",{"$f":"IFERROR(VLOOKUP(C948,PivotGHRF!A:B,2,FALSE),\" \")","v":" "},"Not in TDSSA",0,{"$f":"IFERROR(VLOOKUP(C948,PivotESA!A:C,3,FALSE),\" \")","v":" "},0,{"$f":"IFERROR(VLOOKUP(C948,PivotGHRF!A:B,2,FALSE),\" \")","v":" "},"Not in TDSSA",0,{"$f":"IFERROR(VLOOKUP(C948,PivotGH!A:C,3,FALSE),\" \")","v":" "},0,{"$f":"IFERROR(VLOOKUP(C948,PivotGHRF!A:B,2,FALSE),\" \")","v":" "},"Not in TDSSA",0,{"$f":"IFERROR(VLOOKUP(C948,PivotGHRF!A:C,3,FALSE),\" \")","v":" "},0]
["Wrestling","Icelandic Wrestling","Wrestling - Icelandic Wrestling",{"$f":"IFERROR(VLOOKUP(C949,PivotGHRF!A:B,2,FALSE),\" \")","v":" "},"Not in TDSSA",0,{"$f":"IFERROR(VLOOKUP(C949,PivotESA!A:C,3,FALSE),\" \")","v":" "},0,{"$f":"IFERROR(VLOOKUP(C949,PivotGHRF!A:B,2,FALSE),\" \")","v":" "},"Not in TDSSA",0,{"$f":"IFERROR(VLOOKUP(C949,PivotGH!A:C,3,FALSE),\" \")","v":" "},0,{"$f":"IFERROR(VLOOKUP(C949,PivotGHRF!A:B,2,FALSE),\" \")","v":" "},"Not in TDSSA",0,{"$f":"IFERROR(VLOOKUP(C949,PivotGHRF!A:C,3,FALSE),\" \")","v":" "},0]
["Wrestling","Canarian Wrestling","Wrestling - Canarian Wrestling",{"$f":"IFERROR(VLOOKUP(C950,PivotGHRF!A:B,2,FALSE),\" \")","v":" "},"Not in TDSSA",0,{"$f":"IFERROR(VLOOKUP(C950,PivotESA!A:C,3,FALSE),\" \")","v":" "},0,{"$f":"IFERROR(VLOOKUP(C950,PivotGHRF!A:B,2,FALSE),\" \")","v":" "},"Not in TDSSA",0,{"$f":"IFERROR(VLOOKUP(C950,PivotGH!A:C,3,FALSE),\" \")","v":" "},0,{"$f":"IFERROR(VLOOKUP(C950,PivotGHRF!A:B,2,FALSE),\" \")","v":" "},"Not in TDSSA",0,{"$f":"IFERROR(VLOOKUP(C950,PivotGHRF!A:C,3,FALSE),\" \")","v":" "},0]
["Wrestling","Swiss Wrestling","Wrestling - Swiss Wrestling",{"$f":"IFERROR(VLOOKUP(C951,PivotGHRF!A:B,2,FALSE),\" \")","v":" "},"Not in TDSSA",0,{"$f":"IFERROR(VLOOKUP(C951,PivotESA!A:C,3,FALSE),\" \")","v":" "},0,{"$f":"IFERROR(VLOOKUP(C951,PivotGHRF!A:B,2,FALSE),\" \")","v":" "},"Not in TDSSA",0,{"$f":"IFERROR(VLOOKUP(C951,PivotGH!A:C,3,FALSE),\" \")","v":" "},0,{"$f":"IFERROR(VLOOKUP(C951,PivotGHRF!A:B,2,FALSE),\" \")","v":" "},"Not in TDSSA",0,{"$f":"IFERROR(VLOOKUP(C951,PivotGHRF!A:C,3,FALSE),\" \")","v":" "},0]
["Wrestling","Traditional Wrestling","Wrestling - Traditional Wrestling",{"$f":"IFERROR(VLOOKUP(C952,PivotGHRF!A:B,2,FALSE),\" \")","v":" "},0.15,0,{"$f":"IFERROR(VLOOKUP(C952,PivotESA!A:C,3,FALSE),\" \")","v":" "},0,{"$f":"IFERROR(VLOOKUP(C952,PivotGHRF!A:B,2,FALSE),\" \")","v":" "},0.1,0,{"$f":"IFERROR(VLOOKUP(C952,PivotGH!A:C,3,FALSE),\" \")","v":" "},0,{"$f":"IFERROR(VLOOKUP(C952,PivotGHRF!A:B,2,FALSE),\" \")","v":" "},0.1,0,{"$f":"IFERROR(VLOOKUP(C952,PivotGHRF!A:C,3,FALSE),\" \")","v":" "},0]
["Wrestling","University Belt Wrestling","Wrestling - University Belt Wrestling",{"$f":"IFERROR(VLOOKUP(C953,PivotGHRF!A:B,2,FALSE),\" \")","v":" "},"Not in TDSSA",0,{"$f":"IFERROR(VLOOKUP(C953,PivotESA!A:C,3,FALSE),\" \")","v":" "},0,{"$f":"IFERROR(VLOOKUP(C953,PivotGHRF!A:B,2,FALSE),\" \")","v":" "},"Not in TDSSA",0,{"$f":"IFERROR(VLOOKUP(C953,PivotGH!A:C,3,FALSE),\" \")","v":" "},0,{"$f":"IFERROR(VLOOKUP(C953,PivotGHRF!A:B,2,FALSE),\" \")","v":" "},"Not in TDSSA",0,{"$f":"IFERROR(VLOOKUP(C953,PivotGHRF!A:C,3,FALSE),\" \")","v":" "},0]
["Wrestling","University","Wrestling - University",{"$f":"IFERROR(VLOOKUP(C954,PivotGHRF!A:B,2,FALSE),\" \")","v":" "},"Not in TDSSA",0,{"$f":"IFERROR(VLOOKUP(C954,PivotESA!A:C,3,FALSE),\" \")","v":" "},0,{"$f":"IFERROR(VLOOKUP(C954,PivotGHRF!A:B,2,FALSE),\" \")","v":" "},"Not in TDSSA",0,{"$f":"IFERROR(VLOOKUP(C954,PivotGH!A:C,3,FALSE),\" \")","v":" "},0,{"$f":"IFERROR(VLOOKUP(C954,PivotGHRF!A:B,2,FALSE),\" \")","v":" "},"Not in TDSSA",0,{"$f":"IFERROR(VLOOKUP(C954,PivotGHRF!A:C,3,FALSE),\" \")","v":" "},0]
["Wrestling","Wrestling","Wrestling - Wrestling",{"$f":"IFERROR(VLOOKUP(C955,PivotGHRF!A:B,2,FALSE),\" \")","v":" "},0.15,0,{"$f":"IFERROR(VLOOKUP(C955,PivotESA!A:C,3,FALSE),\" \")","v":" "},0,{"$f":"IFERROR(VLOOKUP(C955,PivotGHRF!A:B,2,FALSE),\" \")","v":" "},0.1,0,{"$f":"IFERROR(VLOOKUP(C955,PivotGH!A:C,3,FALSE),\" \")","v":" "},0,{"$f":"IFERROR(VLOOKUP(C955,PivotGHRF!A:B,2,FALSE),\" \")","v":" "},0.1,0,{"$f":"IFERROR(VLOOKUP(C955,PivotGHRF!A:C,3,FALSE),\" \")","v":" "},0]
["Wrestling","Freestyle","Wrestling - Freestyle",{"$f":"IFERROR(VLOOKUP(C956,PivotGHRF!A:B,2,FALSE),\" \")","v":" "},0.15,0,{"$f":"IFERROR(VLOOKUP(C956,PivotESA!A:C,3,FALSE),\" \")","v":" "},0,{"$f":"IFERROR(VLOOKUP(C956,PivotGHRF!A:B,2,FALSE),\" \")","v":" "},0.1,0,{"$f":"IFERROR(VLOOKUP(C956,PivotGH!A:C,3,FALSE),\" \")","v":" "},0,{"$f":"IFERROR(VLOOKUP(C956,PivotGHRF!A:B,2,FALSE),\" \")","v":" "},0.1,0,{"$f":"IFERROR(VLOOKUP(C956,PivotGHRF!A:C,3,FALSE),\" \")","v":" "},0]
["Wrestling","Greco-Roman","Wrestling - Greco-Roman",{"$f":"IFERROR(VLOOKUP(C957,PivotGHRF!A:B,2,FALSE),\" \")","v":" "},0.15,0,{"$f":"IFERROR(VLOOKUP(C957,PivotESA!A:C,3,FALSE),\" \")","v":" "},0,{"$f":"IFERROR(VLOOKUP(C957,PivotGHRF!A:B,2,FALSE),\" \")","v":" "},0.1,0,{"$f":"IFERROR(VLOOKUP(C957,PivotGH!A:C,3,FALSE),\" \")","v":" "},0,{"$f":"IFERROR(VLOOKUP(C957,PivotGHRF!A:B,2,FALSE),\" \")","v":" "},0.1,0,{"$f":"IFERROR(VLOOKUP(C957,PivotGHRF!A:C,3,FALSE),\" \")","v":" "},0]
["Wrestling","Grappling","Wrestling - Grappling",{"$f":"IFERROR(VLOOKUP(C958,PivotGHRF!A:B,2,FALSE),\" \")","v":" "},0.15,0,{"$f":"IFERROR(VLOOKUP(C958,PivotESA!A:C,3,FALSE),\" \")","v":" "},0,{"$f":"IFERROR(VLOOKUP(C958,PivotGHRF!A:B,2,FALSE),\" \")","v":" "},0.1,0,{"$f":"IFERROR(VLOOKUP(C958,PivotGH!A:C,3,FALSE),\" \")","v":" "},0,{"$f":"IFERROR(VLOOKUP(C958,PivotGHRF!A:B,2,FALSE),\" \")","v":" "},0.1,0,{"$f":"IFERROR(VLOOKUP(C958,PivotGHRF!A:C,3,FALSE),\" \")","v":" "},0]
["Wrestling","Pankration","Wrestling - Pankration",{"$f":"IFERROR(VLOOKUP(C959,PivotGHRF!A:B,2,FALSE),\" \")","v":" "},0.15,0,{"$f":"IFERROR(VLOOKUP(C959,PivotESA!A:C,3,FALSE),\" \")","v":" "},0,{"$f":"IFERROR(VLOOKUP(C959,PivotGHRF!A:B,2,FALSE),\" \")","v":" "},0.1,0,{"$f":"IFERROR(VLOOKUP(C959,PivotGH!A:C,3,FALSE),\" \")","v":" "},0,{"$f":"IFERROR(VLOOKUP(C959,PivotGHRF!A:B,2,FALSE),\" \")","v":" "},0.1,0,{"$f":"IFERROR(VLOOKUP(C959,PivotGHRF!A:C,3,FALSE),\" \")","v":" "},0]
["Wrestling","Women's Freestyle","Wrestling - Women's Freestyle",{"$f":"IFERROR(VLOOKUP(C960,PivotGHRF!A:B,2,FALSE),\" \")","v":" "},0.15,0,{"$f":"IFERROR(VLOOKUP(C960,PivotESA!A:C,3,FALSE),\" \")","v":" "},0,{"$f":"IFERROR(VLOOKUP(C960,PivotGHRF!A:B,2,FALSE),\" \")","v":" "},0.1,0,{"$f":"IFERROR(VLOOKUP(C960,PivotGH!A:C,3,FALSE),\" \")","v":" "},0,{"$f":"IFERROR(VLOOKUP(C960,PivotGHRF!A:B,2,FALSE),\" \")","v":" "},0.1,0,{"$f":"IFERROR(VLOOKUP(C960,PivotGHRF!A:C,3,FALSE),\" \")","v":" "},0]
["Wushu","Sanda","Wushu - Sanda",{"$f":"IFERROR(VLOOKUP(C961,PivotGHRF!A:B,2,FALSE),\" \")","v":" "},0.1,0,{"$f":"IFERROR(VLOOKUP(C961,PivotESA!A:C,3,FALSE),\" \")","v":" "},0,{"$f":"IFERROR(VLOOKUP(C961,PivotGHRF!A:B,2,FALSE),\" \")","v":" "},0.1,0,{"$f":"IFERROR(VLOOKUP(C961,PivotGH!A:C,3,FALSE),\" \")","v":" "},0,{"$f":"IFERROR(VLOOKUP(C961,PivotGHRF!A:B,2,FALSE),\" \")","v":" "},0.1,0,{"$f":"IFERROR(VLOOKUP(C961,PivotGHRF!A:C,3,FALSE),\" \")","v":" "},0]
["Wushu","University Sanda","Wushu - University Sanda",{"$f":"IFERROR(VLOOKUP(C962,PivotGHRF!A:B,2,FALSE),\" \")","v":" "},"Not in TDSSA",0,{"$f":"IFERROR(VLOOKUP(C962,PivotESA!A:C,3,FALSE),\" \")","v":" "},0,{"$f":"IFERROR(VLOOKUP(C962,PivotGHRF!A:B,2,FALSE),\" \")","v":" "},"Not in TDSSA",0,{"$f":"IFERROR(VLOOKUP(C962,PivotGH!A:C,3,FALSE),\" \")","v":" "},0,{"$f":"IFERROR(VLOOKUP(C962,PivotGHRF!A:B,2,FALSE),\" \")","v":" "},"Not in TDSSA",0,{"$f":"IFERROR(VLOOKUP(C962,PivotGHRF!A:C,3,FALSE),\" \")","v":" "},0]
["Wushu","University Taolu","Wushu - University Taolu",{"$f":"IFERROR(VLOOKUP(C963,PivotGHRF!A:B,2,FALSE),\" \")","v":" "},"Not in TDSSA",0,{"$f":"IFERROR(VLOOKUP(C963,PivotESA!A:C,3,FALSE),\" \")","v":" "},0,{"$f":"IFERROR(VLOOKUP(C963,PivotGHRF!A:B,2,FALSE),\" \")","v":" "},"Not in TDSSA",0,{"$f":"IFERROR(VLOOKUP(C963,PivotGH!A:C,3,FALSE),\" \")","v":" "},0,{"$f":"IFERROR(VLOOKUP(C963,PivotGHRF!A:B,2,FALSE),\" \")","v":" "},"Not in TDSSA",0,{"$f":"IFERROR(VLOOKUP(C963,PivotGHRF!A:C,3,FALSE),\" \")","v":" "},0]
["Wushu","Taolu","Wushu - Taolu",{"$f":"IFERROR(VLOOKUP(C964,PivotGHRF!A:B,2,FALSE),\" \")","v":" "},0.05,0,{"$f":"IFERROR(VLOOKUP(C964,PivotESA!A:C,3,FALSE),\" \")","v":" "},0,{"$f":"IFERROR(VLOOKUP(C964,PivotGHRF!A:B,2,FALSE),\" \")","v":" "},0.05,0,{"$f":"IFERROR(VLOOKUP(C964,PivotGH!A:C,3,FALSE),\" \")","v":" "},0,{"$f":"IFERROR(VLOOKUP(C964,PivotGHRF!A:B,2,FALSE),\" \")","v":" "},0.05,0,{"$f":"IFERROR(VLOOKUP(C964,PivotGHRF!A:C,3,FALSE),\" \")","v":" "},0]
["Xiangqi","Xiangqi","Xiangqi - Xiangqi",{"$f":"IFERROR(VLOOKUP(C965,PivotGHRF!A:B,2,FALSE),\" \")","v":" "},"Not in TDSSA",0,{"$f":"IFERROR(VLOOKUP(C965,PivotESA!A:C,3,FALSE),\" \")","v":" "},0,{"$f":"IFERROR(VLOOKUP(C965,PivotGHRF!A:B,2,FALSE),\" \")","v":" "},"Not in TDSSA",0,{"$f":"IFERROR(VLOOKUP(C965,PivotGH!A:C,3,FALSE),\" \")","v":" "},0,{"$f":"IFERROR(VLOOKUP(C965,PivotGHRF!A:B,2,FALSE),\" \")","v":" "},"Not in TDSSA",0,{"$f":"IFERROR(VLOOKUP(C965,PivotGHRF!A:C,3,FALSE),\" \")","v":" "},0]

{"sheet":"BasicMacroSCR","index":5,"n_rows":2,"n_cols":46,"rows_kept":2,"cut":false,"hidden":false,"merged":[]}
[null,null,null,null,null,null,null,null,null,null,null,null,null,null,null,null,null,null,null,null,null,null,null,"ESAs (incl. recombinant EPOs and analogues)","GHRF (GHS/GHRP)","GHRF (GHRH)","ALL GHRF","GH Isoforms","GH Biomarkers","ALL GH","SAA 1 trimmed","SAA 2 trimmed","SAA 3 trimmed","SAA 4 trimmed","SAA 5 trimmed","SAA 6 trimmed","SAA 7 trimmed","SAA 8 trimmed","Lab Analysis Type","Specific Analysis 2","Specific Analysis 3","Specific Analysis 4","Specific Analysis 5","Specific Analysis 6","Specific Analysis 7","Specific Analysis 8"]
[null,null,null,null,null,null,null,null,null,null,null,null,null,null,null,null,null,null,null,null,null,null,null,{"$f":"COUNTIF($AE2:$AJ2,X$1)","v":0},{"$f":"COUNTIF($AE2:$AJ2,Y$1)","v":0},{"$f":"COUNTIF($AE2:$AJ2,Z$1)","v":0},{"$f":"IF(Y2+Z2=2,1,Y2+Z2)","v":0},{"$f":"COUNTIF($AE2:$AJ2,AB$1)","v":0},{"$f":"COUNTIF($AE2:$AJ2,AC$1)","v":0},{"$f":"IF(AC2+AB2=2,1,AC2+AB2)","v":0},{"$f":"TRIM(AM2)","v":""},{"$f":"TRIM(AN2)","v":""},"","","","","",""]

{"sheet":"Sheet1","index":6,"n_rows":0,"n_cols":0,"rows_kept":0,"cut":false,"hidden":false,"merged":[]}